BEGIN:VCALENDAR
VERSION:2.0
PRODID:-//Urbancasual.ca - ECPv6.15.20//NONSGML v1.0//EN
CALSCALE:GREGORIAN
METHOD:PUBLISH
X-WR-CALNAME:Urbancasual.ca
X-ORIGINAL-URL:https://urbancasual.ca
X-WR-CALDESC:Events for Urbancasual.ca
REFRESH-INTERVAL;VALUE=DURATION:PT1H
X-Robots-Tag:noindex
X-PUBLISHED-TTL:PT1H
BEGIN:VTIMEZONE
TZID:America/Edmonton
BEGIN:DAYLIGHT
TZOFFSETFROM:-0700
TZOFFSETTO:-0600
TZNAME:MDT
DTSTART:20240310T090000
END:DAYLIGHT
BEGIN:STANDARD
TZOFFSETFROM:-0600
TZOFFSETTO:-0700
TZNAME:MST
DTSTART:20241103T080000
END:STANDARD
BEGIN:DAYLIGHT
TZOFFSETFROM:-0700
TZOFFSETTO:-0600
TZNAME:MDT
DTSTART:20250309T090000
END:DAYLIGHT
BEGIN:STANDARD
TZOFFSETFROM:-0600
TZOFFSETTO:-0700
TZNAME:MST
DTSTART:20251102T080000
END:STANDARD
BEGIN:DAYLIGHT
TZOFFSETFROM:-0700
TZOFFSETTO:-0600
TZNAME:MDT
DTSTART:20260308T090000
END:DAYLIGHT
BEGIN:STANDARD
TZOFFSETFROM:-0600
TZOFFSETTO:-0700
TZNAME:MST
DTSTART:20261101T080000
END:STANDARD
END:VTIMEZONE
BEGIN:VEVENT
DTSTART;TZID=America/Edmonton:20251214T160000
DTEND;TZID=America/Edmonton:20251214T200000
DTSTAMP:20260425T104342
CREATED:20240911T005142Z
LAST-MODIFIED:20240911T005142Z
UID:10035760-1765728000-1765742400@urbancasual.ca
SUMMARY:SUNDAY JAM AT THE VENUE
DESCRIPTION:The Sunday Jam is back at the Venue starting October 6th! \nFeaturing Allen Christie. \nWINGS $10 OFF \nHAPPY HOUR 2PM TO 8PM \n  \n 
URL:https://urbancasual.ca/cochrane-event/sunday-jam-at-the-venue/2025-12-14/
LOCATION:VENUE SPORTSBAR AND GRILL
CATEGORIES:Entertainment & Games,Music
ATTACH;FMTTYPE=image/jpeg:https://urbancasual.ca/wp-content/uploads/2024/09/inbound1307443098528191419.jpg
END:VEVENT
BEGIN:VEVENT
DTSTART;TZID=America/Edmonton:20251210T140000
DTEND;TZID=America/Edmonton:20251210T160000
DTSTAMP:20260425T104342
CREATED:20250813T193038Z
LAST-MODIFIED:20251103T225347Z
UID:10050186-1765375200-1765382400@urbancasual.ca
SUMMARY:Cochrane Baby Boomers Group Meet-Up - Wed PM
DESCRIPTION:EVERY WEDNESDAY – JOIN US AT ONE OR BOTH GROUPS! \nGROUP 1 – 9 TO 11AM AT LEGION – 114 5TH AVE \nGROUP 2 – 2 TO 4PM AT THE VENUE – 79 RAILWAY ST.
URL:https://urbancasual.ca/cochrane-event/cochrane-baby-boomers-group-meet-up-wed-pm/2025-12-10/
LOCATION:VENUE SPORTSBAR AND GRILL
CATEGORIES:Club,Community,Entertainment & Games,Networking,Seniors
ATTACH;FMTTYPE=image/jpeg:https://urbancasual.ca/wp-content/uploads/2025/08/574395226_845145031494292_977435042953266903_n.jpg
END:VEVENT
BEGIN:VEVENT
DTSTART;TZID=America/Edmonton:20251207T160000
DTEND;TZID=America/Edmonton:20251207T200000
DTSTAMP:20260425T104342
CREATED:20240911T005142Z
LAST-MODIFIED:20240911T005142Z
UID:10035759-1765123200-1765137600@urbancasual.ca
SUMMARY:SUNDAY JAM AT THE VENUE
DESCRIPTION:The Sunday Jam is back at the Venue starting October 6th! \nFeaturing Allen Christie. \nWINGS $10 OFF \nHAPPY HOUR 2PM TO 8PM \n  \n 
URL:https://urbancasual.ca/cochrane-event/sunday-jam-at-the-venue/2025-12-07/
LOCATION:VENUE SPORTSBAR AND GRILL
CATEGORIES:Entertainment & Games,Music
ATTACH;FMTTYPE=image/jpeg:https://urbancasual.ca/wp-content/uploads/2024/09/inbound1307443098528191419.jpg
END:VEVENT
BEGIN:VEVENT
DTSTART;TZID=America/Edmonton:20251203T140000
DTEND;TZID=America/Edmonton:20251203T160000
DTSTAMP:20260425T104342
CREATED:20250813T193038Z
LAST-MODIFIED:20251103T225347Z
UID:10050185-1764770400-1764777600@urbancasual.ca
SUMMARY:Cochrane Baby Boomers Group Meet-Up - Wed PM
DESCRIPTION:EVERY WEDNESDAY – JOIN US AT ONE OR BOTH GROUPS! \nGROUP 1 – 9 TO 11AM AT LEGION – 114 5TH AVE \nGROUP 2 – 2 TO 4PM AT THE VENUE – 79 RAILWAY ST.
URL:https://urbancasual.ca/cochrane-event/cochrane-baby-boomers-group-meet-up-wed-pm/2025-12-03/
LOCATION:VENUE SPORTSBAR AND GRILL
CATEGORIES:Club,Community,Entertainment & Games,Networking,Seniors
ATTACH;FMTTYPE=image/jpeg:https://urbancasual.ca/wp-content/uploads/2025/08/574395226_845145031494292_977435042953266903_n.jpg
END:VEVENT
BEGIN:VEVENT
DTSTART;TZID=America/Edmonton:20251130T160000
DTEND;TZID=America/Edmonton:20251130T200000
DTSTAMP:20260425T104342
CREATED:20240911T005142Z
LAST-MODIFIED:20240911T005142Z
UID:10035758-1764518400-1764532800@urbancasual.ca
SUMMARY:SUNDAY JAM AT THE VENUE
DESCRIPTION:The Sunday Jam is back at the Venue starting October 6th! \nFeaturing Allen Christie. \nWINGS $10 OFF \nHAPPY HOUR 2PM TO 8PM \n  \n 
URL:https://urbancasual.ca/cochrane-event/sunday-jam-at-the-venue/2025-11-30/
LOCATION:VENUE SPORTSBAR AND GRILL
CATEGORIES:Entertainment & Games,Music
ATTACH;FMTTYPE=image/jpeg:https://urbancasual.ca/wp-content/uploads/2024/09/inbound1307443098528191419.jpg
END:VEVENT
BEGIN:VEVENT
DTSTART;TZID=America/Edmonton:20251126T140000
DTEND;TZID=America/Edmonton:20251126T160000
DTSTAMP:20260425T104342
CREATED:20250813T193038Z
LAST-MODIFIED:20251103T225347Z
UID:10050184-1764165600-1764172800@urbancasual.ca
SUMMARY:Cochrane Baby Boomers Group Meet-Up - Wed PM
DESCRIPTION:EVERY WEDNESDAY – JOIN US AT ONE OR BOTH GROUPS! \nGROUP 1 – 9 TO 11AM AT LEGION – 114 5TH AVE \nGROUP 2 – 2 TO 4PM AT THE VENUE – 79 RAILWAY ST.
URL:https://urbancasual.ca/cochrane-event/cochrane-baby-boomers-group-meet-up-wed-pm/2025-11-26/
LOCATION:VENUE SPORTSBAR AND GRILL
CATEGORIES:Club,Community,Entertainment & Games,Networking,Seniors
ATTACH;FMTTYPE=image/jpeg:https://urbancasual.ca/wp-content/uploads/2025/08/574395226_845145031494292_977435042953266903_n.jpg
END:VEVENT
BEGIN:VEVENT
DTSTART;TZID=America/Edmonton:20251123T160000
DTEND;TZID=America/Edmonton:20251123T200000
DTSTAMP:20260425T104342
CREATED:20240911T005142Z
LAST-MODIFIED:20240911T005142Z
UID:10035757-1763913600-1763928000@urbancasual.ca
SUMMARY:SUNDAY JAM AT THE VENUE
DESCRIPTION:The Sunday Jam is back at the Venue starting October 6th! \nFeaturing Allen Christie. \nWINGS $10 OFF \nHAPPY HOUR 2PM TO 8PM \n  \n 
URL:https://urbancasual.ca/cochrane-event/sunday-jam-at-the-venue/2025-11-23/
LOCATION:VENUE SPORTSBAR AND GRILL
CATEGORIES:Entertainment & Games,Music
ATTACH;FMTTYPE=image/jpeg:https://urbancasual.ca/wp-content/uploads/2024/09/inbound1307443098528191419.jpg
END:VEVENT
BEGIN:VEVENT
DTSTART;TZID=America/Edmonton:20251119T140000
DTEND;TZID=America/Edmonton:20251119T160000
DTSTAMP:20260425T104343
CREATED:20250813T193038Z
LAST-MODIFIED:20251103T225347Z
UID:10050183-1763560800-1763568000@urbancasual.ca
SUMMARY:Cochrane Baby Boomers Group Meet-Up - Wed PM
DESCRIPTION:EVERY WEDNESDAY – JOIN US AT ONE OR BOTH GROUPS! \nGROUP 1 – 9 TO 11AM AT LEGION – 114 5TH AVE \nGROUP 2 – 2 TO 4PM AT THE VENUE – 79 RAILWAY ST.
URL:https://urbancasual.ca/cochrane-event/cochrane-baby-boomers-group-meet-up-wed-pm/2025-11-19/
LOCATION:VENUE SPORTSBAR AND GRILL
CATEGORIES:Club,Community,Entertainment & Games,Networking,Seniors
ATTACH;FMTTYPE=image/jpeg:https://urbancasual.ca/wp-content/uploads/2025/08/574395226_845145031494292_977435042953266903_n.jpg
END:VEVENT
BEGIN:VEVENT
DTSTART;TZID=America/Edmonton:20251116T160000
DTEND;TZID=America/Edmonton:20251116T200000
DTSTAMP:20260425T104343
CREATED:20240911T005142Z
LAST-MODIFIED:20240911T005142Z
UID:10035756-1763308800-1763323200@urbancasual.ca
SUMMARY:SUNDAY JAM AT THE VENUE
DESCRIPTION:The Sunday Jam is back at the Venue starting October 6th! \nFeaturing Allen Christie. \nWINGS $10 OFF \nHAPPY HOUR 2PM TO 8PM \n  \n 
URL:https://urbancasual.ca/cochrane-event/sunday-jam-at-the-venue/2025-11-16/
LOCATION:VENUE SPORTSBAR AND GRILL
CATEGORIES:Entertainment & Games,Music
ATTACH;FMTTYPE=image/jpeg:https://urbancasual.ca/wp-content/uploads/2024/09/inbound1307443098528191419.jpg
END:VEVENT
BEGIN:VEVENT
DTSTART;TZID=America/Edmonton:20251112T140000
DTEND;TZID=America/Edmonton:20251112T160000
DTSTAMP:20260425T104343
CREATED:20250813T193038Z
LAST-MODIFIED:20251103T225347Z
UID:10050182-1762956000-1762963200@urbancasual.ca
SUMMARY:Cochrane Baby Boomers Group Meet-Up - Wed PM
DESCRIPTION:EVERY WEDNESDAY – JOIN US AT ONE OR BOTH GROUPS! \nGROUP 1 – 9 TO 11AM AT LEGION – 114 5TH AVE \nGROUP 2 – 2 TO 4PM AT THE VENUE – 79 RAILWAY ST.
URL:https://urbancasual.ca/cochrane-event/cochrane-baby-boomers-group-meet-up-wed-pm/2025-11-12/
LOCATION:VENUE SPORTSBAR AND GRILL
CATEGORIES:Club,Community,Entertainment & Games,Networking,Seniors
ATTACH;FMTTYPE=image/jpeg:https://urbancasual.ca/wp-content/uploads/2025/08/574395226_845145031494292_977435042953266903_n.jpg
END:VEVENT
BEGIN:VEVENT
DTSTART;TZID=America/Edmonton:20251109T160000
DTEND;TZID=America/Edmonton:20251109T200000
DTSTAMP:20260425T104343
CREATED:20240911T005142Z
LAST-MODIFIED:20240911T005142Z
UID:10035755-1762704000-1762718400@urbancasual.ca
SUMMARY:SUNDAY JAM AT THE VENUE
DESCRIPTION:The Sunday Jam is back at the Venue starting October 6th! \nFeaturing Allen Christie. \nWINGS $10 OFF \nHAPPY HOUR 2PM TO 8PM \n  \n 
URL:https://urbancasual.ca/cochrane-event/sunday-jam-at-the-venue/2025-11-09/
LOCATION:VENUE SPORTSBAR AND GRILL
CATEGORIES:Entertainment & Games,Music
ATTACH;FMTTYPE=image/jpeg:https://urbancasual.ca/wp-content/uploads/2024/09/inbound1307443098528191419.jpg
END:VEVENT
BEGIN:VEVENT
DTSTART;TZID=America/Edmonton:20251105T140000
DTEND;TZID=America/Edmonton:20251105T160000
DTSTAMP:20260425T104343
CREATED:20250813T193038Z
LAST-MODIFIED:20251103T225347Z
UID:10050181-1762351200-1762358400@urbancasual.ca
SUMMARY:Cochrane Baby Boomers Group Meet-Up - Wed PM
DESCRIPTION:EVERY WEDNESDAY – JOIN US AT ONE OR BOTH GROUPS! \nGROUP 1 – 9 TO 11AM AT LEGION – 114 5TH AVE \nGROUP 2 – 2 TO 4PM AT THE VENUE – 79 RAILWAY ST.
URL:https://urbancasual.ca/cochrane-event/cochrane-baby-boomers-group-meet-up-wed-pm/2025-11-05/
LOCATION:VENUE SPORTSBAR AND GRILL
CATEGORIES:Club,Community,Entertainment & Games,Networking,Seniors
ATTACH;FMTTYPE=image/jpeg:https://urbancasual.ca/wp-content/uploads/2025/08/574395226_845145031494292_977435042953266903_n.jpg
END:VEVENT
BEGIN:VEVENT
DTSTART;TZID=America/Edmonton:20251102T160000
DTEND;TZID=America/Edmonton:20251102T200000
DTSTAMP:20260425T104343
CREATED:20240911T005142Z
LAST-MODIFIED:20240911T005142Z
UID:10035754-1762099200-1762113600@urbancasual.ca
SUMMARY:SUNDAY JAM AT THE VENUE
DESCRIPTION:The Sunday Jam is back at the Venue starting October 6th! \nFeaturing Allen Christie. \nWINGS $10 OFF \nHAPPY HOUR 2PM TO 8PM \n  \n 
URL:https://urbancasual.ca/cochrane-event/sunday-jam-at-the-venue/2025-11-02/
LOCATION:VENUE SPORTSBAR AND GRILL
CATEGORIES:Entertainment & Games,Music
ATTACH;FMTTYPE=image/jpeg:https://urbancasual.ca/wp-content/uploads/2024/09/inbound1307443098528191419.jpg
END:VEVENT
BEGIN:VEVENT
DTSTART;TZID=America/Edmonton:20251101T210000
DTEND;TZID=America/Edmonton:20251102T013000
DTSTAMP:20260425T104343
CREATED:20251023T202733Z
LAST-MODIFIED:20251023T202733Z
UID:10050987-1762030800-1762047000@urbancasual.ca
SUMMARY:Halloween Party at The Venue
DESCRIPTION:HALLOWEEN PARTY AT THE VENUE! \n Oct 31 & Nov 1 – Two Epic Nights!\n\n\n\nGet ready for a weekend of chills\, thrills\, and classic rock LIVE with Rock Bottom  — playing the best of the 70s\, 80s & 90s starting at 9 PM!\n\n\n\n No Cover Charge!\n Food & Drink Specials All Night!\n Costume Contests\, Prizes & Giveaways!\n\n\n Friday: Costume Contest Night!\nTake the crown for the most creative\, scariest\, or funniest costume!\n\n Prizes include:\n Stella Artois Sled Giveaway – perfect for beer lovers \n Coors Banquet Cornhole Set – ideal for backyard fun!\n\n\n\n Saturday: Zombie Night!\nBring your spooky squad and party ‘til the dead rise again!\n\n\n\n The Venue Music Sportsbar & Grill\n79 Railway Street East\, Cochrane\n\n\nTag your crew \n\nCome early\, grab your table\, and get ready to party like never before!
URL:https://urbancasual.ca/cochrane-event/halloween-party-at-the-venue/2025-11-01/
LOCATION:VENUE SPORTSBAR AND GRILL
CATEGORIES:Business,Entertainment & Games,Halloween,Music,Pub/Bar Event
ATTACH;FMTTYPE=image/jpeg:https://urbancasual.ca/wp-content/uploads/2025/10/inbound5319116869531625457-e1761584740503.jpg
END:VEVENT
BEGIN:VEVENT
DTSTART;TZID=America/Edmonton:20251031T210000
DTEND;TZID=America/Edmonton:20251101T013000
DTSTAMP:20260425T104343
CREATED:20251023T202733Z
LAST-MODIFIED:20251023T202733Z
UID:10050986-1761944400-1761960600@urbancasual.ca
SUMMARY:Halloween Party at The Venue
DESCRIPTION:HALLOWEEN PARTY AT THE VENUE! \n Oct 31 & Nov 1 – Two Epic Nights!\n\n\n\nGet ready for a weekend of chills\, thrills\, and classic rock LIVE with Rock Bottom  — playing the best of the 70s\, 80s & 90s starting at 9 PM!\n\n\n\n No Cover Charge!\n Food & Drink Specials All Night!\n Costume Contests\, Prizes & Giveaways!\n\n\n Friday: Costume Contest Night!\nTake the crown for the most creative\, scariest\, or funniest costume!\n\n Prizes include:\n Stella Artois Sled Giveaway – perfect for beer lovers \n Coors Banquet Cornhole Set – ideal for backyard fun!\n\n\n\n Saturday: Zombie Night!\nBring your spooky squad and party ‘til the dead rise again!\n\n\n\n The Venue Music Sportsbar & Grill\n79 Railway Street East\, Cochrane\n\n\nTag your crew \n\nCome early\, grab your table\, and get ready to party like never before!
URL:https://urbancasual.ca/cochrane-event/halloween-party-at-the-venue/2025-10-31/
LOCATION:VENUE SPORTSBAR AND GRILL
CATEGORIES:Business,Entertainment & Games,Halloween,Music,Pub/Bar Event
ATTACH;FMTTYPE=image/jpeg:https://urbancasual.ca/wp-content/uploads/2025/10/inbound5319116869531625457-e1761584740503.jpg
END:VEVENT
BEGIN:VEVENT
DTSTART;TZID=America/Edmonton:20251029T140000
DTEND;TZID=America/Edmonton:20251029T160000
DTSTAMP:20260425T104343
CREATED:20250813T193038Z
LAST-MODIFIED:20251103T225347Z
UID:10050180-1761746400-1761753600@urbancasual.ca
SUMMARY:Cochrane Baby Boomers Group Meet-Up - Wed PM
DESCRIPTION:EVERY WEDNESDAY – JOIN US AT ONE OR BOTH GROUPS! \nGROUP 1 – 9 TO 11AM AT LEGION – 114 5TH AVE \nGROUP 2 – 2 TO 4PM AT THE VENUE – 79 RAILWAY ST.
URL:https://urbancasual.ca/cochrane-event/cochrane-baby-boomers-group-meet-up-wed-pm/2025-10-29/
LOCATION:VENUE SPORTSBAR AND GRILL
CATEGORIES:Club,Community,Entertainment & Games,Networking,Seniors
ATTACH;FMTTYPE=image/jpeg:https://urbancasual.ca/wp-content/uploads/2025/08/574395226_845145031494292_977435042953266903_n.jpg
END:VEVENT
BEGIN:VEVENT
DTSTART;TZID=America/Edmonton:20251026T160000
DTEND;TZID=America/Edmonton:20251026T200000
DTSTAMP:20260425T104343
CREATED:20240911T005142Z
LAST-MODIFIED:20240911T005142Z
UID:10035753-1761494400-1761508800@urbancasual.ca
SUMMARY:SUNDAY JAM AT THE VENUE
DESCRIPTION:The Sunday Jam is back at the Venue starting October 6th! \nFeaturing Allen Christie. \nWINGS $10 OFF \nHAPPY HOUR 2PM TO 8PM \n  \n 
URL:https://urbancasual.ca/cochrane-event/sunday-jam-at-the-venue/2025-10-26/
LOCATION:VENUE SPORTSBAR AND GRILL
CATEGORIES:Entertainment & Games,Music
ATTACH;FMTTYPE=image/jpeg:https://urbancasual.ca/wp-content/uploads/2024/09/inbound1307443098528191419.jpg
END:VEVENT
BEGIN:VEVENT
DTSTART;TZID=America/Edmonton:20251022T140000
DTEND;TZID=America/Edmonton:20251022T160000
DTSTAMP:20260425T104343
CREATED:20250813T193038Z
LAST-MODIFIED:20251103T225347Z
UID:10050179-1761141600-1761148800@urbancasual.ca
SUMMARY:Cochrane Baby Boomers Group Meet-Up - Wed PM
DESCRIPTION:EVERY WEDNESDAY – JOIN US AT ONE OR BOTH GROUPS! \nGROUP 1 – 9 TO 11AM AT LEGION – 114 5TH AVE \nGROUP 2 – 2 TO 4PM AT THE VENUE – 79 RAILWAY ST.
URL:https://urbancasual.ca/cochrane-event/cochrane-baby-boomers-group-meet-up-wed-pm/2025-10-22/
LOCATION:VENUE SPORTSBAR AND GRILL
CATEGORIES:Club,Community,Entertainment & Games,Networking,Seniors
ATTACH;FMTTYPE=image/jpeg:https://urbancasual.ca/wp-content/uploads/2025/08/574395226_845145031494292_977435042953266903_n.jpg
END:VEVENT
BEGIN:VEVENT
DTSTART;TZID=America/Edmonton:20251019T160000
DTEND;TZID=America/Edmonton:20251019T200000
DTSTAMP:20260425T104343
CREATED:20240911T005142Z
LAST-MODIFIED:20240911T005142Z
UID:10035752-1760889600-1760904000@urbancasual.ca
SUMMARY:SUNDAY JAM AT THE VENUE
DESCRIPTION:The Sunday Jam is back at the Venue starting October 6th! \nFeaturing Allen Christie. \nWINGS $10 OFF \nHAPPY HOUR 2PM TO 8PM \n  \n 
URL:https://urbancasual.ca/cochrane-event/sunday-jam-at-the-venue/2025-10-19/
LOCATION:VENUE SPORTSBAR AND GRILL
CATEGORIES:Entertainment & Games,Music
ATTACH;FMTTYPE=image/jpeg:https://urbancasual.ca/wp-content/uploads/2024/09/inbound1307443098528191419.jpg
END:VEVENT
BEGIN:VEVENT
DTSTART;TZID=America/Edmonton:20251015T140000
DTEND;TZID=America/Edmonton:20251015T160000
DTSTAMP:20260425T104343
CREATED:20250813T193038Z
LAST-MODIFIED:20251103T225347Z
UID:10050178-1760536800-1760544000@urbancasual.ca
SUMMARY:Cochrane Baby Boomers Group Meet-Up - Wed PM
DESCRIPTION:EVERY WEDNESDAY – JOIN US AT ONE OR BOTH GROUPS! \nGROUP 1 – 9 TO 11AM AT LEGION – 114 5TH AVE \nGROUP 2 – 2 TO 4PM AT THE VENUE – 79 RAILWAY ST.
URL:https://urbancasual.ca/cochrane-event/cochrane-baby-boomers-group-meet-up-wed-pm/2025-10-15/
LOCATION:VENUE SPORTSBAR AND GRILL
CATEGORIES:Club,Community,Entertainment & Games,Networking,Seniors
ATTACH;FMTTYPE=image/jpeg:https://urbancasual.ca/wp-content/uploads/2025/08/574395226_845145031494292_977435042953266903_n.jpg
END:VEVENT
BEGIN:VEVENT
DTSTART;TZID=America/Edmonton:20251012T160000
DTEND;TZID=America/Edmonton:20251012T200000
DTSTAMP:20260425T104343
CREATED:20240911T005142Z
LAST-MODIFIED:20240911T005142Z
UID:10035751-1760284800-1760299200@urbancasual.ca
SUMMARY:SUNDAY JAM AT THE VENUE
DESCRIPTION:The Sunday Jam is back at the Venue starting October 6th! \nFeaturing Allen Christie. \nWINGS $10 OFF \nHAPPY HOUR 2PM TO 8PM \n  \n 
URL:https://urbancasual.ca/cochrane-event/sunday-jam-at-the-venue/2025-10-12/
LOCATION:VENUE SPORTSBAR AND GRILL
CATEGORIES:Entertainment & Games,Music
ATTACH;FMTTYPE=image/jpeg:https://urbancasual.ca/wp-content/uploads/2024/09/inbound1307443098528191419.jpg
END:VEVENT
BEGIN:VEVENT
DTSTART;TZID=America/Edmonton:20251008T140000
DTEND;TZID=America/Edmonton:20251008T160000
DTSTAMP:20260425T104343
CREATED:20250813T193038Z
LAST-MODIFIED:20251103T225347Z
UID:10050177-1759932000-1759939200@urbancasual.ca
SUMMARY:Cochrane Baby Boomers Group Meet-Up - Wed PM
DESCRIPTION:EVERY WEDNESDAY – JOIN US AT ONE OR BOTH GROUPS! \nGROUP 1 – 9 TO 11AM AT LEGION – 114 5TH AVE \nGROUP 2 – 2 TO 4PM AT THE VENUE – 79 RAILWAY ST.
URL:https://urbancasual.ca/cochrane-event/cochrane-baby-boomers-group-meet-up-wed-pm/2025-10-08/
LOCATION:VENUE SPORTSBAR AND GRILL
CATEGORIES:Club,Community,Entertainment & Games,Networking,Seniors
ATTACH;FMTTYPE=image/jpeg:https://urbancasual.ca/wp-content/uploads/2025/08/574395226_845145031494292_977435042953266903_n.jpg
END:VEVENT
BEGIN:VEVENT
DTSTART;TZID=America/Edmonton:20251005T160000
DTEND;TZID=America/Edmonton:20251005T200000
DTSTAMP:20260425T104343
CREATED:20240911T005142Z
LAST-MODIFIED:20240911T005142Z
UID:10035750-1759680000-1759694400@urbancasual.ca
SUMMARY:SUNDAY JAM AT THE VENUE
DESCRIPTION:The Sunday Jam is back at the Venue starting October 6th! \nFeaturing Allen Christie. \nWINGS $10 OFF \nHAPPY HOUR 2PM TO 8PM \n  \n 
URL:https://urbancasual.ca/cochrane-event/sunday-jam-at-the-venue/2025-10-05/
LOCATION:VENUE SPORTSBAR AND GRILL
CATEGORIES:Entertainment & Games,Music
ATTACH;FMTTYPE=image/jpeg:https://urbancasual.ca/wp-content/uploads/2024/09/inbound1307443098528191419.jpg
END:VEVENT
BEGIN:VEVENT
DTSTART;TZID=America/Edmonton:20251001T140000
DTEND;TZID=America/Edmonton:20251001T160000
DTSTAMP:20260425T104343
CREATED:20250813T193038Z
LAST-MODIFIED:20251103T225347Z
UID:10050176-1759327200-1759334400@urbancasual.ca
SUMMARY:Cochrane Baby Boomers Group Meet-Up - Wed PM
DESCRIPTION:EVERY WEDNESDAY – JOIN US AT ONE OR BOTH GROUPS! \nGROUP 1 – 9 TO 11AM AT LEGION – 114 5TH AVE \nGROUP 2 – 2 TO 4PM AT THE VENUE – 79 RAILWAY ST.
URL:https://urbancasual.ca/cochrane-event/cochrane-baby-boomers-group-meet-up-wed-pm/2025-10-01/
LOCATION:VENUE SPORTSBAR AND GRILL
CATEGORIES:Club,Community,Entertainment & Games,Networking,Seniors
ATTACH;FMTTYPE=image/jpeg:https://urbancasual.ca/wp-content/uploads/2025/08/574395226_845145031494292_977435042953266903_n.jpg
END:VEVENT
BEGIN:VEVENT
DTSTART;TZID=America/Edmonton:20250928T160000
DTEND;TZID=America/Edmonton:20250928T200000
DTSTAMP:20260425T104343
CREATED:20240911T005142Z
LAST-MODIFIED:20240911T005142Z
UID:10035749-1759075200-1759089600@urbancasual.ca
SUMMARY:SUNDAY JAM AT THE VENUE
DESCRIPTION:The Sunday Jam is back at the Venue starting October 6th! \nFeaturing Allen Christie. \nWINGS $10 OFF \nHAPPY HOUR 2PM TO 8PM \n  \n 
URL:https://urbancasual.ca/cochrane-event/sunday-jam-at-the-venue/2025-09-28/
LOCATION:VENUE SPORTSBAR AND GRILL
CATEGORIES:Entertainment & Games,Music
ATTACH;FMTTYPE=image/jpeg:https://urbancasual.ca/wp-content/uploads/2024/09/inbound1307443098528191419.jpg
END:VEVENT
BEGIN:VEVENT
DTSTART;TZID=America/Edmonton:20250927T210000
DTEND;TZID=America/Edmonton:20250928T013000
DTSTAMP:20260425T104343
CREATED:20250908T184022Z
LAST-MODIFIED:20250908T184022Z
UID:10050362-1759006800-1759023000@urbancasual.ca
SUMMARY:LIVE MUSIC AT THE VENUE
DESCRIPTION:SEPT 5 – SHANNON SMITH \nSEPT 6 – GRAFFITI DUO \nSEPT 12 / 13  CRAIG SILVER \nSEPT 19 / 20 JOY RIDE \nSEPT 26 / 27 CLAUD HOLTZ
URL:https://urbancasual.ca/cochrane-event/live-music-at-the-venue-217/2025-09-27/
LOCATION:VENUE SPORTSBAR AND GRILL
CATEGORIES:Adults Only,Business,Concert,Music,Pub/Bar Event,Restaurant
ATTACH;FMTTYPE=image/jpeg:https://urbancasual.ca/wp-content/uploads/2025/09/inbound7618058709087416625.jpg
END:VEVENT
BEGIN:VEVENT
DTSTART;TZID=America/Edmonton:20250926T210000
DTEND;TZID=America/Edmonton:20250927T013000
DTSTAMP:20260425T104343
CREATED:20250908T184022Z
LAST-MODIFIED:20250908T184022Z
UID:10050361-1758920400-1758936600@urbancasual.ca
SUMMARY:LIVE MUSIC AT THE VENUE
DESCRIPTION:SEPT 5 – SHANNON SMITH \nSEPT 6 – GRAFFITI DUO \nSEPT 12 / 13  CRAIG SILVER \nSEPT 19 / 20 JOY RIDE \nSEPT 26 / 27 CLAUD HOLTZ
URL:https://urbancasual.ca/cochrane-event/live-music-at-the-venue-217/2025-09-26/
LOCATION:VENUE SPORTSBAR AND GRILL
CATEGORIES:Adults Only,Business,Concert,Music,Pub/Bar Event,Restaurant
ATTACH;FMTTYPE=image/jpeg:https://urbancasual.ca/wp-content/uploads/2025/09/inbound7618058709087416625.jpg
END:VEVENT
BEGIN:VEVENT
DTSTART;TZID=America/Edmonton:20250924T140000
DTEND;TZID=America/Edmonton:20250924T160000
DTSTAMP:20260425T104343
CREATED:20250813T193038Z
LAST-MODIFIED:20251103T225347Z
UID:10050175-1758722400-1758729600@urbancasual.ca
SUMMARY:Cochrane Baby Boomers Group Meet-Up - Wed PM
DESCRIPTION:EVERY WEDNESDAY – JOIN US AT ONE OR BOTH GROUPS! \nGROUP 1 – 9 TO 11AM AT LEGION – 114 5TH AVE \nGROUP 2 – 2 TO 4PM AT THE VENUE – 79 RAILWAY ST.
URL:https://urbancasual.ca/cochrane-event/cochrane-baby-boomers-group-meet-up-wed-pm/2025-09-24/
LOCATION:VENUE SPORTSBAR AND GRILL
CATEGORIES:Club,Community,Entertainment & Games,Networking,Seniors
ATTACH;FMTTYPE=image/jpeg:https://urbancasual.ca/wp-content/uploads/2025/08/574395226_845145031494292_977435042953266903_n.jpg
END:VEVENT
BEGIN:VEVENT
DTSTART;TZID=America/Edmonton:20250921T160000
DTEND;TZID=America/Edmonton:20250921T200000
DTSTAMP:20260425T104343
CREATED:20240911T005142Z
LAST-MODIFIED:20240911T005142Z
UID:10035748-1758470400-1758484800@urbancasual.ca
SUMMARY:SUNDAY JAM AT THE VENUE
DESCRIPTION:The Sunday Jam is back at the Venue starting October 6th! \nFeaturing Allen Christie. \nWINGS $10 OFF \nHAPPY HOUR 2PM TO 8PM \n  \n 
URL:https://urbancasual.ca/cochrane-event/sunday-jam-at-the-venue/2025-09-21/
LOCATION:VENUE SPORTSBAR AND GRILL
CATEGORIES:Entertainment & Games,Music
ATTACH;FMTTYPE=image/jpeg:https://urbancasual.ca/wp-content/uploads/2024/09/inbound1307443098528191419.jpg
END:VEVENT
BEGIN:VEVENT
DTSTART;TZID=America/Edmonton:20250920T210000
DTEND;TZID=America/Edmonton:20250921T013000
DTSTAMP:20260425T104343
CREATED:20250908T184022Z
LAST-MODIFIED:20250908T184022Z
UID:10050360-1758402000-1758418200@urbancasual.ca
SUMMARY:LIVE MUSIC AT THE VENUE
DESCRIPTION:SEPT 5 – SHANNON SMITH \nSEPT 6 – GRAFFITI DUO \nSEPT 12 / 13  CRAIG SILVER \nSEPT 19 / 20 JOY RIDE \nSEPT 26 / 27 CLAUD HOLTZ
URL:https://urbancasual.ca/cochrane-event/live-music-at-the-venue-217/2025-09-20/
LOCATION:VENUE SPORTSBAR AND GRILL
CATEGORIES:Adults Only,Business,Concert,Music,Pub/Bar Event,Restaurant
ATTACH;FMTTYPE=image/jpeg:https://urbancasual.ca/wp-content/uploads/2025/09/inbound7618058709087416625.jpg
END:VEVENT
END:VCALENDAR