BEGIN:VCALENDAR
VERSION:2.0
PRODID:-//Urbancasual.ca - ECPv6.15.20//NONSGML v1.0//EN
CALSCALE:GREGORIAN
METHOD:PUBLISH
X-WR-CALNAME:Urbancasual.ca
X-ORIGINAL-URL:https://urbancasual.ca
X-WR-CALDESC:Events for Urbancasual.ca
REFRESH-INTERVAL;VALUE=DURATION:PT1H
X-Robots-Tag:noindex
X-PUBLISHED-TTL:PT1H
BEGIN:VTIMEZONE
TZID:America/Edmonton
BEGIN:DAYLIGHT
TZOFFSETFROM:-0700
TZOFFSETTO:-0600
TZNAME:MDT
DTSTART:20260308T090000
END:DAYLIGHT
BEGIN:STANDARD
TZOFFSETFROM:-0600
TZOFFSETTO:-0700
TZNAME:MST
DTSTART:20261101T080000
END:STANDARD
BEGIN:DAYLIGHT
TZOFFSETFROM:-0700
TZOFFSETTO:-0600
TZNAME:MDT
DTSTART:20270314T090000
END:DAYLIGHT
BEGIN:STANDARD
TZOFFSETFROM:-0600
TZOFFSETTO:-0700
TZNAME:MST
DTSTART:20271107T080000
END:STANDARD
BEGIN:DAYLIGHT
TZOFFSETFROM:-0700
TZOFFSETTO:-0600
TZNAME:MDT
DTSTART:20280312T090000
END:DAYLIGHT
BEGIN:STANDARD
TZOFFSETFROM:-0600
TZOFFSETTO:-0700
TZNAME:MST
DTSTART:20281105T080000
END:STANDARD
END:VTIMEZONE
BEGIN:VEVENT
DTSTART;TZID=America/Edmonton:20270722T200000
DTEND;TZID=America/Edmonton:20270722T233000
DTSTAMP:20260420T000329
CREATED:20260312T154426Z
LAST-MODIFIED:20260312T154426Z
UID:10057282-1816286400-1816299000@urbancasual.ca
SUMMARY:KARAOKE AT THE VENUE
DESCRIPTION:🎤🍽 Join us at The Venue this Thursday for a night of delicious food and epic karaoke! \n🎶 Get ready to sing your heart out starting at 8pm.
URL:https://urbancasual.ca/cochrane-event/karaoke-at-the-venue-2/2027-07-22/
LOCATION:VENUE SPORTSBAR AND GRILL
CATEGORIES:Business,Downtown,Entertainment & Games,Karaoke,Music,Pub/Bar Event,Restaurant
ATTACH;FMTTYPE=image/jpeg:https://urbancasual.ca/wp-content/uploads/2024/07/639697893_17962041261019573_7093083653207156449_n.jpg
END:VEVENT
BEGIN:VEVENT
DTSTART;TZID=America/Edmonton:20270724T210000
DTEND;TZID=America/Edmonton:20270725T020000
DTSTAMP:20260420T000329
CREATED:20260416T172129Z
LAST-MODIFIED:20260416T172129Z
UID:10059406-1816462800-1816480800@urbancasual.ca
SUMMARY:LIVE MUSIC AT THE VENUE
DESCRIPTION:APRIL AT THE VENUE \n\n\nCochrane’s #1 Nightlife Spot\n\n\nNew vibes. Bigger nights. Non-stop entertainment.\n\n\n\n\n\n\n\n\n From country to full party mode \n\n\n EVERY SATURDAY – LIVE BANDS (9PM – 2AM)\n\n\n\nAPRIL 4 – ALLEN CHRISTIE\n(Folk Rock • Soft Pop Rock)\n\n\n\nAPRIL 11 – ROCK BOTTOM\n(70s • 80s • 90s Rock & Roll)\n\n\n\nAPRIL 18 – STATIC\n(Classic Rock Favorites)\n\n\n\nAPRIL 25 – KRANK’D\n(Classic Rock • Hard Rock • Modern Hits)\n\n\n\n Every Saturday = packed dance floor\n\n\n\n\n\n\n\n THE VENUE\n79 Railway St. E\, Cochrane
URL:https://urbancasual.ca/cochrane-event/live-music-at-the-venue-602/2027-07-24/
LOCATION:VENUE SPORTSBAR AND GRILL
CATEGORIES:Adults Only,Downtown,Entertainment & Games,Music,Pub/Bar Event,Restaurant
ATTACH;FMTTYPE=image/jpeg:https://urbancasual.ca/wp-content/uploads/2026/04/657258995_17966147115019573_2071770635758293235_n.jpg
END:VEVENT
BEGIN:VEVENT
DTSTART;TZID=America/Edmonton:20270725T160000
DTEND;TZID=America/Edmonton:20270725T200000
DTSTAMP:20260420T000329
CREATED:20240911T005142Z
LAST-MODIFIED:20240911T005142Z
UID:10035844-1816531200-1816545600@urbancasual.ca
SUMMARY:SUNDAY JAM AT THE VENUE
DESCRIPTION:The Sunday Jam is back at the Venue starting October 6th! \nFeaturing Allen Christie. \nWINGS $10 OFF \nHAPPY HOUR 2PM TO 8PM \n  \n 
URL:https://urbancasual.ca/cochrane-event/sunday-jam-at-the-venue/2027-07-25/
LOCATION:VENUE SPORTSBAR AND GRILL
CATEGORIES:Entertainment & Games,Music
ATTACH;FMTTYPE=image/jpeg:https://urbancasual.ca/wp-content/uploads/2024/09/inbound1307443098528191419.jpg
END:VEVENT
BEGIN:VEVENT
DTSTART;TZID=America/Edmonton:20270729T200000
DTEND;TZID=America/Edmonton:20270729T233000
DTSTAMP:20260420T000329
CREATED:20260312T154426Z
LAST-MODIFIED:20260312T154426Z
UID:10057283-1816891200-1816903800@urbancasual.ca
SUMMARY:KARAOKE AT THE VENUE
DESCRIPTION:🎤🍽 Join us at The Venue this Thursday for a night of delicious food and epic karaoke! \n🎶 Get ready to sing your heart out starting at 8pm.
URL:https://urbancasual.ca/cochrane-event/karaoke-at-the-venue-2/2027-07-29/
LOCATION:VENUE SPORTSBAR AND GRILL
CATEGORIES:Business,Downtown,Entertainment & Games,Karaoke,Music,Pub/Bar Event,Restaurant
ATTACH;FMTTYPE=image/jpeg:https://urbancasual.ca/wp-content/uploads/2024/07/639697893_17962041261019573_7093083653207156449_n.jpg
END:VEVENT
BEGIN:VEVENT
DTSTART;TZID=America/Edmonton:20270731T210000
DTEND;TZID=America/Edmonton:20270801T020000
DTSTAMP:20260420T000329
CREATED:20260416T172129Z
LAST-MODIFIED:20260416T172129Z
UID:10059407-1817067600-1817085600@urbancasual.ca
SUMMARY:LIVE MUSIC AT THE VENUE
DESCRIPTION:APRIL AT THE VENUE \n\n\nCochrane’s #1 Nightlife Spot\n\n\nNew vibes. Bigger nights. Non-stop entertainment.\n\n\n\n\n\n\n\n\n From country to full party mode \n\n\n EVERY SATURDAY – LIVE BANDS (9PM – 2AM)\n\n\n\nAPRIL 4 – ALLEN CHRISTIE\n(Folk Rock • Soft Pop Rock)\n\n\n\nAPRIL 11 – ROCK BOTTOM\n(70s • 80s • 90s Rock & Roll)\n\n\n\nAPRIL 18 – STATIC\n(Classic Rock Favorites)\n\n\n\nAPRIL 25 – KRANK’D\n(Classic Rock • Hard Rock • Modern Hits)\n\n\n\n Every Saturday = packed dance floor\n\n\n\n\n\n\n\n THE VENUE\n79 Railway St. E\, Cochrane
URL:https://urbancasual.ca/cochrane-event/live-music-at-the-venue-602/2027-07-31/
LOCATION:VENUE SPORTSBAR AND GRILL
CATEGORIES:Adults Only,Downtown,Entertainment & Games,Music,Pub/Bar Event,Restaurant
ATTACH;FMTTYPE=image/jpeg:https://urbancasual.ca/wp-content/uploads/2026/04/657258995_17966147115019573_2071770635758293235_n.jpg
END:VEVENT
BEGIN:VEVENT
DTSTART;TZID=America/Edmonton:20270801T160000
DTEND;TZID=America/Edmonton:20270801T200000
DTSTAMP:20260420T000329
CREATED:20240911T005142Z
LAST-MODIFIED:20240911T005142Z
UID:10035845-1817136000-1817150400@urbancasual.ca
SUMMARY:SUNDAY JAM AT THE VENUE
DESCRIPTION:The Sunday Jam is back at the Venue starting October 6th! \nFeaturing Allen Christie. \nWINGS $10 OFF \nHAPPY HOUR 2PM TO 8PM \n  \n 
URL:https://urbancasual.ca/cochrane-event/sunday-jam-at-the-venue/2027-08-01/
LOCATION:VENUE SPORTSBAR AND GRILL
CATEGORIES:Entertainment & Games,Music
ATTACH;FMTTYPE=image/jpeg:https://urbancasual.ca/wp-content/uploads/2024/09/inbound1307443098528191419.jpg
END:VEVENT
BEGIN:VEVENT
DTSTART;TZID=America/Edmonton:20270805T200000
DTEND;TZID=America/Edmonton:20270805T233000
DTSTAMP:20260420T000329
CREATED:20260312T154426Z
LAST-MODIFIED:20260312T154426Z
UID:10057284-1817496000-1817508600@urbancasual.ca
SUMMARY:KARAOKE AT THE VENUE
DESCRIPTION:🎤🍽 Join us at The Venue this Thursday for a night of delicious food and epic karaoke! \n🎶 Get ready to sing your heart out starting at 8pm.
URL:https://urbancasual.ca/cochrane-event/karaoke-at-the-venue-2/2027-08-05/
LOCATION:VENUE SPORTSBAR AND GRILL
CATEGORIES:Business,Downtown,Entertainment & Games,Karaoke,Music,Pub/Bar Event,Restaurant
ATTACH;FMTTYPE=image/jpeg:https://urbancasual.ca/wp-content/uploads/2024/07/639697893_17962041261019573_7093083653207156449_n.jpg
END:VEVENT
BEGIN:VEVENT
DTSTART;TZID=America/Edmonton:20270807T210000
DTEND;TZID=America/Edmonton:20270808T020000
DTSTAMP:20260420T000329
CREATED:20260416T172129Z
LAST-MODIFIED:20260416T172129Z
UID:10059408-1817672400-1817690400@urbancasual.ca
SUMMARY:LIVE MUSIC AT THE VENUE
DESCRIPTION:APRIL AT THE VENUE \n\n\nCochrane’s #1 Nightlife Spot\n\n\nNew vibes. Bigger nights. Non-stop entertainment.\n\n\n\n\n\n\n\n\n From country to full party mode \n\n\n EVERY SATURDAY – LIVE BANDS (9PM – 2AM)\n\n\n\nAPRIL 4 – ALLEN CHRISTIE\n(Folk Rock • Soft Pop Rock)\n\n\n\nAPRIL 11 – ROCK BOTTOM\n(70s • 80s • 90s Rock & Roll)\n\n\n\nAPRIL 18 – STATIC\n(Classic Rock Favorites)\n\n\n\nAPRIL 25 – KRANK’D\n(Classic Rock • Hard Rock • Modern Hits)\n\n\n\n Every Saturday = packed dance floor\n\n\n\n\n\n\n\n THE VENUE\n79 Railway St. E\, Cochrane
URL:https://urbancasual.ca/cochrane-event/live-music-at-the-venue-602/2027-08-07/
LOCATION:VENUE SPORTSBAR AND GRILL
CATEGORIES:Adults Only,Downtown,Entertainment & Games,Music,Pub/Bar Event,Restaurant
ATTACH;FMTTYPE=image/jpeg:https://urbancasual.ca/wp-content/uploads/2026/04/657258995_17966147115019573_2071770635758293235_n.jpg
END:VEVENT
BEGIN:VEVENT
DTSTART;TZID=America/Edmonton:20270808T160000
DTEND;TZID=America/Edmonton:20270808T200000
DTSTAMP:20260420T000329
CREATED:20240911T005142Z
LAST-MODIFIED:20240911T005142Z
UID:10035846-1817740800-1817755200@urbancasual.ca
SUMMARY:SUNDAY JAM AT THE VENUE
DESCRIPTION:The Sunday Jam is back at the Venue starting October 6th! \nFeaturing Allen Christie. \nWINGS $10 OFF \nHAPPY HOUR 2PM TO 8PM \n  \n 
URL:https://urbancasual.ca/cochrane-event/sunday-jam-at-the-venue/2027-08-08/
LOCATION:VENUE SPORTSBAR AND GRILL
CATEGORIES:Entertainment & Games,Music
ATTACH;FMTTYPE=image/jpeg:https://urbancasual.ca/wp-content/uploads/2024/09/inbound1307443098528191419.jpg
END:VEVENT
BEGIN:VEVENT
DTSTART;TZID=America/Edmonton:20270812T200000
DTEND;TZID=America/Edmonton:20270812T233000
DTSTAMP:20260420T000329
CREATED:20260312T154426Z
LAST-MODIFIED:20260312T154426Z
UID:10057285-1818100800-1818113400@urbancasual.ca
SUMMARY:KARAOKE AT THE VENUE
DESCRIPTION:🎤🍽 Join us at The Venue this Thursday for a night of delicious food and epic karaoke! \n🎶 Get ready to sing your heart out starting at 8pm.
URL:https://urbancasual.ca/cochrane-event/karaoke-at-the-venue-2/2027-08-12/
LOCATION:VENUE SPORTSBAR AND GRILL
CATEGORIES:Business,Downtown,Entertainment & Games,Karaoke,Music,Pub/Bar Event,Restaurant
ATTACH;FMTTYPE=image/jpeg:https://urbancasual.ca/wp-content/uploads/2024/07/639697893_17962041261019573_7093083653207156449_n.jpg
END:VEVENT
BEGIN:VEVENT
DTSTART;TZID=America/Edmonton:20270814T210000
DTEND;TZID=America/Edmonton:20270815T020000
DTSTAMP:20260420T000329
CREATED:20260416T172129Z
LAST-MODIFIED:20260416T172129Z
UID:10059409-1818277200-1818295200@urbancasual.ca
SUMMARY:LIVE MUSIC AT THE VENUE
DESCRIPTION:APRIL AT THE VENUE \n\n\nCochrane’s #1 Nightlife Spot\n\n\nNew vibes. Bigger nights. Non-stop entertainment.\n\n\n\n\n\n\n\n\n From country to full party mode \n\n\n EVERY SATURDAY – LIVE BANDS (9PM – 2AM)\n\n\n\nAPRIL 4 – ALLEN CHRISTIE\n(Folk Rock • Soft Pop Rock)\n\n\n\nAPRIL 11 – ROCK BOTTOM\n(70s • 80s • 90s Rock & Roll)\n\n\n\nAPRIL 18 – STATIC\n(Classic Rock Favorites)\n\n\n\nAPRIL 25 – KRANK’D\n(Classic Rock • Hard Rock • Modern Hits)\n\n\n\n Every Saturday = packed dance floor\n\n\n\n\n\n\n\n THE VENUE\n79 Railway St. E\, Cochrane
URL:https://urbancasual.ca/cochrane-event/live-music-at-the-venue-602/2027-08-14/
LOCATION:VENUE SPORTSBAR AND GRILL
CATEGORIES:Adults Only,Downtown,Entertainment & Games,Music,Pub/Bar Event,Restaurant
ATTACH;FMTTYPE=image/jpeg:https://urbancasual.ca/wp-content/uploads/2026/04/657258995_17966147115019573_2071770635758293235_n.jpg
END:VEVENT
BEGIN:VEVENT
DTSTART;TZID=America/Edmonton:20270815T160000
DTEND;TZID=America/Edmonton:20270815T200000
DTSTAMP:20260420T000329
CREATED:20240911T005142Z
LAST-MODIFIED:20240911T005142Z
UID:10035847-1818345600-1818360000@urbancasual.ca
SUMMARY:SUNDAY JAM AT THE VENUE
DESCRIPTION:The Sunday Jam is back at the Venue starting October 6th! \nFeaturing Allen Christie. \nWINGS $10 OFF \nHAPPY HOUR 2PM TO 8PM \n  \n 
URL:https://urbancasual.ca/cochrane-event/sunday-jam-at-the-venue/2027-08-15/
LOCATION:VENUE SPORTSBAR AND GRILL
CATEGORIES:Entertainment & Games,Music
ATTACH;FMTTYPE=image/jpeg:https://urbancasual.ca/wp-content/uploads/2024/09/inbound1307443098528191419.jpg
END:VEVENT
BEGIN:VEVENT
DTSTART;TZID=America/Edmonton:20270819T200000
DTEND;TZID=America/Edmonton:20270819T233000
DTSTAMP:20260420T000329
CREATED:20260312T154426Z
LAST-MODIFIED:20260312T154426Z
UID:10057286-1818705600-1818718200@urbancasual.ca
SUMMARY:KARAOKE AT THE VENUE
DESCRIPTION:🎤🍽 Join us at The Venue this Thursday for a night of delicious food and epic karaoke! \n🎶 Get ready to sing your heart out starting at 8pm.
URL:https://urbancasual.ca/cochrane-event/karaoke-at-the-venue-2/2027-08-19/
LOCATION:VENUE SPORTSBAR AND GRILL
CATEGORIES:Business,Downtown,Entertainment & Games,Karaoke,Music,Pub/Bar Event,Restaurant
ATTACH;FMTTYPE=image/jpeg:https://urbancasual.ca/wp-content/uploads/2024/07/639697893_17962041261019573_7093083653207156449_n.jpg
END:VEVENT
BEGIN:VEVENT
DTSTART;TZID=America/Edmonton:20270821T210000
DTEND;TZID=America/Edmonton:20270822T020000
DTSTAMP:20260420T000329
CREATED:20260416T172129Z
LAST-MODIFIED:20260416T172129Z
UID:10059410-1818882000-1818900000@urbancasual.ca
SUMMARY:LIVE MUSIC AT THE VENUE
DESCRIPTION:APRIL AT THE VENUE \n\n\nCochrane’s #1 Nightlife Spot\n\n\nNew vibes. Bigger nights. Non-stop entertainment.\n\n\n\n\n\n\n\n\n From country to full party mode \n\n\n EVERY SATURDAY – LIVE BANDS (9PM – 2AM)\n\n\n\nAPRIL 4 – ALLEN CHRISTIE\n(Folk Rock • Soft Pop Rock)\n\n\n\nAPRIL 11 – ROCK BOTTOM\n(70s • 80s • 90s Rock & Roll)\n\n\n\nAPRIL 18 – STATIC\n(Classic Rock Favorites)\n\n\n\nAPRIL 25 – KRANK’D\n(Classic Rock • Hard Rock • Modern Hits)\n\n\n\n Every Saturday = packed dance floor\n\n\n\n\n\n\n\n THE VENUE\n79 Railway St. E\, Cochrane
URL:https://urbancasual.ca/cochrane-event/live-music-at-the-venue-602/2027-08-21/
LOCATION:VENUE SPORTSBAR AND GRILL
CATEGORIES:Adults Only,Downtown,Entertainment & Games,Music,Pub/Bar Event,Restaurant
ATTACH;FMTTYPE=image/jpeg:https://urbancasual.ca/wp-content/uploads/2026/04/657258995_17966147115019573_2071770635758293235_n.jpg
END:VEVENT
BEGIN:VEVENT
DTSTART;TZID=America/Edmonton:20270822T160000
DTEND;TZID=America/Edmonton:20270822T200000
DTSTAMP:20260420T000329
CREATED:20240911T005142Z
LAST-MODIFIED:20240911T005142Z
UID:10035848-1818950400-1818964800@urbancasual.ca
SUMMARY:SUNDAY JAM AT THE VENUE
DESCRIPTION:The Sunday Jam is back at the Venue starting October 6th! \nFeaturing Allen Christie. \nWINGS $10 OFF \nHAPPY HOUR 2PM TO 8PM \n  \n 
URL:https://urbancasual.ca/cochrane-event/sunday-jam-at-the-venue/2027-08-22/
LOCATION:VENUE SPORTSBAR AND GRILL
CATEGORIES:Entertainment & Games,Music
ATTACH;FMTTYPE=image/jpeg:https://urbancasual.ca/wp-content/uploads/2024/09/inbound1307443098528191419.jpg
END:VEVENT
BEGIN:VEVENT
DTSTART;TZID=America/Edmonton:20270826T200000
DTEND;TZID=America/Edmonton:20270826T233000
DTSTAMP:20260420T000329
CREATED:20260312T154426Z
LAST-MODIFIED:20260312T154426Z
UID:10057287-1819310400-1819323000@urbancasual.ca
SUMMARY:KARAOKE AT THE VENUE
DESCRIPTION:🎤🍽 Join us at The Venue this Thursday for a night of delicious food and epic karaoke! \n🎶 Get ready to sing your heart out starting at 8pm.
URL:https://urbancasual.ca/cochrane-event/karaoke-at-the-venue-2/2027-08-26/
LOCATION:VENUE SPORTSBAR AND GRILL
CATEGORIES:Business,Downtown,Entertainment & Games,Karaoke,Music,Pub/Bar Event,Restaurant
ATTACH;FMTTYPE=image/jpeg:https://urbancasual.ca/wp-content/uploads/2024/07/639697893_17962041261019573_7093083653207156449_n.jpg
END:VEVENT
BEGIN:VEVENT
DTSTART;TZID=America/Edmonton:20270828T210000
DTEND;TZID=America/Edmonton:20270829T020000
DTSTAMP:20260420T000329
CREATED:20260416T172129Z
LAST-MODIFIED:20260416T172129Z
UID:10059411-1819486800-1819504800@urbancasual.ca
SUMMARY:LIVE MUSIC AT THE VENUE
DESCRIPTION:APRIL AT THE VENUE \n\n\nCochrane’s #1 Nightlife Spot\n\n\nNew vibes. Bigger nights. Non-stop entertainment.\n\n\n\n\n\n\n\n\n From country to full party mode \n\n\n EVERY SATURDAY – LIVE BANDS (9PM – 2AM)\n\n\n\nAPRIL 4 – ALLEN CHRISTIE\n(Folk Rock • Soft Pop Rock)\n\n\n\nAPRIL 11 – ROCK BOTTOM\n(70s • 80s • 90s Rock & Roll)\n\n\n\nAPRIL 18 – STATIC\n(Classic Rock Favorites)\n\n\n\nAPRIL 25 – KRANK’D\n(Classic Rock • Hard Rock • Modern Hits)\n\n\n\n Every Saturday = packed dance floor\n\n\n\n\n\n\n\n THE VENUE\n79 Railway St. E\, Cochrane
URL:https://urbancasual.ca/cochrane-event/live-music-at-the-venue-602/2027-08-28/
LOCATION:VENUE SPORTSBAR AND GRILL
CATEGORIES:Adults Only,Downtown,Entertainment & Games,Music,Pub/Bar Event,Restaurant
ATTACH;FMTTYPE=image/jpeg:https://urbancasual.ca/wp-content/uploads/2026/04/657258995_17966147115019573_2071770635758293235_n.jpg
END:VEVENT
BEGIN:VEVENT
DTSTART;TZID=America/Edmonton:20270829T160000
DTEND;TZID=America/Edmonton:20270829T200000
DTSTAMP:20260420T000329
CREATED:20240911T005142Z
LAST-MODIFIED:20240911T005142Z
UID:10035849-1819555200-1819569600@urbancasual.ca
SUMMARY:SUNDAY JAM AT THE VENUE
DESCRIPTION:The Sunday Jam is back at the Venue starting October 6th! \nFeaturing Allen Christie. \nWINGS $10 OFF \nHAPPY HOUR 2PM TO 8PM \n  \n 
URL:https://urbancasual.ca/cochrane-event/sunday-jam-at-the-venue/2027-08-29/
LOCATION:VENUE SPORTSBAR AND GRILL
CATEGORIES:Entertainment & Games,Music
ATTACH;FMTTYPE=image/jpeg:https://urbancasual.ca/wp-content/uploads/2024/09/inbound1307443098528191419.jpg
END:VEVENT
BEGIN:VEVENT
DTSTART;TZID=America/Edmonton:20270902T200000
DTEND;TZID=America/Edmonton:20270902T233000
DTSTAMP:20260420T000329
CREATED:20260312T154426Z
LAST-MODIFIED:20260312T154426Z
UID:10057288-1819915200-1819927800@urbancasual.ca
SUMMARY:KARAOKE AT THE VENUE
DESCRIPTION:🎤🍽 Join us at The Venue this Thursday for a night of delicious food and epic karaoke! \n🎶 Get ready to sing your heart out starting at 8pm.
URL:https://urbancasual.ca/cochrane-event/karaoke-at-the-venue-2/2027-09-02/
LOCATION:VENUE SPORTSBAR AND GRILL
CATEGORIES:Business,Downtown,Entertainment & Games,Karaoke,Music,Pub/Bar Event,Restaurant
ATTACH;FMTTYPE=image/jpeg:https://urbancasual.ca/wp-content/uploads/2024/07/639697893_17962041261019573_7093083653207156449_n.jpg
END:VEVENT
BEGIN:VEVENT
DTSTART;TZID=America/Edmonton:20270904T210000
DTEND;TZID=America/Edmonton:20270905T020000
DTSTAMP:20260420T000329
CREATED:20260416T172129Z
LAST-MODIFIED:20260416T172129Z
UID:10059412-1820091600-1820109600@urbancasual.ca
SUMMARY:LIVE MUSIC AT THE VENUE
DESCRIPTION:APRIL AT THE VENUE \n\n\nCochrane’s #1 Nightlife Spot\n\n\nNew vibes. Bigger nights. Non-stop entertainment.\n\n\n\n\n\n\n\n\n From country to full party mode \n\n\n EVERY SATURDAY – LIVE BANDS (9PM – 2AM)\n\n\n\nAPRIL 4 – ALLEN CHRISTIE\n(Folk Rock • Soft Pop Rock)\n\n\n\nAPRIL 11 – ROCK BOTTOM\n(70s • 80s • 90s Rock & Roll)\n\n\n\nAPRIL 18 – STATIC\n(Classic Rock Favorites)\n\n\n\nAPRIL 25 – KRANK’D\n(Classic Rock • Hard Rock • Modern Hits)\n\n\n\n Every Saturday = packed dance floor\n\n\n\n\n\n\n\n THE VENUE\n79 Railway St. E\, Cochrane
URL:https://urbancasual.ca/cochrane-event/live-music-at-the-venue-602/2027-09-04/
LOCATION:VENUE SPORTSBAR AND GRILL
CATEGORIES:Adults Only,Downtown,Entertainment & Games,Music,Pub/Bar Event,Restaurant
ATTACH;FMTTYPE=image/jpeg:https://urbancasual.ca/wp-content/uploads/2026/04/657258995_17966147115019573_2071770635758293235_n.jpg
END:VEVENT
BEGIN:VEVENT
DTSTART;TZID=America/Edmonton:20270905T160000
DTEND;TZID=America/Edmonton:20270905T200000
DTSTAMP:20260420T000329
CREATED:20240911T005142Z
LAST-MODIFIED:20240911T005142Z
UID:10035850-1820160000-1820174400@urbancasual.ca
SUMMARY:SUNDAY JAM AT THE VENUE
DESCRIPTION:The Sunday Jam is back at the Venue starting October 6th! \nFeaturing Allen Christie. \nWINGS $10 OFF \nHAPPY HOUR 2PM TO 8PM \n  \n 
URL:https://urbancasual.ca/cochrane-event/sunday-jam-at-the-venue/2027-09-05/
LOCATION:VENUE SPORTSBAR AND GRILL
CATEGORIES:Entertainment & Games,Music
ATTACH;FMTTYPE=image/jpeg:https://urbancasual.ca/wp-content/uploads/2024/09/inbound1307443098528191419.jpg
END:VEVENT
BEGIN:VEVENT
DTSTART;TZID=America/Edmonton:20270909T200000
DTEND;TZID=America/Edmonton:20270909T233000
DTSTAMP:20260420T000329
CREATED:20260312T154426Z
LAST-MODIFIED:20260312T154426Z
UID:10057289-1820520000-1820532600@urbancasual.ca
SUMMARY:KARAOKE AT THE VENUE
DESCRIPTION:🎤🍽 Join us at The Venue this Thursday for a night of delicious food and epic karaoke! \n🎶 Get ready to sing your heart out starting at 8pm.
URL:https://urbancasual.ca/cochrane-event/karaoke-at-the-venue-2/2027-09-09/
LOCATION:VENUE SPORTSBAR AND GRILL
CATEGORIES:Business,Downtown,Entertainment & Games,Karaoke,Music,Pub/Bar Event,Restaurant
ATTACH;FMTTYPE=image/jpeg:https://urbancasual.ca/wp-content/uploads/2024/07/639697893_17962041261019573_7093083653207156449_n.jpg
END:VEVENT
BEGIN:VEVENT
DTSTART;TZID=America/Edmonton:20270911T210000
DTEND;TZID=America/Edmonton:20270912T020000
DTSTAMP:20260420T000329
CREATED:20260416T172129Z
LAST-MODIFIED:20260416T172129Z
UID:10059413-1820696400-1820714400@urbancasual.ca
SUMMARY:LIVE MUSIC AT THE VENUE
DESCRIPTION:APRIL AT THE VENUE \n\n\nCochrane’s #1 Nightlife Spot\n\n\nNew vibes. Bigger nights. Non-stop entertainment.\n\n\n\n\n\n\n\n\n From country to full party mode \n\n\n EVERY SATURDAY – LIVE BANDS (9PM – 2AM)\n\n\n\nAPRIL 4 – ALLEN CHRISTIE\n(Folk Rock • Soft Pop Rock)\n\n\n\nAPRIL 11 – ROCK BOTTOM\n(70s • 80s • 90s Rock & Roll)\n\n\n\nAPRIL 18 – STATIC\n(Classic Rock Favorites)\n\n\n\nAPRIL 25 – KRANK’D\n(Classic Rock • Hard Rock • Modern Hits)\n\n\n\n Every Saturday = packed dance floor\n\n\n\n\n\n\n\n THE VENUE\n79 Railway St. E\, Cochrane
URL:https://urbancasual.ca/cochrane-event/live-music-at-the-venue-602/2027-09-11/
LOCATION:VENUE SPORTSBAR AND GRILL
CATEGORIES:Adults Only,Downtown,Entertainment & Games,Music,Pub/Bar Event,Restaurant
ATTACH;FMTTYPE=image/jpeg:https://urbancasual.ca/wp-content/uploads/2026/04/657258995_17966147115019573_2071770635758293235_n.jpg
END:VEVENT
BEGIN:VEVENT
DTSTART;TZID=America/Edmonton:20270912T160000
DTEND;TZID=America/Edmonton:20270912T200000
DTSTAMP:20260420T000329
CREATED:20240911T005142Z
LAST-MODIFIED:20240911T005142Z
UID:10035851-1820764800-1820779200@urbancasual.ca
SUMMARY:SUNDAY JAM AT THE VENUE
DESCRIPTION:The Sunday Jam is back at the Venue starting October 6th! \nFeaturing Allen Christie. \nWINGS $10 OFF \nHAPPY HOUR 2PM TO 8PM \n  \n 
URL:https://urbancasual.ca/cochrane-event/sunday-jam-at-the-venue/2027-09-12/
LOCATION:VENUE SPORTSBAR AND GRILL
CATEGORIES:Entertainment & Games,Music
ATTACH;FMTTYPE=image/jpeg:https://urbancasual.ca/wp-content/uploads/2024/09/inbound1307443098528191419.jpg
END:VEVENT
BEGIN:VEVENT
DTSTART;TZID=America/Edmonton:20270916T200000
DTEND;TZID=America/Edmonton:20270916T233000
DTSTAMP:20260420T000330
CREATED:20260312T154426Z
LAST-MODIFIED:20260312T154426Z
UID:10057290-1821124800-1821137400@urbancasual.ca
SUMMARY:KARAOKE AT THE VENUE
DESCRIPTION:🎤🍽 Join us at The Venue this Thursday for a night of delicious food and epic karaoke! \n🎶 Get ready to sing your heart out starting at 8pm.
URL:https://urbancasual.ca/cochrane-event/karaoke-at-the-venue-2/2027-09-16/
LOCATION:VENUE SPORTSBAR AND GRILL
CATEGORIES:Business,Downtown,Entertainment & Games,Karaoke,Music,Pub/Bar Event,Restaurant
ATTACH;FMTTYPE=image/jpeg:https://urbancasual.ca/wp-content/uploads/2024/07/639697893_17962041261019573_7093083653207156449_n.jpg
END:VEVENT
BEGIN:VEVENT
DTSTART;TZID=America/Edmonton:20270918T210000
DTEND;TZID=America/Edmonton:20270919T020000
DTSTAMP:20260420T000330
CREATED:20260416T172129Z
LAST-MODIFIED:20260416T172129Z
UID:10059414-1821301200-1821319200@urbancasual.ca
SUMMARY:LIVE MUSIC AT THE VENUE
DESCRIPTION:APRIL AT THE VENUE \n\n\nCochrane’s #1 Nightlife Spot\n\n\nNew vibes. Bigger nights. Non-stop entertainment.\n\n\n\n\n\n\n\n\n From country to full party mode \n\n\n EVERY SATURDAY – LIVE BANDS (9PM – 2AM)\n\n\n\nAPRIL 4 – ALLEN CHRISTIE\n(Folk Rock • Soft Pop Rock)\n\n\n\nAPRIL 11 – ROCK BOTTOM\n(70s • 80s • 90s Rock & Roll)\n\n\n\nAPRIL 18 – STATIC\n(Classic Rock Favorites)\n\n\n\nAPRIL 25 – KRANK’D\n(Classic Rock • Hard Rock • Modern Hits)\n\n\n\n Every Saturday = packed dance floor\n\n\n\n\n\n\n\n THE VENUE\n79 Railway St. E\, Cochrane
URL:https://urbancasual.ca/cochrane-event/live-music-at-the-venue-602/2027-09-18/
LOCATION:VENUE SPORTSBAR AND GRILL
CATEGORIES:Adults Only,Downtown,Entertainment & Games,Music,Pub/Bar Event,Restaurant
ATTACH;FMTTYPE=image/jpeg:https://urbancasual.ca/wp-content/uploads/2026/04/657258995_17966147115019573_2071770635758293235_n.jpg
END:VEVENT
BEGIN:VEVENT
DTSTART;TZID=America/Edmonton:20270919T160000
DTEND;TZID=America/Edmonton:20270919T200000
DTSTAMP:20260420T000330
CREATED:20240911T005142Z
LAST-MODIFIED:20240911T005142Z
UID:10035852-1821369600-1821384000@urbancasual.ca
SUMMARY:SUNDAY JAM AT THE VENUE
DESCRIPTION:The Sunday Jam is back at the Venue starting October 6th! \nFeaturing Allen Christie. \nWINGS $10 OFF \nHAPPY HOUR 2PM TO 8PM \n  \n 
URL:https://urbancasual.ca/cochrane-event/sunday-jam-at-the-venue/2027-09-19/
LOCATION:VENUE SPORTSBAR AND GRILL
CATEGORIES:Entertainment & Games,Music
ATTACH;FMTTYPE=image/jpeg:https://urbancasual.ca/wp-content/uploads/2024/09/inbound1307443098528191419.jpg
END:VEVENT
BEGIN:VEVENT
DTSTART;TZID=America/Edmonton:20270923T200000
DTEND;TZID=America/Edmonton:20270923T233000
DTSTAMP:20260420T000330
CREATED:20260312T154426Z
LAST-MODIFIED:20260312T154426Z
UID:10057291-1821729600-1821742200@urbancasual.ca
SUMMARY:KARAOKE AT THE VENUE
DESCRIPTION:🎤🍽 Join us at The Venue this Thursday for a night of delicious food and epic karaoke! \n🎶 Get ready to sing your heart out starting at 8pm.
URL:https://urbancasual.ca/cochrane-event/karaoke-at-the-venue-2/2027-09-23/
LOCATION:VENUE SPORTSBAR AND GRILL
CATEGORIES:Business,Downtown,Entertainment & Games,Karaoke,Music,Pub/Bar Event,Restaurant
ATTACH;FMTTYPE=image/jpeg:https://urbancasual.ca/wp-content/uploads/2024/07/639697893_17962041261019573_7093083653207156449_n.jpg
END:VEVENT
BEGIN:VEVENT
DTSTART;TZID=America/Edmonton:20270925T210000
DTEND;TZID=America/Edmonton:20270926T020000
DTSTAMP:20260420T000330
CREATED:20260416T172129Z
LAST-MODIFIED:20260416T172129Z
UID:10059415-1821906000-1821924000@urbancasual.ca
SUMMARY:LIVE MUSIC AT THE VENUE
DESCRIPTION:APRIL AT THE VENUE \n\n\nCochrane’s #1 Nightlife Spot\n\n\nNew vibes. Bigger nights. Non-stop entertainment.\n\n\n\n\n\n\n\n\n From country to full party mode \n\n\n EVERY SATURDAY – LIVE BANDS (9PM – 2AM)\n\n\n\nAPRIL 4 – ALLEN CHRISTIE\n(Folk Rock • Soft Pop Rock)\n\n\n\nAPRIL 11 – ROCK BOTTOM\n(70s • 80s • 90s Rock & Roll)\n\n\n\nAPRIL 18 – STATIC\n(Classic Rock Favorites)\n\n\n\nAPRIL 25 – KRANK’D\n(Classic Rock • Hard Rock • Modern Hits)\n\n\n\n Every Saturday = packed dance floor\n\n\n\n\n\n\n\n THE VENUE\n79 Railway St. E\, Cochrane
URL:https://urbancasual.ca/cochrane-event/live-music-at-the-venue-602/2027-09-25/
LOCATION:VENUE SPORTSBAR AND GRILL
CATEGORIES:Adults Only,Downtown,Entertainment & Games,Music,Pub/Bar Event,Restaurant
ATTACH;FMTTYPE=image/jpeg:https://urbancasual.ca/wp-content/uploads/2026/04/657258995_17966147115019573_2071770635758293235_n.jpg
END:VEVENT
BEGIN:VEVENT
DTSTART;TZID=America/Edmonton:20270926T160000
DTEND;TZID=America/Edmonton:20270926T200000
DTSTAMP:20260420T000330
CREATED:20240911T005142Z
LAST-MODIFIED:20240911T005142Z
UID:10035853-1821974400-1821988800@urbancasual.ca
SUMMARY:SUNDAY JAM AT THE VENUE
DESCRIPTION:The Sunday Jam is back at the Venue starting October 6th! \nFeaturing Allen Christie. \nWINGS $10 OFF \nHAPPY HOUR 2PM TO 8PM \n  \n 
URL:https://urbancasual.ca/cochrane-event/sunday-jam-at-the-venue/2027-09-26/
LOCATION:VENUE SPORTSBAR AND GRILL
CATEGORIES:Entertainment & Games,Music
ATTACH;FMTTYPE=image/jpeg:https://urbancasual.ca/wp-content/uploads/2024/09/inbound1307443098528191419.jpg
END:VEVENT
END:VCALENDAR