BEGIN:VCALENDAR
VERSION:2.0
PRODID:-//Urbancasual.ca - ECPv6.15.20//NONSGML v1.0//EN
CALSCALE:GREGORIAN
METHOD:PUBLISH
X-WR-CALNAME:Urbancasual.ca
X-ORIGINAL-URL:https://urbancasual.ca
X-WR-CALDESC:Events for Urbancasual.ca
REFRESH-INTERVAL;VALUE=DURATION:PT1H
X-Robots-Tag:noindex
X-PUBLISHED-TTL:PT1H
BEGIN:VTIMEZONE
TZID:America/Edmonton
BEGIN:DAYLIGHT
TZOFFSETFROM:-0700
TZOFFSETTO:-0600
TZNAME:MDT
DTSTART:20230312T090000
END:DAYLIGHT
BEGIN:STANDARD
TZOFFSETFROM:-0600
TZOFFSETTO:-0700
TZNAME:MST
DTSTART:20231105T080000
END:STANDARD
BEGIN:DAYLIGHT
TZOFFSETFROM:-0700
TZOFFSETTO:-0600
TZNAME:MDT
DTSTART:20240310T090000
END:DAYLIGHT
BEGIN:STANDARD
TZOFFSETFROM:-0600
TZOFFSETTO:-0700
TZNAME:MST
DTSTART:20241103T080000
END:STANDARD
BEGIN:DAYLIGHT
TZOFFSETFROM:-0700
TZOFFSETTO:-0600
TZNAME:MDT
DTSTART:20250309T090000
END:DAYLIGHT
BEGIN:STANDARD
TZOFFSETFROM:-0600
TZOFFSETTO:-0700
TZNAME:MST
DTSTART:20251102T080000
END:STANDARD
BEGIN:DAYLIGHT
TZOFFSETFROM:-0700
TZOFFSETTO:-0600
TZNAME:MDT
DTSTART:20260308T090000
END:DAYLIGHT
BEGIN:STANDARD
TZOFFSETFROM:-0600
TZOFFSETTO:-0700
TZNAME:MST
DTSTART:20261101T080000
END:STANDARD
END:VTIMEZONE
BEGIN:VEVENT
DTSTART;TZID=America/Edmonton:20250111T210000
DTEND;TZID=America/Edmonton:20250111T233000
DTSTAMP:20260424T155901
CREATED:20250109T184322Z
LAST-MODIFIED:20250109T184322Z
UID:10041721-1736629200-1736638200@urbancasual.ca
SUMMARY:LIVE MUSIC AT THE VENUE
DESCRIPTION:Rocky Mountain Maniacs are back in their hometown!
URL:https://urbancasual.ca/cochrane-event/live-music-at-the-venue-2/
LOCATION:Venue Bar & Grill\, 79 Railway St E\, Cochrane\, AB\, Canada
CATEGORIES:Adults Only,Business,Downtown,Entertainment & Games,Music,Pub/Bar Event
ATTACH;FMTTYPE=image/jpeg:https://urbancasual.ca/wp-content/uploads/2025/01/472776393_1141974624603106_4546272769955532540_n.jpg
END:VEVENT
BEGIN:VEVENT
DTSTART;TZID=America/Edmonton:20241218T140000
DTEND;TZID=America/Edmonton:20241218T160000
DTSTAMP:20260424T155901
CREATED:20240325T212343Z
LAST-MODIFIED:20240619T201127Z
UID:10026267-1734530400-1734537600@urbancasual.ca
SUMMARY:COCHRANE BABY BOOMERS COFFEE CLUB
DESCRIPTION:EVERY WEDNESDAY – JOIN US AT ONE OR BOTH GROUPS! \nGROUP 1 – 9 TO 11AM AT THE LEGION – 114 FIFTH AVENUE \nGROUP 2 – 2 TO 4PM AT THE VENUE – 79 RAILWAY ST.
URL:https://urbancasual.ca/cochrane-event/cochrane-baby-boomers-coffee-club-2/2024-12-18/
LOCATION:Venue Bar & Grill\, 79 Railway St E\, Cochrane\, AB\, Canada
CATEGORIES:Club,Community,Entertainment & Games,Newcomers,Pub/Bar Event,Seniors
ATTACH;FMTTYPE=image/jpeg:https://urbancasual.ca/wp-content/uploads/2024/03/434241669_414630964545703_5340421825823485419_n.jpg
END:VEVENT
BEGIN:VEVENT
DTSTART;TZID=America/Edmonton:20241211T140000
DTEND;TZID=America/Edmonton:20241211T160000
DTSTAMP:20260424T155901
CREATED:20240325T212343Z
LAST-MODIFIED:20240619T201127Z
UID:10026266-1733925600-1733932800@urbancasual.ca
SUMMARY:COCHRANE BABY BOOMERS COFFEE CLUB
DESCRIPTION:EVERY WEDNESDAY – JOIN US AT ONE OR BOTH GROUPS! \nGROUP 1 – 9 TO 11AM AT THE LEGION – 114 FIFTH AVENUE \nGROUP 2 – 2 TO 4PM AT THE VENUE – 79 RAILWAY ST.
URL:https://urbancasual.ca/cochrane-event/cochrane-baby-boomers-coffee-club-2/2024-12-11/
LOCATION:Venue Bar & Grill\, 79 Railway St E\, Cochrane\, AB\, Canada
CATEGORIES:Club,Community,Entertainment & Games,Newcomers,Pub/Bar Event,Seniors
ATTACH;FMTTYPE=image/jpeg:https://urbancasual.ca/wp-content/uploads/2024/03/434241669_414630964545703_5340421825823485419_n.jpg
END:VEVENT
BEGIN:VEVENT
DTSTART;TZID=America/Edmonton:20241204T140000
DTEND;TZID=America/Edmonton:20241204T160000
DTSTAMP:20260424T155901
CREATED:20240325T212343Z
LAST-MODIFIED:20240619T201127Z
UID:10026265-1733320800-1733328000@urbancasual.ca
SUMMARY:COCHRANE BABY BOOMERS COFFEE CLUB
DESCRIPTION:EVERY WEDNESDAY – JOIN US AT ONE OR BOTH GROUPS! \nGROUP 1 – 9 TO 11AM AT THE LEGION – 114 FIFTH AVENUE \nGROUP 2 – 2 TO 4PM AT THE VENUE – 79 RAILWAY ST.
URL:https://urbancasual.ca/cochrane-event/cochrane-baby-boomers-coffee-club-2/2024-12-04/
LOCATION:Venue Bar & Grill\, 79 Railway St E\, Cochrane\, AB\, Canada
CATEGORIES:Club,Community,Entertainment & Games,Newcomers,Pub/Bar Event,Seniors
ATTACH;FMTTYPE=image/jpeg:https://urbancasual.ca/wp-content/uploads/2024/03/434241669_414630964545703_5340421825823485419_n.jpg
END:VEVENT
BEGIN:VEVENT
DTSTART;TZID=America/Edmonton:20241127T140000
DTEND;TZID=America/Edmonton:20241127T160000
DTSTAMP:20260424T155901
CREATED:20240325T212343Z
LAST-MODIFIED:20240619T201127Z
UID:10026264-1732716000-1732723200@urbancasual.ca
SUMMARY:COCHRANE BABY BOOMERS COFFEE CLUB
DESCRIPTION:EVERY WEDNESDAY – JOIN US AT ONE OR BOTH GROUPS! \nGROUP 1 – 9 TO 11AM AT THE LEGION – 114 FIFTH AVENUE \nGROUP 2 – 2 TO 4PM AT THE VENUE – 79 RAILWAY ST.
URL:https://urbancasual.ca/cochrane-event/cochrane-baby-boomers-coffee-club-2/2024-11-27/
LOCATION:Venue Bar & Grill\, 79 Railway St E\, Cochrane\, AB\, Canada
CATEGORIES:Club,Community,Entertainment & Games,Newcomers,Pub/Bar Event,Seniors
ATTACH;FMTTYPE=image/jpeg:https://urbancasual.ca/wp-content/uploads/2024/03/434241669_414630964545703_5340421825823485419_n.jpg
END:VEVENT
BEGIN:VEVENT
DTSTART;TZID=America/Edmonton:20241120T140000
DTEND;TZID=America/Edmonton:20241120T160000
DTSTAMP:20260424T155901
CREATED:20240325T212343Z
LAST-MODIFIED:20240619T201127Z
UID:10026263-1732111200-1732118400@urbancasual.ca
SUMMARY:COCHRANE BABY BOOMERS COFFEE CLUB
DESCRIPTION:EVERY WEDNESDAY – JOIN US AT ONE OR BOTH GROUPS! \nGROUP 1 – 9 TO 11AM AT THE LEGION – 114 FIFTH AVENUE \nGROUP 2 – 2 TO 4PM AT THE VENUE – 79 RAILWAY ST.
URL:https://urbancasual.ca/cochrane-event/cochrane-baby-boomers-coffee-club-2/2024-11-20/
LOCATION:Venue Bar & Grill\, 79 Railway St E\, Cochrane\, AB\, Canada
CATEGORIES:Club,Community,Entertainment & Games,Newcomers,Pub/Bar Event,Seniors
ATTACH;FMTTYPE=image/jpeg:https://urbancasual.ca/wp-content/uploads/2024/03/434241669_414630964545703_5340421825823485419_n.jpg
END:VEVENT
BEGIN:VEVENT
DTSTART;TZID=America/Edmonton:20241113T140000
DTEND;TZID=America/Edmonton:20241113T160000
DTSTAMP:20260424T155901
CREATED:20240325T212343Z
LAST-MODIFIED:20240619T201127Z
UID:10026262-1731506400-1731513600@urbancasual.ca
SUMMARY:COCHRANE BABY BOOMERS COFFEE CLUB
DESCRIPTION:EVERY WEDNESDAY – JOIN US AT ONE OR BOTH GROUPS! \nGROUP 1 – 9 TO 11AM AT THE LEGION – 114 FIFTH AVENUE \nGROUP 2 – 2 TO 4PM AT THE VENUE – 79 RAILWAY ST.
URL:https://urbancasual.ca/cochrane-event/cochrane-baby-boomers-coffee-club-2/2024-11-13/
LOCATION:Venue Bar & Grill\, 79 Railway St E\, Cochrane\, AB\, Canada
CATEGORIES:Club,Community,Entertainment & Games,Newcomers,Pub/Bar Event,Seniors
ATTACH;FMTTYPE=image/jpeg:https://urbancasual.ca/wp-content/uploads/2024/03/434241669_414630964545703_5340421825823485419_n.jpg
END:VEVENT
BEGIN:VEVENT
DTSTART;TZID=America/Edmonton:20241106T140000
DTEND;TZID=America/Edmonton:20241106T160000
DTSTAMP:20260424T155901
CREATED:20240325T212343Z
LAST-MODIFIED:20240619T201127Z
UID:10026261-1730901600-1730908800@urbancasual.ca
SUMMARY:COCHRANE BABY BOOMERS COFFEE CLUB
DESCRIPTION:EVERY WEDNESDAY – JOIN US AT ONE OR BOTH GROUPS! \nGROUP 1 – 9 TO 11AM AT THE LEGION – 114 FIFTH AVENUE \nGROUP 2 – 2 TO 4PM AT THE VENUE – 79 RAILWAY ST.
URL:https://urbancasual.ca/cochrane-event/cochrane-baby-boomers-coffee-club-2/2024-11-06/
LOCATION:Venue Bar & Grill\, 79 Railway St E\, Cochrane\, AB\, Canada
CATEGORIES:Club,Community,Entertainment & Games,Newcomers,Pub/Bar Event,Seniors
ATTACH;FMTTYPE=image/jpeg:https://urbancasual.ca/wp-content/uploads/2024/03/434241669_414630964545703_5340421825823485419_n.jpg
END:VEVENT
BEGIN:VEVENT
DTSTART;TZID=America/Edmonton:20241030T140000
DTEND;TZID=America/Edmonton:20241030T160000
DTSTAMP:20260424T155901
CREATED:20240325T212343Z
LAST-MODIFIED:20240619T201127Z
UID:10026260-1730296800-1730304000@urbancasual.ca
SUMMARY:COCHRANE BABY BOOMERS COFFEE CLUB
DESCRIPTION:EVERY WEDNESDAY – JOIN US AT ONE OR BOTH GROUPS! \nGROUP 1 – 9 TO 11AM AT THE LEGION – 114 FIFTH AVENUE \nGROUP 2 – 2 TO 4PM AT THE VENUE – 79 RAILWAY ST.
URL:https://urbancasual.ca/cochrane-event/cochrane-baby-boomers-coffee-club-2/2024-10-30/
LOCATION:Venue Bar & Grill\, 79 Railway St E\, Cochrane\, AB\, Canada
CATEGORIES:Club,Community,Entertainment & Games,Newcomers,Pub/Bar Event,Seniors
ATTACH;FMTTYPE=image/jpeg:https://urbancasual.ca/wp-content/uploads/2024/03/434241669_414630964545703_5340421825823485419_n.jpg
END:VEVENT
BEGIN:VEVENT
DTSTART;TZID=America/Edmonton:20241023T140000
DTEND;TZID=America/Edmonton:20241023T160000
DTSTAMP:20260424T155901
CREATED:20240325T212343Z
LAST-MODIFIED:20240619T201127Z
UID:10026259-1729692000-1729699200@urbancasual.ca
SUMMARY:COCHRANE BABY BOOMERS COFFEE CLUB
DESCRIPTION:EVERY WEDNESDAY – JOIN US AT ONE OR BOTH GROUPS! \nGROUP 1 – 9 TO 11AM AT THE LEGION – 114 FIFTH AVENUE \nGROUP 2 – 2 TO 4PM AT THE VENUE – 79 RAILWAY ST.
URL:https://urbancasual.ca/cochrane-event/cochrane-baby-boomers-coffee-club-2/2024-10-23/
LOCATION:Venue Bar & Grill\, 79 Railway St E\, Cochrane\, AB\, Canada
CATEGORIES:Club,Community,Entertainment & Games,Newcomers,Pub/Bar Event,Seniors
ATTACH;FMTTYPE=image/jpeg:https://urbancasual.ca/wp-content/uploads/2024/03/434241669_414630964545703_5340421825823485419_n.jpg
END:VEVENT
BEGIN:VEVENT
DTSTART;TZID=America/Edmonton:20241016T140000
DTEND;TZID=America/Edmonton:20241016T160000
DTSTAMP:20260424T155901
CREATED:20240325T212343Z
LAST-MODIFIED:20240619T201127Z
UID:10026258-1729087200-1729094400@urbancasual.ca
SUMMARY:COCHRANE BABY BOOMERS COFFEE CLUB
DESCRIPTION:EVERY WEDNESDAY – JOIN US AT ONE OR BOTH GROUPS! \nGROUP 1 – 9 TO 11AM AT THE LEGION – 114 FIFTH AVENUE \nGROUP 2 – 2 TO 4PM AT THE VENUE – 79 RAILWAY ST.
URL:https://urbancasual.ca/cochrane-event/cochrane-baby-boomers-coffee-club-2/2024-10-16/
LOCATION:Venue Bar & Grill\, 79 Railway St E\, Cochrane\, AB\, Canada
CATEGORIES:Club,Community,Entertainment & Games,Newcomers,Pub/Bar Event,Seniors
ATTACH;FMTTYPE=image/jpeg:https://urbancasual.ca/wp-content/uploads/2024/03/434241669_414630964545703_5340421825823485419_n.jpg
END:VEVENT
BEGIN:VEVENT
DTSTART;TZID=America/Edmonton:20241009T140000
DTEND;TZID=America/Edmonton:20241009T160000
DTSTAMP:20260424T155901
CREATED:20240325T212343Z
LAST-MODIFIED:20240619T201127Z
UID:10026257-1728482400-1728489600@urbancasual.ca
SUMMARY:COCHRANE BABY BOOMERS COFFEE CLUB
DESCRIPTION:EVERY WEDNESDAY – JOIN US AT ONE OR BOTH GROUPS! \nGROUP 1 – 9 TO 11AM AT THE LEGION – 114 FIFTH AVENUE \nGROUP 2 – 2 TO 4PM AT THE VENUE – 79 RAILWAY ST.
URL:https://urbancasual.ca/cochrane-event/cochrane-baby-boomers-coffee-club-2/2024-10-09/
LOCATION:Venue Bar & Grill\, 79 Railway St E\, Cochrane\, AB\, Canada
CATEGORIES:Club,Community,Entertainment & Games,Newcomers,Pub/Bar Event,Seniors
ATTACH;FMTTYPE=image/jpeg:https://urbancasual.ca/wp-content/uploads/2024/03/434241669_414630964545703_5340421825823485419_n.jpg
END:VEVENT
BEGIN:VEVENT
DTSTART;TZID=America/Edmonton:20241002T140000
DTEND;TZID=America/Edmonton:20241002T160000
DTSTAMP:20260424T155901
CREATED:20240325T212343Z
LAST-MODIFIED:20240619T201127Z
UID:10026256-1727877600-1727884800@urbancasual.ca
SUMMARY:COCHRANE BABY BOOMERS COFFEE CLUB
DESCRIPTION:EVERY WEDNESDAY – JOIN US AT ONE OR BOTH GROUPS! \nGROUP 1 – 9 TO 11AM AT THE LEGION – 114 FIFTH AVENUE \nGROUP 2 – 2 TO 4PM AT THE VENUE – 79 RAILWAY ST.
URL:https://urbancasual.ca/cochrane-event/cochrane-baby-boomers-coffee-club-2/2024-10-02/
LOCATION:Venue Bar & Grill\, 79 Railway St E\, Cochrane\, AB\, Canada
CATEGORIES:Club,Community,Entertainment & Games,Newcomers,Pub/Bar Event,Seniors
ATTACH;FMTTYPE=image/jpeg:https://urbancasual.ca/wp-content/uploads/2024/03/434241669_414630964545703_5340421825823485419_n.jpg
END:VEVENT
BEGIN:VEVENT
DTSTART;TZID=America/Edmonton:20240929T190000
DTEND;TZID=America/Edmonton:20240929T230000
DTSTAMP:20260424T155901
CREATED:20240903T205720Z
LAST-MODIFIED:20240903T205720Z
UID:10035652-1727636400-1727650800@urbancasual.ca
SUMMARY:LATIN DANCE AT THE VENUE
DESCRIPTION:LATIN DANCE – SALSA\, BACHATA\, MEREQUE\, CUMBIA + MORE \nSEPTEMBER 29TH WITH DJ PACHINO \nLESSON 7PM TO 7:30PM \nDANCE UNTIL 11PM \nNO COVER CHARGE
URL:https://urbancasual.ca/cochrane-event/latin-dance-at-the-venue/
LOCATION:Venue Bar & Grill\, 79 Railway St E\, Cochrane\, AB\, Canada
CATEGORIES:Adults Only,Dance,Entertainment & Games,Learning,Pub/Bar Event,Restaurant
ATTACH;FMTTYPE=image/jpeg:https://urbancasual.ca/wp-content/uploads/2024/09/458271354_17901962079019573_7783067937994933023_n.jpg
END:VEVENT
BEGIN:VEVENT
DTSTART;TZID=America/Edmonton:20240928T203000
DTEND;TZID=America/Edmonton:20240928T235900
DTSTAMP:20260424T155901
CREATED:20240823T155727Z
LAST-MODIFIED:20240917T161400Z
UID:10035651-1727555400-1727567940@urbancasual.ca
SUMMARY:Live Music at the Venue
DESCRIPTION:SEPTEMBER 6 /7 – SIRENS’ GATE \nSEPTEMBER 13 / 14 – BLACK LIGHT \nSEPTEMBER 20 – SLACK ALICE \nSEPTEMBER 21 – ROCK BOTTOM \nSEPTEMBER 27 / 28 – JEFF CATTO \n 
URL:https://urbancasual.ca/cochrane-event/live-music-at-the-venue/2024-09-28/
LOCATION:Venue Bar & Grill\, 79 Railway St E\, Cochrane\, AB\, Canada
CATEGORIES:Downtown,Entertainment & Games,Music,Pub/Bar Event,Restaurant
ATTACH;FMTTYPE=image/jpeg:https://urbancasual.ca/wp-content/uploads/2024/08/458334436_17902049475019573_1136524907138365792_n.jpg
END:VEVENT
BEGIN:VEVENT
DTSTART;TZID=America/Edmonton:20240927T203000
DTEND;TZID=America/Edmonton:20240927T235900
DTSTAMP:20260424T155901
CREATED:20240823T155727Z
LAST-MODIFIED:20240917T161400Z
UID:10035650-1727469000-1727481540@urbancasual.ca
SUMMARY:Live Music at the Venue
DESCRIPTION:SEPTEMBER 6 /7 – SIRENS’ GATE \nSEPTEMBER 13 / 14 – BLACK LIGHT \nSEPTEMBER 20 – SLACK ALICE \nSEPTEMBER 21 – ROCK BOTTOM \nSEPTEMBER 27 / 28 – JEFF CATTO \n 
URL:https://urbancasual.ca/cochrane-event/live-music-at-the-venue/2024-09-27/
LOCATION:Venue Bar & Grill\, 79 Railway St E\, Cochrane\, AB\, Canada
CATEGORIES:Downtown,Entertainment & Games,Music,Pub/Bar Event,Restaurant
ATTACH;FMTTYPE=image/jpeg:https://urbancasual.ca/wp-content/uploads/2024/08/458334436_17902049475019573_1136524907138365792_n.jpg
END:VEVENT
BEGIN:VEVENT
DTSTART;TZID=America/Edmonton:20240925T140000
DTEND;TZID=America/Edmonton:20240925T160000
DTSTAMP:20260424T155901
CREATED:20240325T212343Z
LAST-MODIFIED:20240619T201127Z
UID:10026255-1727272800-1727280000@urbancasual.ca
SUMMARY:COCHRANE BABY BOOMERS COFFEE CLUB
DESCRIPTION:EVERY WEDNESDAY – JOIN US AT ONE OR BOTH GROUPS! \nGROUP 1 – 9 TO 11AM AT THE LEGION – 114 FIFTH AVENUE \nGROUP 2 – 2 TO 4PM AT THE VENUE – 79 RAILWAY ST.
URL:https://urbancasual.ca/cochrane-event/cochrane-baby-boomers-coffee-club-2/2024-09-25/
LOCATION:Venue Bar & Grill\, 79 Railway St E\, Cochrane\, AB\, Canada
CATEGORIES:Club,Community,Entertainment & Games,Newcomers,Pub/Bar Event,Seniors
ATTACH;FMTTYPE=image/jpeg:https://urbancasual.ca/wp-content/uploads/2024/03/434241669_414630964545703_5340421825823485419_n.jpg
END:VEVENT
BEGIN:VEVENT
DTSTART;TZID=America/Edmonton:20240921T203000
DTEND;TZID=America/Edmonton:20240921T235900
DTSTAMP:20260424T155901
CREATED:20240823T155727Z
LAST-MODIFIED:20240917T161400Z
UID:10035649-1726950600-1726963140@urbancasual.ca
SUMMARY:Live Music at the Venue
DESCRIPTION:SEPTEMBER 6 /7 – SIRENS’ GATE \nSEPTEMBER 13 / 14 – BLACK LIGHT \nSEPTEMBER 20 – SLACK ALICE \nSEPTEMBER 21 – ROCK BOTTOM \nSEPTEMBER 27 / 28 – JEFF CATTO \n 
URL:https://urbancasual.ca/cochrane-event/live-music-at-the-venue/2024-09-21/
LOCATION:Venue Bar & Grill\, 79 Railway St E\, Cochrane\, AB\, Canada
CATEGORIES:Downtown,Entertainment & Games,Music,Pub/Bar Event,Restaurant
ATTACH;FMTTYPE=image/jpeg:https://urbancasual.ca/wp-content/uploads/2024/08/458334436_17902049475019573_1136524907138365792_n.jpg
END:VEVENT
BEGIN:VEVENT
DTSTART;TZID=America/Edmonton:20240920T203000
DTEND;TZID=America/Edmonton:20240920T235900
DTSTAMP:20260424T155901
CREATED:20240823T155727Z
LAST-MODIFIED:20240917T161400Z
UID:10035648-1726864200-1726876740@urbancasual.ca
SUMMARY:Live Music at the Venue
DESCRIPTION:SEPTEMBER 6 /7 – SIRENS’ GATE \nSEPTEMBER 13 / 14 – BLACK LIGHT \nSEPTEMBER 20 – SLACK ALICE \nSEPTEMBER 21 – ROCK BOTTOM \nSEPTEMBER 27 / 28 – JEFF CATTO \n 
URL:https://urbancasual.ca/cochrane-event/live-music-at-the-venue/2024-09-20/
LOCATION:Venue Bar & Grill\, 79 Railway St E\, Cochrane\, AB\, Canada
CATEGORIES:Downtown,Entertainment & Games,Music,Pub/Bar Event,Restaurant
ATTACH;FMTTYPE=image/jpeg:https://urbancasual.ca/wp-content/uploads/2024/08/458334436_17902049475019573_1136524907138365792_n.jpg
END:VEVENT
BEGIN:VEVENT
DTSTART;TZID=America/Edmonton:20240918T140000
DTEND;TZID=America/Edmonton:20240918T160000
DTSTAMP:20260424T155901
CREATED:20240325T212343Z
LAST-MODIFIED:20240619T201127Z
UID:10026254-1726668000-1726675200@urbancasual.ca
SUMMARY:COCHRANE BABY BOOMERS COFFEE CLUB
DESCRIPTION:EVERY WEDNESDAY – JOIN US AT ONE OR BOTH GROUPS! \nGROUP 1 – 9 TO 11AM AT THE LEGION – 114 FIFTH AVENUE \nGROUP 2 – 2 TO 4PM AT THE VENUE – 79 RAILWAY ST.
URL:https://urbancasual.ca/cochrane-event/cochrane-baby-boomers-coffee-club-2/2024-09-18/
LOCATION:Venue Bar & Grill\, 79 Railway St E\, Cochrane\, AB\, Canada
CATEGORIES:Club,Community,Entertainment & Games,Newcomers,Pub/Bar Event,Seniors
ATTACH;FMTTYPE=image/jpeg:https://urbancasual.ca/wp-content/uploads/2024/03/434241669_414630964545703_5340421825823485419_n.jpg
END:VEVENT
BEGIN:VEVENT
DTSTART;TZID=America/Edmonton:20240914T203000
DTEND;TZID=America/Edmonton:20240914T235900
DTSTAMP:20260424T155901
CREATED:20240823T155727Z
LAST-MODIFIED:20240917T161400Z
UID:10035647-1726345800-1726358340@urbancasual.ca
SUMMARY:Live Music at the Venue
DESCRIPTION:SEPTEMBER 6 /7 – SIRENS’ GATE \nSEPTEMBER 13 / 14 – BLACK LIGHT \nSEPTEMBER 20 – SLACK ALICE \nSEPTEMBER 21 – ROCK BOTTOM \nSEPTEMBER 27 / 28 – JEFF CATTO \n 
URL:https://urbancasual.ca/cochrane-event/live-music-at-the-venue/2024-09-14/
LOCATION:Venue Bar & Grill\, 79 Railway St E\, Cochrane\, AB\, Canada
CATEGORIES:Downtown,Entertainment & Games,Music,Pub/Bar Event,Restaurant
ATTACH;FMTTYPE=image/jpeg:https://urbancasual.ca/wp-content/uploads/2024/08/458334436_17902049475019573_1136524907138365792_n.jpg
END:VEVENT
BEGIN:VEVENT
DTSTART;TZID=America/Edmonton:20240913T203000
DTEND;TZID=America/Edmonton:20240913T235900
DTSTAMP:20260424T155901
CREATED:20240823T155727Z
LAST-MODIFIED:20240917T161400Z
UID:10035646-1726259400-1726271940@urbancasual.ca
SUMMARY:Live Music at the Venue
DESCRIPTION:SEPTEMBER 6 /7 – SIRENS’ GATE \nSEPTEMBER 13 / 14 – BLACK LIGHT \nSEPTEMBER 20 – SLACK ALICE \nSEPTEMBER 21 – ROCK BOTTOM \nSEPTEMBER 27 / 28 – JEFF CATTO \n 
URL:https://urbancasual.ca/cochrane-event/live-music-at-the-venue/2024-09-13/
LOCATION:Venue Bar & Grill\, 79 Railway St E\, Cochrane\, AB\, Canada
CATEGORIES:Downtown,Entertainment & Games,Music,Pub/Bar Event,Restaurant
ATTACH;FMTTYPE=image/jpeg:https://urbancasual.ca/wp-content/uploads/2024/08/458334436_17902049475019573_1136524907138365792_n.jpg
END:VEVENT
BEGIN:VEVENT
DTSTART;TZID=America/Edmonton:20240911T140000
DTEND;TZID=America/Edmonton:20240911T160000
DTSTAMP:20260424T155901
CREATED:20240325T212343Z
LAST-MODIFIED:20240619T201127Z
UID:10026253-1726063200-1726070400@urbancasual.ca
SUMMARY:COCHRANE BABY BOOMERS COFFEE CLUB
DESCRIPTION:EVERY WEDNESDAY – JOIN US AT ONE OR BOTH GROUPS! \nGROUP 1 – 9 TO 11AM AT THE LEGION – 114 FIFTH AVENUE \nGROUP 2 – 2 TO 4PM AT THE VENUE – 79 RAILWAY ST.
URL:https://urbancasual.ca/cochrane-event/cochrane-baby-boomers-coffee-club-2/2024-09-11/
LOCATION:Venue Bar & Grill\, 79 Railway St E\, Cochrane\, AB\, Canada
CATEGORIES:Club,Community,Entertainment & Games,Newcomers,Pub/Bar Event,Seniors
ATTACH;FMTTYPE=image/jpeg:https://urbancasual.ca/wp-content/uploads/2024/03/434241669_414630964545703_5340421825823485419_n.jpg
END:VEVENT
BEGIN:VEVENT
DTSTART;TZID=America/Edmonton:20240907T203000
DTEND;TZID=America/Edmonton:20240907T235900
DTSTAMP:20260424T155901
CREATED:20260424T181649Z
LAST-MODIFIED:20260424T181649Z
UID:10059778-1725741000-1725753540@urbancasual.ca
SUMMARY:Live Music at the Venue
DESCRIPTION:SEPTEMBER 6 /7 – SIRENS’ GATE \nSEPTEMBER 13 / 14 – BLACK LIGHT \nSEPTEMBER 20 – SLACK ALICE \nSEPTEMBER 21 – ROCK BOTTOM \nSEPTEMBER 27 / 28 – JEFF CATTO \n 
URL:https://urbancasual.ca/cochrane-event/live-music-at-the-venue-619/
LOCATION:Venue Bar & Grill\, 79 Railway St E\, Cochrane\, AB\, Canada
CATEGORIES:Downtown,Entertainment & Games,Music,Pub/Bar Event,Restaurant
ATTACH;FMTTYPE=image/jpeg:https://urbancasual.ca/wp-content/uploads/2024/08/458334436_17902049475019573_1136524907138365792_n.jpg
END:VEVENT
BEGIN:VEVENT
DTSTART;TZID=America/Edmonton:20240907T203000
DTEND;TZID=America/Edmonton:20240907T235900
DTSTAMP:20260424T155901
CREATED:20260424T061616Z
LAST-MODIFIED:20260424T061616Z
UID:10059766-1725741000-1725753540@urbancasual.ca
SUMMARY:Live Music at the Venue
DESCRIPTION:SEPTEMBER 6 /7 – SIRENS’ GATE \nSEPTEMBER 13 / 14 – BLACK LIGHT \nSEPTEMBER 20 – SLACK ALICE \nSEPTEMBER 21 – ROCK BOTTOM \nSEPTEMBER 27 / 28 – JEFF CATTO \n 
URL:https://urbancasual.ca/cochrane-event/live-music-at-the-venue-618/
LOCATION:Venue Bar & Grill\, 79 Railway St E\, Cochrane\, AB\, Canada
CATEGORIES:Downtown,Entertainment & Games,Music,Pub/Bar Event,Restaurant
ATTACH;FMTTYPE=image/jpeg:https://urbancasual.ca/wp-content/uploads/2024/08/458334436_17902049475019573_1136524907138365792_n.jpg
END:VEVENT
BEGIN:VEVENT
DTSTART;TZID=America/Edmonton:20240907T203000
DTEND;TZID=America/Edmonton:20240907T235900
DTSTAMP:20260424T155901
CREATED:20260423T181647Z
LAST-MODIFIED:20260423T181647Z
UID:10059763-1725741000-1725753540@urbancasual.ca
SUMMARY:Live Music at the Venue
DESCRIPTION:SEPTEMBER 6 /7 – SIRENS’ GATE \nSEPTEMBER 13 / 14 – BLACK LIGHT \nSEPTEMBER 20 – SLACK ALICE \nSEPTEMBER 21 – ROCK BOTTOM \nSEPTEMBER 27 / 28 – JEFF CATTO \n 
URL:https://urbancasual.ca/cochrane-event/live-music-at-the-venue-617/
LOCATION:Venue Bar & Grill\, 79 Railway St E\, Cochrane\, AB\, Canada
CATEGORIES:Downtown,Entertainment & Games,Music,Pub/Bar Event,Restaurant
ATTACH;FMTTYPE=image/jpeg:https://urbancasual.ca/wp-content/uploads/2024/08/458334436_17902049475019573_1136524907138365792_n.jpg
END:VEVENT
BEGIN:VEVENT
DTSTART;TZID=America/Edmonton:20240907T203000
DTEND;TZID=America/Edmonton:20240907T235900
DTSTAMP:20260424T155901
CREATED:20260423T061613Z
LAST-MODIFIED:20260423T061613Z
UID:10059762-1725741000-1725753540@urbancasual.ca
SUMMARY:Live Music at the Venue
DESCRIPTION:SEPTEMBER 6 /7 – SIRENS’ GATE \nSEPTEMBER 13 / 14 – BLACK LIGHT \nSEPTEMBER 20 – SLACK ALICE \nSEPTEMBER 21 – ROCK BOTTOM \nSEPTEMBER 27 / 28 – JEFF CATTO \n 
URL:https://urbancasual.ca/cochrane-event/live-music-at-the-venue-616/
LOCATION:Venue Bar & Grill\, 79 Railway St E\, Cochrane\, AB\, Canada
CATEGORIES:Downtown,Entertainment & Games,Music,Pub/Bar Event,Restaurant
ATTACH;FMTTYPE=image/jpeg:https://urbancasual.ca/wp-content/uploads/2024/08/458334436_17902049475019573_1136524907138365792_n.jpg
END:VEVENT
BEGIN:VEVENT
DTSTART;TZID=America/Edmonton:20240907T203000
DTEND;TZID=America/Edmonton:20240907T235900
DTSTAMP:20260424T155901
CREATED:20260422T181645Z
LAST-MODIFIED:20260422T181645Z
UID:10059761-1725741000-1725753540@urbancasual.ca
SUMMARY:Live Music at the Venue
DESCRIPTION:SEPTEMBER 6 /7 – SIRENS’ GATE \nSEPTEMBER 13 / 14 – BLACK LIGHT \nSEPTEMBER 20 – SLACK ALICE \nSEPTEMBER 21 – ROCK BOTTOM \nSEPTEMBER 27 / 28 – JEFF CATTO \n 
URL:https://urbancasual.ca/cochrane-event/live-music-at-the-venue-615/
LOCATION:Venue Bar & Grill\, 79 Railway St E\, Cochrane\, AB\, Canada
CATEGORIES:Downtown,Entertainment & Games,Music,Pub/Bar Event,Restaurant
ATTACH;FMTTYPE=image/jpeg:https://urbancasual.ca/wp-content/uploads/2024/08/458334436_17902049475019573_1136524907138365792_n.jpg
END:VEVENT
BEGIN:VEVENT
DTSTART;TZID=America/Edmonton:20240907T203000
DTEND;TZID=America/Edmonton:20240907T235900
DTSTAMP:20260424T155901
CREATED:20260422T061711Z
LAST-MODIFIED:20260422T061711Z
UID:10059759-1725741000-1725753540@urbancasual.ca
SUMMARY:Live Music at the Venue
DESCRIPTION:SEPTEMBER 6 /7 – SIRENS’ GATE \nSEPTEMBER 13 / 14 – BLACK LIGHT \nSEPTEMBER 20 – SLACK ALICE \nSEPTEMBER 21 – ROCK BOTTOM \nSEPTEMBER 27 / 28 – JEFF CATTO \n 
URL:https://urbancasual.ca/cochrane-event/live-music-at-the-venue-614/
LOCATION:Venue Bar & Grill\, 79 Railway St E\, Cochrane\, AB\, Canada
CATEGORIES:Downtown,Entertainment & Games,Music,Pub/Bar Event,Restaurant
ATTACH;FMTTYPE=image/jpeg:https://urbancasual.ca/wp-content/uploads/2024/08/458334436_17902049475019573_1136524907138365792_n.jpg
END:VEVENT
BEGIN:VEVENT
DTSTART;TZID=America/Edmonton:20240907T203000
DTEND;TZID=America/Edmonton:20240907T235900
DTSTAMP:20260424T155901
CREATED:20260421T181614Z
LAST-MODIFIED:20260421T181614Z
UID:10059613-1725741000-1725753540@urbancasual.ca
SUMMARY:Live Music at the Venue
DESCRIPTION:SEPTEMBER 6 /7 – SIRENS’ GATE \nSEPTEMBER 13 / 14 – BLACK LIGHT \nSEPTEMBER 20 – SLACK ALICE \nSEPTEMBER 21 – ROCK BOTTOM \nSEPTEMBER 27 / 28 – JEFF CATTO \n 
URL:https://urbancasual.ca/cochrane-event/live-music-at-the-venue-613/
LOCATION:Venue Bar & Grill\, 79 Railway St E\, Cochrane\, AB\, Canada
CATEGORIES:Downtown,Entertainment & Games,Music,Pub/Bar Event,Restaurant
ATTACH;FMTTYPE=image/jpeg:https://urbancasual.ca/wp-content/uploads/2024/08/458334436_17902049475019573_1136524907138365792_n.jpg
END:VEVENT
END:VCALENDAR