BEGIN:VCALENDAR
VERSION:2.0
PRODID:-//Urbancasual.ca - ECPv6.15.20//NONSGML v1.0//EN
CALSCALE:GREGORIAN
METHOD:PUBLISH
X-ORIGINAL-URL:https://urbancasual.ca
X-WR-CALDESC:Events for Urbancasual.ca
REFRESH-INTERVAL;VALUE=DURATION:PT1H
X-Robots-Tag:noindex
X-PUBLISHED-TTL:PT1H
BEGIN:VTIMEZONE
TZID:America/Edmonton
BEGIN:DAYLIGHT
TZOFFSETFROM:-0700
TZOFFSETTO:-0600
TZNAME:MDT
DTSTART:20240310T090000
END:DAYLIGHT
BEGIN:STANDARD
TZOFFSETFROM:-0600
TZOFFSETTO:-0700
TZNAME:MST
DTSTART:20241103T080000
END:STANDARD
BEGIN:DAYLIGHT
TZOFFSETFROM:-0700
TZOFFSETTO:-0600
TZNAME:MDT
DTSTART:20250309T090000
END:DAYLIGHT
BEGIN:STANDARD
TZOFFSETFROM:-0600
TZOFFSETTO:-0700
TZNAME:MST
DTSTART:20251102T080000
END:STANDARD
BEGIN:DAYLIGHT
TZOFFSETFROM:-0700
TZOFFSETTO:-0600
TZNAME:MDT
DTSTART:20260308T090000
END:DAYLIGHT
BEGIN:STANDARD
TZOFFSETFROM:-0600
TZOFFSETTO:-0700
TZNAME:MST
DTSTART:20261101T080000
END:STANDARD
BEGIN:DAYLIGHT
TZOFFSETFROM:-0700
TZOFFSETTO:-0600
TZNAME:MDT
DTSTART:20270314T090000
END:DAYLIGHT
BEGIN:STANDARD
TZOFFSETFROM:-0600
TZOFFSETTO:-0700
TZNAME:MST
DTSTART:20271107T080000
END:STANDARD
END:VTIMEZONE
BEGIN:VEVENT
DTSTART;TZID=America/Edmonton:20260414T120000
DTEND;TZID=America/Edmonton:20260414T140000
DTSTAMP:20260425T151643
CREATED:20260318T182024Z
LAST-MODIFIED:20260413T150719Z
UID:10057481-1776168000-1776175200@urbancasual.ca
SUMMARY:Cochrane Business Network: AI for Small Businesses
DESCRIPTION:AI for Small Businesses\nSimple ways to save time and work smarter\nArtificial intelligence is becoming part of everyday business – but many entrepreneurs still aren’t sure how to use it in a practical way. \nIn this session\, Dasha White and Vladimir Mosk\, Orange Space AI\, will demonstrate how tools like ChatGPT can become a simple and powerful assistant for business owners. \nUsing real examples\, they will show how AI can help entrepreneurs save time\, organize ideas\, communicate with clients\, and support daily business operations. \nYou’ll learn:\n• Why AI often produces generic answers\n• How to train ChatGPT to understand your business\n• Simple prompting techniques anyone can use\n• How to organize AI with Projects for different tasks\n• Practical examples relevant to everyday small business operations \nThe session will also include a short live demonstration showing how entrepreneurs can start using AI immediately to reduce operational workload and work more efficiently.
URL:https://urbancasual.ca/cochrane-event/cochrane-business-network-ai-for-small-businesses/
LOCATION:The Station at Cochrane Crossing\, 306 Railway St. W\, Cochrane\, AB\, Canada
CATEGORIES:Business,Entrepreneur,Networking
ATTACH;FMTTYPE=image/jpeg:https://urbancasual.ca/wp-content/uploads/2026/04/667949542_1560574816076054_4875759114265429900_n.jpg
END:VEVENT
BEGIN:VEVENT
DTSTART;TZID=America/Edmonton:20260210T120000
DTEND;TZID=America/Edmonton:20260210T140000
DTSTAMP:20260425T151643
CREATED:20260127T204827Z
LAST-MODIFIED:20260127T204827Z
UID:10054205-1770724800-1770732000@urbancasual.ca
SUMMARY:Cochrane Business Network: Overcoming business challenges
DESCRIPTION:Join us for an engaging panel discussion\, featuring three local business owners\, who will share how they started\, grew and continue to thrive right here in Cochrane: \nShane Kinch – Steelhead Ventures\nKarlene Myers – My5Group\nDave Couch – World Financial Group Insurance \nHear their real stories – the ups and downs\, challenges and successes – and gain valuable insights from those who’ve built strong businesses in our community. \nBring your questions\, learn from lived experience and walk away with ideas you can apply to your own business. \nWe look forward to seeing you there!
URL:https://urbancasual.ca/cochrane-event/cochrane-business-network-overcoming-business-challenges/
LOCATION:The Station at Cochrane Crossing\, 306 Railway St. W\, Cochrane\, AB\, Canada
CATEGORIES:Business,Learning,Networking
ATTACH;FMTTYPE=image/jpeg:https://urbancasual.ca/wp-content/uploads/2026/01/FebCBNpanel.jpg
END:VEVENT
BEGIN:VEVENT
DTSTART;TZID=America/Edmonton:20251118T120000
DTEND;TZID=America/Edmonton:20251118T140000
DTSTAMP:20260425T151643
CREATED:20251106T180823Z
LAST-MODIFIED:20251106T180823Z
UID:10051150-1763467200-1763474400@urbancasual.ca
SUMMARY:Cochrane Business Network: November session with Martin Parnell
DESCRIPTION:Finish the Race Attitude: Goal Setting for 2026 \nLearn how to set goals that are realistic yet challenging\, build supportive teams\, and stay motivated through obstacles. \nThis inspiring session will help you celebrate successes\, learn from challenges and enjoy the journey toward your goals. \nJoin us to learn\, connect\, and be entered into a draw to win one of three books by Martin! \nTuesday\, November 18\, 12pm-2pm at The Station. $15pp \nAbout Martin Parnell: \nAfter a 25-year career in mining\, Martin launched his Quests for Kids initiative\, completing 10 endurance challenges — including 250 marathons in one year — and raising over $1.3 million for Right To Play; helping 27\,000 children gain access to sport and education. \nHe’s the author of three books and Executive Producer of The Secret Marathon documentary\, inspiring audiences to set goals\, overcome obstacles and “finish the race.” \nMartin lives in Cochrane with his wife\, Sue\, and is an active member of the Rotary Club of Cochrane. \nLearn more about Martin at martinparnell.com
URL:https://urbancasual.ca/cochrane-event/cochrane-business-network-november-session-with-martin-parnell/
LOCATION:The Station at Cochrane Crossing\, 306 Railway St. W\, Cochrane\, AB\, Canada
CATEGORIES:Business,Networking
ATTACH;FMTTYPE=image/jpeg:https://urbancasual.ca/wp-content/uploads/2025/11/Martin-Parnell-CBN.jpg
END:VEVENT
BEGIN:VEVENT
DTSTART;TZID=America/Edmonton:20250930T133000
DTEND;TZID=America/Edmonton:20250930T163000
DTSTAMP:20260425T151643
CREATED:20250922T183527Z
LAST-MODIFIED:20250922T192817Z
UID:10050441-1759239000-1759249800@urbancasual.ca
SUMMARY:National Day for Truth & Reconciliation
DESCRIPTION:National Day for Truth & Reconciliation \nLearn about this unique art form from artist Michelle Wiebe\, its role in the residential school system\, and create a custom themed postcard as a token of truth and reconciliation. \nThis event is Free & open to the public. \nDate: September 30\, 2025 \nTime: 1:30 PM – 4:30 PM \nLocation: The Station at Cochrane Crossing | 360 Railway St. W\, Cochrane AB \nThe day will begin with a flag raising and moment of silence\, followed by reflections from local First Nation Elders and Métis Knowledge Keepers. \n*Bannock and refreshments will be provided for the first 400 people.* \nJoin us and the Town of Cochrane to create a space for reflection\, learning\, and reconciliation with Indigenous peoples.
URL:https://urbancasual.ca/cochrane-event/national-day-for-truth-reconciliation-route-22/
LOCATION:The Station at Cochrane Crossing\, 306 Railway St. W\, Cochrane\, AB\, Canada
CATEGORIES:Community,Entertainment & Games,Free,Indigenous,Learning
ATTACH;FMTTYPE=image/jpeg:https://urbancasual.ca/wp-content/uploads/2025/09/NDTR.jpg
ORGANIZER;CN="Route 22 Artist Collective Gallery":MAILTO:INFO@ROUTE22GALLERY.COM
END:VEVENT
END:VCALENDAR