BEGIN:VCALENDAR
VERSION:2.0
PRODID:-//Urbancasual.ca - ECPv6.15.20//NONSGML v1.0//EN
CALSCALE:GREGORIAN
METHOD:PUBLISH
X-WR-CALNAME:Urbancasual.ca
X-ORIGINAL-URL:https://urbancasual.ca
X-WR-CALDESC:Events for Urbancasual.ca
REFRESH-INTERVAL;VALUE=DURATION:PT1H
X-Robots-Tag:noindex
X-PUBLISHED-TTL:PT1H
BEGIN:VTIMEZONE
TZID:America/Edmonton
BEGIN:DAYLIGHT
TZOFFSETFROM:-0700
TZOFFSETTO:-0600
TZNAME:MDT
DTSTART:20280312T090000
END:DAYLIGHT
BEGIN:STANDARD
TZOFFSETFROM:-0600
TZOFFSETTO:-0700
TZNAME:MST
DTSTART:20281105T080000
END:STANDARD
BEGIN:DAYLIGHT
TZOFFSETFROM:-0700
TZOFFSETTO:-0600
TZNAME:MDT
DTSTART:20290311T090000
END:DAYLIGHT
BEGIN:STANDARD
TZOFFSETFROM:-0600
TZOFFSETTO:-0700
TZNAME:MST
DTSTART:20291104T080000
END:STANDARD
BEGIN:DAYLIGHT
TZOFFSETFROM:-0700
TZOFFSETTO:-0600
TZNAME:MDT
DTSTART:20300310T090000
END:DAYLIGHT
BEGIN:STANDARD
TZOFFSETFROM:-0600
TZOFFSETTO:-0700
TZNAME:MST
DTSTART:20301103T080000
END:STANDARD
BEGIN:DAYLIGHT
TZOFFSETFROM:-0700
TZOFFSETTO:-0600
TZNAME:MDT
DTSTART:20310309T090000
END:DAYLIGHT
BEGIN:STANDARD
TZOFFSETFROM:-0600
TZOFFSETTO:-0700
TZNAME:MST
DTSTART:20311102T080000
END:STANDARD
END:VTIMEZONE
BEGIN:VEVENT
DTSTART;TZID=America/Edmonton:20291108T190000
DTEND;TZID=America/Edmonton:20291108T220000
DTSTAMP:20260425T181804
CREATED:20260328T203709Z
LAST-MODIFIED:20260328T203709Z
UID:10058296-1888858800-1888869600@urbancasual.ca
SUMMARY:MUSIC BINGO
DESCRIPTION:Music bingo every 2nd-second Thursday of each month at the Shire Pub.
URL:https://urbancasual.ca/cochrane-event/music-bingo-2/2029-11-08/
LOCATION:The Shire Pub\, 8-57 West Aarsby Road\, Cochrane\, AB
CATEGORIES:Adults Only,Entertainment & Games,Music,Pub/Bar Event,Restaurant
ATTACH;FMTTYPE=image/webp:https://urbancasual.ca/wp-content/uploads/2026/03/MUSICALBINGO.webp
END:VEVENT
BEGIN:VEVENT
DTSTART;TZID=America/Edmonton:20291113T190000
DTEND;TZID=America/Edmonton:20291113T220000
DTSTAMP:20260425T181804
CREATED:20260329T005646Z
LAST-MODIFIED:20260329T005959Z
UID:10058565-1889290800-1889301600@urbancasual.ca
SUMMARY:OPEN MIC / OPEN JAM AT THE SHIRE PUB
DESCRIPTION:Every Tuesday we have a Jam/Open Mic night for all . \nNo matter what instrument or type of music you play\, come on down.
URL:https://urbancasual.ca/cochrane-event/open-mic-open-jam-at-the-shire-pub/2029-11-13/
LOCATION:The Shire Pub\, 8-57 West Aarsby Road\, Cochrane\, AB
CATEGORIES:Adults Only,Entertainment & Games,Music,OPEN MIC,Pub/Bar Event,Restaurant
ATTACH;FMTTYPE=image/webp:https://urbancasual.ca/wp-content/uploads/2026/03/432615705_386171574189780_2391788280087978784_n-768x614-1.webp
END:VEVENT
BEGIN:VEVENT
DTSTART;TZID=America/Edmonton:20291120T190000
DTEND;TZID=America/Edmonton:20291120T220000
DTSTAMP:20260425T181804
CREATED:20260329T005646Z
LAST-MODIFIED:20260329T005959Z
UID:10058566-1889895600-1889906400@urbancasual.ca
SUMMARY:OPEN MIC / OPEN JAM AT THE SHIRE PUB
DESCRIPTION:Every Tuesday we have a Jam/Open Mic night for all . \nNo matter what instrument or type of music you play\, come on down.
URL:https://urbancasual.ca/cochrane-event/open-mic-open-jam-at-the-shire-pub/2029-11-20/
LOCATION:The Shire Pub\, 8-57 West Aarsby Road\, Cochrane\, AB
CATEGORIES:Adults Only,Entertainment & Games,Music,OPEN MIC,Pub/Bar Event,Restaurant
ATTACH;FMTTYPE=image/webp:https://urbancasual.ca/wp-content/uploads/2026/03/432615705_386171574189780_2391788280087978784_n-768x614-1.webp
END:VEVENT
BEGIN:VEVENT
DTSTART;TZID=America/Edmonton:20291127T190000
DTEND;TZID=America/Edmonton:20291127T220000
DTSTAMP:20260425T181804
CREATED:20260329T005646Z
LAST-MODIFIED:20260329T005959Z
UID:10058567-1890500400-1890511200@urbancasual.ca
SUMMARY:OPEN MIC / OPEN JAM AT THE SHIRE PUB
DESCRIPTION:Every Tuesday we have a Jam/Open Mic night for all . \nNo matter what instrument or type of music you play\, come on down.
URL:https://urbancasual.ca/cochrane-event/open-mic-open-jam-at-the-shire-pub/2029-11-27/
LOCATION:The Shire Pub\, 8-57 West Aarsby Road\, Cochrane\, AB
CATEGORIES:Adults Only,Entertainment & Games,Music,OPEN MIC,Pub/Bar Event,Restaurant
ATTACH;FMTTYPE=image/webp:https://urbancasual.ca/wp-content/uploads/2026/03/432615705_386171574189780_2391788280087978784_n-768x614-1.webp
END:VEVENT
BEGIN:VEVENT
DTSTART;TZID=America/Edmonton:20291204T190000
DTEND;TZID=America/Edmonton:20291204T220000
DTSTAMP:20260425T181804
CREATED:20260329T005646Z
LAST-MODIFIED:20260329T005959Z
UID:10058568-1891105200-1891116000@urbancasual.ca
SUMMARY:OPEN MIC / OPEN JAM AT THE SHIRE PUB
DESCRIPTION:Every Tuesday we have a Jam/Open Mic night for all . \nNo matter what instrument or type of music you play\, come on down.
URL:https://urbancasual.ca/cochrane-event/open-mic-open-jam-at-the-shire-pub/2029-12-04/
LOCATION:The Shire Pub\, 8-57 West Aarsby Road\, Cochrane\, AB
CATEGORIES:Adults Only,Entertainment & Games,Music,OPEN MIC,Pub/Bar Event,Restaurant
ATTACH;FMTTYPE=image/webp:https://urbancasual.ca/wp-content/uploads/2026/03/432615705_386171574189780_2391788280087978784_n-768x614-1.webp
END:VEVENT
BEGIN:VEVENT
DTSTART;TZID=America/Edmonton:20291207T190000
DTEND;TZID=America/Edmonton:20291207T220000
DTSTAMP:20260425T181804
CREATED:20260328T204426Z
LAST-MODIFIED:20260328T204426Z
UID:10058358-1891364400-1891375200@urbancasual.ca
SUMMARY:IRISH MUSIC AT THE SHIRE PUB
DESCRIPTION:The first Friday of every month \, The Shire pub welcomes the Irish club of calgary to play traditional irish music.
URL:https://urbancasual.ca/cochrane-event/irish-music-at-the-shire-pub/2029-12-07/
LOCATION:The Shire Pub\, 8-57 West Aarsby Road\, Cochrane\, AB
CATEGORIES:Adults Only,Entertainment & Games,Music,Pub/Bar Event,Restaurant
ATTACH;FMTTYPE=image/gif:https://urbancasual.ca/wp-content/uploads/2026/03/trad-irish-2.gif
END:VEVENT
BEGIN:VEVENT
DTSTART;TZID=America/Edmonton:20291211T190000
DTEND;TZID=America/Edmonton:20291211T220000
DTSTAMP:20260425T181804
CREATED:20260329T005646Z
LAST-MODIFIED:20260329T005959Z
UID:10058569-1891710000-1891720800@urbancasual.ca
SUMMARY:OPEN MIC / OPEN JAM AT THE SHIRE PUB
DESCRIPTION:Every Tuesday we have a Jam/Open Mic night for all . \nNo matter what instrument or type of music you play\, come on down.
URL:https://urbancasual.ca/cochrane-event/open-mic-open-jam-at-the-shire-pub/2029-12-11/
LOCATION:The Shire Pub\, 8-57 West Aarsby Road\, Cochrane\, AB
CATEGORIES:Adults Only,Entertainment & Games,Music,OPEN MIC,Pub/Bar Event,Restaurant
ATTACH;FMTTYPE=image/webp:https://urbancasual.ca/wp-content/uploads/2026/03/432615705_386171574189780_2391788280087978784_n-768x614-1.webp
END:VEVENT
BEGIN:VEVENT
DTSTART;TZID=America/Edmonton:20291213T190000
DTEND;TZID=America/Edmonton:20291213T220000
DTSTAMP:20260425T181804
CREATED:20260328T203709Z
LAST-MODIFIED:20260328T203709Z
UID:10058297-1891882800-1891893600@urbancasual.ca
SUMMARY:MUSIC BINGO
DESCRIPTION:Music bingo every 2nd-second Thursday of each month at the Shire Pub.
URL:https://urbancasual.ca/cochrane-event/music-bingo-2/2029-12-13/
LOCATION:The Shire Pub\, 8-57 West Aarsby Road\, Cochrane\, AB
CATEGORIES:Adults Only,Entertainment & Games,Music,Pub/Bar Event,Restaurant
ATTACH;FMTTYPE=image/webp:https://urbancasual.ca/wp-content/uploads/2026/03/MUSICALBINGO.webp
END:VEVENT
BEGIN:VEVENT
DTSTART;TZID=America/Edmonton:20291218T190000
DTEND;TZID=America/Edmonton:20291218T220000
DTSTAMP:20260425T181804
CREATED:20260329T005646Z
LAST-MODIFIED:20260329T005959Z
UID:10058570-1892314800-1892325600@urbancasual.ca
SUMMARY:OPEN MIC / OPEN JAM AT THE SHIRE PUB
DESCRIPTION:Every Tuesday we have a Jam/Open Mic night for all . \nNo matter what instrument or type of music you play\, come on down.
URL:https://urbancasual.ca/cochrane-event/open-mic-open-jam-at-the-shire-pub/2029-12-18/
LOCATION:The Shire Pub\, 8-57 West Aarsby Road\, Cochrane\, AB
CATEGORIES:Adults Only,Entertainment & Games,Music,OPEN MIC,Pub/Bar Event,Restaurant
ATTACH;FMTTYPE=image/webp:https://urbancasual.ca/wp-content/uploads/2026/03/432615705_386171574189780_2391788280087978784_n-768x614-1.webp
END:VEVENT
BEGIN:VEVENT
DTSTART;TZID=America/Edmonton:20291225T190000
DTEND;TZID=America/Edmonton:20291225T220000
DTSTAMP:20260425T181804
CREATED:20260329T005646Z
LAST-MODIFIED:20260329T005959Z
UID:10058571-1892919600-1892930400@urbancasual.ca
SUMMARY:OPEN MIC / OPEN JAM AT THE SHIRE PUB
DESCRIPTION:Every Tuesday we have a Jam/Open Mic night for all . \nNo matter what instrument or type of music you play\, come on down.
URL:https://urbancasual.ca/cochrane-event/open-mic-open-jam-at-the-shire-pub/2029-12-25/
LOCATION:The Shire Pub\, 8-57 West Aarsby Road\, Cochrane\, AB
CATEGORIES:Adults Only,Entertainment & Games,Music,OPEN MIC,Pub/Bar Event,Restaurant
ATTACH;FMTTYPE=image/webp:https://urbancasual.ca/wp-content/uploads/2026/03/432615705_386171574189780_2391788280087978784_n-768x614-1.webp
END:VEVENT
BEGIN:VEVENT
DTSTART;TZID=America/Edmonton:20300101T190000
DTEND;TZID=America/Edmonton:20300101T220000
DTSTAMP:20260425T181804
CREATED:20260329T005646Z
LAST-MODIFIED:20260329T005959Z
UID:10058572-1893524400-1893535200@urbancasual.ca
SUMMARY:OPEN MIC / OPEN JAM AT THE SHIRE PUB
DESCRIPTION:Every Tuesday we have a Jam/Open Mic night for all . \nNo matter what instrument or type of music you play\, come on down.
URL:https://urbancasual.ca/cochrane-event/open-mic-open-jam-at-the-shire-pub/2030-01-01/
LOCATION:The Shire Pub\, 8-57 West Aarsby Road\, Cochrane\, AB
CATEGORIES:Adults Only,Entertainment & Games,Music,OPEN MIC,Pub/Bar Event,Restaurant
ATTACH;FMTTYPE=image/webp:https://urbancasual.ca/wp-content/uploads/2026/03/432615705_386171574189780_2391788280087978784_n-768x614-1.webp
END:VEVENT
BEGIN:VEVENT
DTSTART;TZID=America/Edmonton:20300104T190000
DTEND;TZID=America/Edmonton:20300104T220000
DTSTAMP:20260425T181804
CREATED:20260328T204426Z
LAST-MODIFIED:20260328T204426Z
UID:10058359-1893783600-1893794400@urbancasual.ca
SUMMARY:IRISH MUSIC AT THE SHIRE PUB
DESCRIPTION:The first Friday of every month \, The Shire pub welcomes the Irish club of calgary to play traditional irish music.
URL:https://urbancasual.ca/cochrane-event/irish-music-at-the-shire-pub/2030-01-04/
LOCATION:The Shire Pub\, 8-57 West Aarsby Road\, Cochrane\, AB
CATEGORIES:Adults Only,Entertainment & Games,Music,Pub/Bar Event,Restaurant
ATTACH;FMTTYPE=image/gif:https://urbancasual.ca/wp-content/uploads/2026/03/trad-irish-2.gif
END:VEVENT
BEGIN:VEVENT
DTSTART;TZID=America/Edmonton:20300108T190000
DTEND;TZID=America/Edmonton:20300108T220000
DTSTAMP:20260425T181804
CREATED:20260329T005646Z
LAST-MODIFIED:20260329T005959Z
UID:10058573-1894129200-1894140000@urbancasual.ca
SUMMARY:OPEN MIC / OPEN JAM AT THE SHIRE PUB
DESCRIPTION:Every Tuesday we have a Jam/Open Mic night for all . \nNo matter what instrument or type of music you play\, come on down.
URL:https://urbancasual.ca/cochrane-event/open-mic-open-jam-at-the-shire-pub/2030-01-08/
LOCATION:The Shire Pub\, 8-57 West Aarsby Road\, Cochrane\, AB
CATEGORIES:Adults Only,Entertainment & Games,Music,OPEN MIC,Pub/Bar Event,Restaurant
ATTACH;FMTTYPE=image/webp:https://urbancasual.ca/wp-content/uploads/2026/03/432615705_386171574189780_2391788280087978784_n-768x614-1.webp
END:VEVENT
BEGIN:VEVENT
DTSTART;TZID=America/Edmonton:20300110T190000
DTEND;TZID=America/Edmonton:20300110T220000
DTSTAMP:20260425T181804
CREATED:20260328T203709Z
LAST-MODIFIED:20260328T203709Z
UID:10058298-1894302000-1894312800@urbancasual.ca
SUMMARY:MUSIC BINGO
DESCRIPTION:Music bingo every 2nd-second Thursday of each month at the Shire Pub.
URL:https://urbancasual.ca/cochrane-event/music-bingo-2/2030-01-10/
LOCATION:The Shire Pub\, 8-57 West Aarsby Road\, Cochrane\, AB
CATEGORIES:Adults Only,Entertainment & Games,Music,Pub/Bar Event,Restaurant
ATTACH;FMTTYPE=image/webp:https://urbancasual.ca/wp-content/uploads/2026/03/MUSICALBINGO.webp
END:VEVENT
BEGIN:VEVENT
DTSTART;TZID=America/Edmonton:20300115T190000
DTEND;TZID=America/Edmonton:20300115T220000
DTSTAMP:20260425T181804
CREATED:20260329T005646Z
LAST-MODIFIED:20260329T005959Z
UID:10058574-1894734000-1894744800@urbancasual.ca
SUMMARY:OPEN MIC / OPEN JAM AT THE SHIRE PUB
DESCRIPTION:Every Tuesday we have a Jam/Open Mic night for all . \nNo matter what instrument or type of music you play\, come on down.
URL:https://urbancasual.ca/cochrane-event/open-mic-open-jam-at-the-shire-pub/2030-01-15/
LOCATION:The Shire Pub\, 8-57 West Aarsby Road\, Cochrane\, AB
CATEGORIES:Adults Only,Entertainment & Games,Music,OPEN MIC,Pub/Bar Event,Restaurant
ATTACH;FMTTYPE=image/webp:https://urbancasual.ca/wp-content/uploads/2026/03/432615705_386171574189780_2391788280087978784_n-768x614-1.webp
END:VEVENT
BEGIN:VEVENT
DTSTART;TZID=America/Edmonton:20300122T190000
DTEND;TZID=America/Edmonton:20300122T220000
DTSTAMP:20260425T181804
CREATED:20260329T005646Z
LAST-MODIFIED:20260329T005959Z
UID:10058575-1895338800-1895349600@urbancasual.ca
SUMMARY:OPEN MIC / OPEN JAM AT THE SHIRE PUB
DESCRIPTION:Every Tuesday we have a Jam/Open Mic night for all . \nNo matter what instrument or type of music you play\, come on down.
URL:https://urbancasual.ca/cochrane-event/open-mic-open-jam-at-the-shire-pub/2030-01-22/
LOCATION:The Shire Pub\, 8-57 West Aarsby Road\, Cochrane\, AB
CATEGORIES:Adults Only,Entertainment & Games,Music,OPEN MIC,Pub/Bar Event,Restaurant
ATTACH;FMTTYPE=image/webp:https://urbancasual.ca/wp-content/uploads/2026/03/432615705_386171574189780_2391788280087978784_n-768x614-1.webp
END:VEVENT
BEGIN:VEVENT
DTSTART;TZID=America/Edmonton:20300129T190000
DTEND;TZID=America/Edmonton:20300129T220000
DTSTAMP:20260425T181804
CREATED:20260329T005646Z
LAST-MODIFIED:20260329T005959Z
UID:10058576-1895943600-1895954400@urbancasual.ca
SUMMARY:OPEN MIC / OPEN JAM AT THE SHIRE PUB
DESCRIPTION:Every Tuesday we have a Jam/Open Mic night for all . \nNo matter what instrument or type of music you play\, come on down.
URL:https://urbancasual.ca/cochrane-event/open-mic-open-jam-at-the-shire-pub/2030-01-29/
LOCATION:The Shire Pub\, 8-57 West Aarsby Road\, Cochrane\, AB
CATEGORIES:Adults Only,Entertainment & Games,Music,OPEN MIC,Pub/Bar Event,Restaurant
ATTACH;FMTTYPE=image/webp:https://urbancasual.ca/wp-content/uploads/2026/03/432615705_386171574189780_2391788280087978784_n-768x614-1.webp
END:VEVENT
BEGIN:VEVENT
DTSTART;TZID=America/Edmonton:20300201T190000
DTEND;TZID=America/Edmonton:20300201T220000
DTSTAMP:20260425T181804
CREATED:20260328T204426Z
LAST-MODIFIED:20260328T204426Z
UID:10058360-1896202800-1896213600@urbancasual.ca
SUMMARY:IRISH MUSIC AT THE SHIRE PUB
DESCRIPTION:The first Friday of every month \, The Shire pub welcomes the Irish club of calgary to play traditional irish music.
URL:https://urbancasual.ca/cochrane-event/irish-music-at-the-shire-pub/2030-02-01/
LOCATION:The Shire Pub\, 8-57 West Aarsby Road\, Cochrane\, AB
CATEGORIES:Adults Only,Entertainment & Games,Music,Pub/Bar Event,Restaurant
ATTACH;FMTTYPE=image/gif:https://urbancasual.ca/wp-content/uploads/2026/03/trad-irish-2.gif
END:VEVENT
BEGIN:VEVENT
DTSTART;TZID=America/Edmonton:20300205T190000
DTEND;TZID=America/Edmonton:20300205T220000
DTSTAMP:20260425T181804
CREATED:20260329T005646Z
LAST-MODIFIED:20260329T005959Z
UID:10058577-1896548400-1896559200@urbancasual.ca
SUMMARY:OPEN MIC / OPEN JAM AT THE SHIRE PUB
DESCRIPTION:Every Tuesday we have a Jam/Open Mic night for all . \nNo matter what instrument or type of music you play\, come on down.
URL:https://urbancasual.ca/cochrane-event/open-mic-open-jam-at-the-shire-pub/2030-02-05/
LOCATION:The Shire Pub\, 8-57 West Aarsby Road\, Cochrane\, AB
CATEGORIES:Adults Only,Entertainment & Games,Music,OPEN MIC,Pub/Bar Event,Restaurant
ATTACH;FMTTYPE=image/webp:https://urbancasual.ca/wp-content/uploads/2026/03/432615705_386171574189780_2391788280087978784_n-768x614-1.webp
END:VEVENT
BEGIN:VEVENT
DTSTART;TZID=America/Edmonton:20300212T190000
DTEND;TZID=America/Edmonton:20300212T220000
DTSTAMP:20260425T181804
CREATED:20260329T005646Z
LAST-MODIFIED:20260329T005959Z
UID:10058578-1897153200-1897164000@urbancasual.ca
SUMMARY:OPEN MIC / OPEN JAM AT THE SHIRE PUB
DESCRIPTION:Every Tuesday we have a Jam/Open Mic night for all . \nNo matter what instrument or type of music you play\, come on down.
URL:https://urbancasual.ca/cochrane-event/open-mic-open-jam-at-the-shire-pub/2030-02-12/
LOCATION:The Shire Pub\, 8-57 West Aarsby Road\, Cochrane\, AB
CATEGORIES:Adults Only,Entertainment & Games,Music,OPEN MIC,Pub/Bar Event,Restaurant
ATTACH;FMTTYPE=image/webp:https://urbancasual.ca/wp-content/uploads/2026/03/432615705_386171574189780_2391788280087978784_n-768x614-1.webp
END:VEVENT
BEGIN:VEVENT
DTSTART;TZID=America/Edmonton:20300214T190000
DTEND;TZID=America/Edmonton:20300214T220000
DTSTAMP:20260425T181804
CREATED:20260328T203709Z
LAST-MODIFIED:20260328T203709Z
UID:10058299-1897326000-1897336800@urbancasual.ca
SUMMARY:MUSIC BINGO
DESCRIPTION:Music bingo every 2nd-second Thursday of each month at the Shire Pub.
URL:https://urbancasual.ca/cochrane-event/music-bingo-2/2030-02-14/
LOCATION:The Shire Pub\, 8-57 West Aarsby Road\, Cochrane\, AB
CATEGORIES:Adults Only,Entertainment & Games,Music,Pub/Bar Event,Restaurant
ATTACH;FMTTYPE=image/webp:https://urbancasual.ca/wp-content/uploads/2026/03/MUSICALBINGO.webp
END:VEVENT
BEGIN:VEVENT
DTSTART;TZID=America/Edmonton:20300219T190000
DTEND;TZID=America/Edmonton:20300219T220000
DTSTAMP:20260425T181804
CREATED:20260329T005646Z
LAST-MODIFIED:20260329T005959Z
UID:10058579-1897758000-1897768800@urbancasual.ca
SUMMARY:OPEN MIC / OPEN JAM AT THE SHIRE PUB
DESCRIPTION:Every Tuesday we have a Jam/Open Mic night for all . \nNo matter what instrument or type of music you play\, come on down.
URL:https://urbancasual.ca/cochrane-event/open-mic-open-jam-at-the-shire-pub/2030-02-19/
LOCATION:The Shire Pub\, 8-57 West Aarsby Road\, Cochrane\, AB
CATEGORIES:Adults Only,Entertainment & Games,Music,OPEN MIC,Pub/Bar Event,Restaurant
ATTACH;FMTTYPE=image/webp:https://urbancasual.ca/wp-content/uploads/2026/03/432615705_386171574189780_2391788280087978784_n-768x614-1.webp
END:VEVENT
BEGIN:VEVENT
DTSTART;TZID=America/Edmonton:20300226T190000
DTEND;TZID=America/Edmonton:20300226T220000
DTSTAMP:20260425T181804
CREATED:20260329T005646Z
LAST-MODIFIED:20260329T005959Z
UID:10058580-1898362800-1898373600@urbancasual.ca
SUMMARY:OPEN MIC / OPEN JAM AT THE SHIRE PUB
DESCRIPTION:Every Tuesday we have a Jam/Open Mic night for all . \nNo matter what instrument or type of music you play\, come on down.
URL:https://urbancasual.ca/cochrane-event/open-mic-open-jam-at-the-shire-pub/2030-02-26/
LOCATION:The Shire Pub\, 8-57 West Aarsby Road\, Cochrane\, AB
CATEGORIES:Adults Only,Entertainment & Games,Music,OPEN MIC,Pub/Bar Event,Restaurant
ATTACH;FMTTYPE=image/webp:https://urbancasual.ca/wp-content/uploads/2026/03/432615705_386171574189780_2391788280087978784_n-768x614-1.webp
END:VEVENT
BEGIN:VEVENT
DTSTART;TZID=America/Edmonton:20300301T190000
DTEND;TZID=America/Edmonton:20300301T220000
DTSTAMP:20260425T181804
CREATED:20260328T204426Z
LAST-MODIFIED:20260328T204426Z
UID:10058361-1898622000-1898632800@urbancasual.ca
SUMMARY:IRISH MUSIC AT THE SHIRE PUB
DESCRIPTION:The first Friday of every month \, The Shire pub welcomes the Irish club of calgary to play traditional irish music.
URL:https://urbancasual.ca/cochrane-event/irish-music-at-the-shire-pub/2030-03-01/
LOCATION:The Shire Pub\, 8-57 West Aarsby Road\, Cochrane\, AB
CATEGORIES:Adults Only,Entertainment & Games,Music,Pub/Bar Event,Restaurant
ATTACH;FMTTYPE=image/gif:https://urbancasual.ca/wp-content/uploads/2026/03/trad-irish-2.gif
END:VEVENT
BEGIN:VEVENT
DTSTART;TZID=America/Edmonton:20300305T190000
DTEND;TZID=America/Edmonton:20300305T220000
DTSTAMP:20260425T181804
CREATED:20260329T005646Z
LAST-MODIFIED:20260329T005959Z
UID:10058581-1898967600-1898978400@urbancasual.ca
SUMMARY:OPEN MIC / OPEN JAM AT THE SHIRE PUB
DESCRIPTION:Every Tuesday we have a Jam/Open Mic night for all . \nNo matter what instrument or type of music you play\, come on down.
URL:https://urbancasual.ca/cochrane-event/open-mic-open-jam-at-the-shire-pub/2030-03-05/
LOCATION:The Shire Pub\, 8-57 West Aarsby Road\, Cochrane\, AB
CATEGORIES:Adults Only,Entertainment & Games,Music,OPEN MIC,Pub/Bar Event,Restaurant
ATTACH;FMTTYPE=image/webp:https://urbancasual.ca/wp-content/uploads/2026/03/432615705_386171574189780_2391788280087978784_n-768x614-1.webp
END:VEVENT
BEGIN:VEVENT
DTSTART;TZID=America/Edmonton:20300312T190000
DTEND;TZID=America/Edmonton:20300312T220000
DTSTAMP:20260425T181804
CREATED:20260329T005646Z
LAST-MODIFIED:20260329T005959Z
UID:10058582-1899572400-1899583200@urbancasual.ca
SUMMARY:OPEN MIC / OPEN JAM AT THE SHIRE PUB
DESCRIPTION:Every Tuesday we have a Jam/Open Mic night for all . \nNo matter what instrument or type of music you play\, come on down.
URL:https://urbancasual.ca/cochrane-event/open-mic-open-jam-at-the-shire-pub/2030-03-12/
LOCATION:The Shire Pub\, 8-57 West Aarsby Road\, Cochrane\, AB
CATEGORIES:Adults Only,Entertainment & Games,Music,OPEN MIC,Pub/Bar Event,Restaurant
ATTACH;FMTTYPE=image/webp:https://urbancasual.ca/wp-content/uploads/2026/03/432615705_386171574189780_2391788280087978784_n-768x614-1.webp
END:VEVENT
BEGIN:VEVENT
DTSTART;TZID=America/Edmonton:20300314T190000
DTEND;TZID=America/Edmonton:20300314T220000
DTSTAMP:20260425T181804
CREATED:20260328T203709Z
LAST-MODIFIED:20260328T203709Z
UID:10058300-1899745200-1899756000@urbancasual.ca
SUMMARY:MUSIC BINGO
DESCRIPTION:Music bingo every 2nd-second Thursday of each month at the Shire Pub.
URL:https://urbancasual.ca/cochrane-event/music-bingo-2/2030-03-14/
LOCATION:The Shire Pub\, 8-57 West Aarsby Road\, Cochrane\, AB
CATEGORIES:Adults Only,Entertainment & Games,Music,Pub/Bar Event,Restaurant
ATTACH;FMTTYPE=image/webp:https://urbancasual.ca/wp-content/uploads/2026/03/MUSICALBINGO.webp
END:VEVENT
BEGIN:VEVENT
DTSTART;TZID=America/Edmonton:20300319T190000
DTEND;TZID=America/Edmonton:20300319T220000
DTSTAMP:20260425T181804
CREATED:20260329T005646Z
LAST-MODIFIED:20260329T005959Z
UID:10058583-1900177200-1900188000@urbancasual.ca
SUMMARY:OPEN MIC / OPEN JAM AT THE SHIRE PUB
DESCRIPTION:Every Tuesday we have a Jam/Open Mic night for all . \nNo matter what instrument or type of music you play\, come on down.
URL:https://urbancasual.ca/cochrane-event/open-mic-open-jam-at-the-shire-pub/2030-03-19/
LOCATION:The Shire Pub\, 8-57 West Aarsby Road\, Cochrane\, AB
CATEGORIES:Adults Only,Entertainment & Games,Music,OPEN MIC,Pub/Bar Event,Restaurant
ATTACH;FMTTYPE=image/webp:https://urbancasual.ca/wp-content/uploads/2026/03/432615705_386171574189780_2391788280087978784_n-768x614-1.webp
END:VEVENT
BEGIN:VEVENT
DTSTART;TZID=America/Edmonton:20300326T190000
DTEND;TZID=America/Edmonton:20300326T220000
DTSTAMP:20260425T181804
CREATED:20260329T005646Z
LAST-MODIFIED:20260329T005959Z
UID:10058584-1900782000-1900792800@urbancasual.ca
SUMMARY:OPEN MIC / OPEN JAM AT THE SHIRE PUB
DESCRIPTION:Every Tuesday we have a Jam/Open Mic night for all . \nNo matter what instrument or type of music you play\, come on down.
URL:https://urbancasual.ca/cochrane-event/open-mic-open-jam-at-the-shire-pub/2030-03-26/
LOCATION:The Shire Pub\, 8-57 West Aarsby Road\, Cochrane\, AB
CATEGORIES:Adults Only,Entertainment & Games,Music,OPEN MIC,Pub/Bar Event,Restaurant
ATTACH;FMTTYPE=image/webp:https://urbancasual.ca/wp-content/uploads/2026/03/432615705_386171574189780_2391788280087978784_n-768x614-1.webp
END:VEVENT
BEGIN:VEVENT
DTSTART;TZID=America/Edmonton:20300402T190000
DTEND;TZID=America/Edmonton:20300402T220000
DTSTAMP:20260425T181804
CREATED:20260329T005646Z
LAST-MODIFIED:20260329T005959Z
UID:10058585-1901386800-1901397600@urbancasual.ca
SUMMARY:OPEN MIC / OPEN JAM AT THE SHIRE PUB
DESCRIPTION:Every Tuesday we have a Jam/Open Mic night for all . \nNo matter what instrument or type of music you play\, come on down.
URL:https://urbancasual.ca/cochrane-event/open-mic-open-jam-at-the-shire-pub/2030-04-02/
LOCATION:The Shire Pub\, 8-57 West Aarsby Road\, Cochrane\, AB
CATEGORIES:Adults Only,Entertainment & Games,Music,OPEN MIC,Pub/Bar Event,Restaurant
ATTACH;FMTTYPE=image/webp:https://urbancasual.ca/wp-content/uploads/2026/03/432615705_386171574189780_2391788280087978784_n-768x614-1.webp
END:VEVENT
END:VCALENDAR