BEGIN:VCALENDAR
VERSION:2.0
PRODID:-//Urbancasual.ca - ECPv6.15.20//NONSGML v1.0//EN
CALSCALE:GREGORIAN
METHOD:PUBLISH
X-ORIGINAL-URL:https://urbancasual.ca
X-WR-CALDESC:Events for Urbancasual.ca
REFRESH-INTERVAL;VALUE=DURATION:PT1H
X-Robots-Tag:noindex
X-PUBLISHED-TTL:PT1H
BEGIN:VTIMEZONE
TZID:America/Edmonton
BEGIN:DAYLIGHT
TZOFFSETFROM:-0700
TZOFFSETTO:-0600
TZNAME:MDT
DTSTART:20230312T090000
END:DAYLIGHT
BEGIN:STANDARD
TZOFFSETFROM:-0600
TZOFFSETTO:-0700
TZNAME:MST
DTSTART:20231105T080000
END:STANDARD
BEGIN:DAYLIGHT
TZOFFSETFROM:-0700
TZOFFSETTO:-0600
TZNAME:MDT
DTSTART:20240310T090000
END:DAYLIGHT
BEGIN:STANDARD
TZOFFSETFROM:-0600
TZOFFSETTO:-0700
TZNAME:MST
DTSTART:20241103T080000
END:STANDARD
BEGIN:DAYLIGHT
TZOFFSETFROM:-0700
TZOFFSETTO:-0600
TZNAME:MDT
DTSTART:20250309T090000
END:DAYLIGHT
BEGIN:STANDARD
TZOFFSETFROM:-0600
TZOFFSETTO:-0700
TZNAME:MST
DTSTART:20251102T080000
END:STANDARD
BEGIN:DAYLIGHT
TZOFFSETFROM:-0700
TZOFFSETTO:-0600
TZNAME:MDT
DTSTART:20260308T090000
END:DAYLIGHT
BEGIN:STANDARD
TZOFFSETFROM:-0600
TZOFFSETTO:-0700
TZNAME:MST
DTSTART:20261101T080000
END:STANDARD
END:VTIMEZONE
BEGIN:VEVENT
DTSTART;TZID=America/Edmonton:20250121T120000
DTEND;TZID=America/Edmonton:20250121T130000
DTSTAMP:20260423T154244
CREATED:20240912T164420Z
LAST-MODIFIED:20240912T164420Z
UID:10036042-1737460800-1737464400@urbancasual.ca
SUMMARY:St. Andrew's Community Lunch
DESCRIPTION:Our free Community Lunch resumes next week: 12-1pm\, every Tuesday\, starting Sept 17th!Come join us for freshly-homemade soup\, a bun\, and good conversation\, here at St. Andrew’s United Church. 
URL:https://urbancasual.ca/cochrane-event/st-andrews-community-lunch/2025-01-21/
LOCATION:St. Andrew’s United Church\, 128 1st Street E\, Cochrane\, AB
CATEGORIES:Church Events,Community,Family Friendly,Food,Free,Parents & Caregivers,Seniors
ATTACH;FMTTYPE=image/jpeg:https://urbancasual.ca/wp-content/uploads/2024/09/459033461_519244324034266_4506866919483480440_n.jpg
END:VEVENT
BEGIN:VEVENT
DTSTART;TZID=America/Edmonton:20250114T183000
DTEND;TZID=America/Edmonton:20250114T200000
DTSTAMP:20260423T154244
CREATED:20241227T181651Z
LAST-MODIFIED:20241231T190525Z
UID:10041108-1736879400-1736884800@urbancasual.ca
SUMMARY:Family Ultimate Twister Tournament!
DESCRIPTION:JANUARY SPECIAL! \nGet twisted with your family at our Parent & Child Twister Tournament Night! \nThis action-packed event is the perfect way to spend quality time together while having a blast. \nTeams of parents and children will bend\, stretch\, and giggle their way to victory in a series of hilarious Twister challenges. \nPrizes will be awarded to the most flexible\, determined\, and creatively twisted teams. \nDon’t miss out on this unforgettable night of laughter\, bonding\, and family fun! \n  \nTime – 6:30pm-8pm\nCost is $5 per person\nWho: This event for families with kids 6-11\n\nOnly and no outdoor shoes\, indoor shoes or grippy socks only please.*
URL:https://urbancasual.ca/cochrane-event/family-ultimate-twister-tournament/
LOCATION:St. Andrew’s United Church\, 128 1st Street E\, Cochrane\, AB
CATEGORIES:Business,Entertainment & Games,Family Friendly,Parents & Caregivers
ATTACH;FMTTYPE=image/png:https://urbancasual.ca/wp-content/uploads/2024/12/Ultimate-Twister-Image.png
ORGANIZER;CN="Village of Play":MAILTO:hello@villageofplay.com
END:VEVENT
BEGIN:VEVENT
DTSTART;TZID=America/Edmonton:20250114T120000
DTEND;TZID=America/Edmonton:20250114T130000
DTSTAMP:20260423T154244
CREATED:20240912T164420Z
LAST-MODIFIED:20240912T164420Z
UID:10036041-1736856000-1736859600@urbancasual.ca
SUMMARY:St. Andrew's Community Lunch
DESCRIPTION:Our free Community Lunch resumes next week: 12-1pm\, every Tuesday\, starting Sept 17th!Come join us for freshly-homemade soup\, a bun\, and good conversation\, here at St. Andrew’s United Church. 
URL:https://urbancasual.ca/cochrane-event/st-andrews-community-lunch/2025-01-14/
LOCATION:St. Andrew’s United Church\, 128 1st Street E\, Cochrane\, AB
CATEGORIES:Church Events,Community,Family Friendly,Food,Free,Parents & Caregivers,Seniors
ATTACH;FMTTYPE=image/jpeg:https://urbancasual.ca/wp-content/uploads/2024/09/459033461_519244324034266_4506866919483480440_n.jpg
END:VEVENT
BEGIN:VEVENT
DTSTART;TZID=America/Edmonton:20250107T120000
DTEND;TZID=America/Edmonton:20250107T130000
DTSTAMP:20260423T154244
CREATED:20240912T164420Z
LAST-MODIFIED:20240912T164420Z
UID:10036040-1736251200-1736254800@urbancasual.ca
SUMMARY:St. Andrew's Community Lunch
DESCRIPTION:Our free Community Lunch resumes next week: 12-1pm\, every Tuesday\, starting Sept 17th!Come join us for freshly-homemade soup\, a bun\, and good conversation\, here at St. Andrew’s United Church. 
URL:https://urbancasual.ca/cochrane-event/st-andrews-community-lunch/2025-01-07/
LOCATION:St. Andrew’s United Church\, 128 1st Street E\, Cochrane\, AB
CATEGORIES:Church Events,Community,Family Friendly,Food,Free,Parents & Caregivers,Seniors
ATTACH;FMTTYPE=image/jpeg:https://urbancasual.ca/wp-content/uploads/2024/09/459033461_519244324034266_4506866919483480440_n.jpg
END:VEVENT
BEGIN:VEVENT
DTSTART;TZID=America/Edmonton:20241231T120000
DTEND;TZID=America/Edmonton:20241231T130000
DTSTAMP:20260423T154244
CREATED:20240912T164420Z
LAST-MODIFIED:20240912T164420Z
UID:10036039-1735646400-1735650000@urbancasual.ca
SUMMARY:St. Andrew's Community Lunch
DESCRIPTION:Our free Community Lunch resumes next week: 12-1pm\, every Tuesday\, starting Sept 17th!Come join us for freshly-homemade soup\, a bun\, and good conversation\, here at St. Andrew’s United Church. 
URL:https://urbancasual.ca/cochrane-event/st-andrews-community-lunch/2024-12-31/
LOCATION:St. Andrew’s United Church\, 128 1st Street E\, Cochrane\, AB
CATEGORIES:Church Events,Community,Family Friendly,Food,Free,Parents & Caregivers,Seniors
ATTACH;FMTTYPE=image/jpeg:https://urbancasual.ca/wp-content/uploads/2024/09/459033461_519244324034266_4506866919483480440_n.jpg
END:VEVENT
BEGIN:VEVENT
DTSTART;TZID=America/Edmonton:20241224T120000
DTEND;TZID=America/Edmonton:20241224T130000
DTSTAMP:20260423T154244
CREATED:20240912T164420Z
LAST-MODIFIED:20240912T164420Z
UID:10036038-1735041600-1735045200@urbancasual.ca
SUMMARY:St. Andrew's Community Lunch
DESCRIPTION:Our free Community Lunch resumes next week: 12-1pm\, every Tuesday\, starting Sept 17th!Come join us for freshly-homemade soup\, a bun\, and good conversation\, here at St. Andrew’s United Church. 
URL:https://urbancasual.ca/cochrane-event/st-andrews-community-lunch/2024-12-24/
LOCATION:St. Andrew’s United Church\, 128 1st Street E\, Cochrane\, AB
CATEGORIES:Church Events,Community,Family Friendly,Food,Free,Parents & Caregivers,Seniors
ATTACH;FMTTYPE=image/jpeg:https://urbancasual.ca/wp-content/uploads/2024/09/459033461_519244324034266_4506866919483480440_n.jpg
END:VEVENT
BEGIN:VEVENT
DTSTART;TZID=America/Edmonton:20241217T120000
DTEND;TZID=America/Edmonton:20241217T130000
DTSTAMP:20260423T154244
CREATED:20240912T164420Z
LAST-MODIFIED:20240912T164420Z
UID:10036037-1734436800-1734440400@urbancasual.ca
SUMMARY:St. Andrew's Community Lunch
DESCRIPTION:Our free Community Lunch resumes next week: 12-1pm\, every Tuesday\, starting Sept 17th!Come join us for freshly-homemade soup\, a bun\, and good conversation\, here at St. Andrew’s United Church. 
URL:https://urbancasual.ca/cochrane-event/st-andrews-community-lunch/2024-12-17/
LOCATION:St. Andrew’s United Church\, 128 1st Street E\, Cochrane\, AB
CATEGORIES:Church Events,Community,Family Friendly,Food,Free,Parents & Caregivers,Seniors
ATTACH;FMTTYPE=image/jpeg:https://urbancasual.ca/wp-content/uploads/2024/09/459033461_519244324034266_4506866919483480440_n.jpg
END:VEVENT
BEGIN:VEVENT
DTSTART;TZID=America/Edmonton:20241210T120000
DTEND;TZID=America/Edmonton:20241210T130000
DTSTAMP:20260423T154244
CREATED:20240912T164420Z
LAST-MODIFIED:20240912T164420Z
UID:10036036-1733832000-1733835600@urbancasual.ca
SUMMARY:St. Andrew's Community Lunch
DESCRIPTION:Our free Community Lunch resumes next week: 12-1pm\, every Tuesday\, starting Sept 17th!Come join us for freshly-homemade soup\, a bun\, and good conversation\, here at St. Andrew’s United Church. 
URL:https://urbancasual.ca/cochrane-event/st-andrews-community-lunch/2024-12-10/
LOCATION:St. Andrew’s United Church\, 128 1st Street E\, Cochrane\, AB
CATEGORIES:Church Events,Community,Family Friendly,Food,Free,Parents & Caregivers,Seniors
ATTACH;FMTTYPE=image/jpeg:https://urbancasual.ca/wp-content/uploads/2024/09/459033461_519244324034266_4506866919483480440_n.jpg
END:VEVENT
BEGIN:VEVENT
DTSTART;TZID=America/Edmonton:20241203T120000
DTEND;TZID=America/Edmonton:20241203T130000
DTSTAMP:20260423T154244
CREATED:20240912T164420Z
LAST-MODIFIED:20240912T164420Z
UID:10036035-1733227200-1733230800@urbancasual.ca
SUMMARY:St. Andrew's Community Lunch
DESCRIPTION:Our free Community Lunch resumes next week: 12-1pm\, every Tuesday\, starting Sept 17th!Come join us for freshly-homemade soup\, a bun\, and good conversation\, here at St. Andrew’s United Church. 
URL:https://urbancasual.ca/cochrane-event/st-andrews-community-lunch/2024-12-03/
LOCATION:St. Andrew’s United Church\, 128 1st Street E\, Cochrane\, AB
CATEGORIES:Church Events,Community,Family Friendly,Food,Free,Parents & Caregivers,Seniors
ATTACH;FMTTYPE=image/jpeg:https://urbancasual.ca/wp-content/uploads/2024/09/459033461_519244324034266_4506866919483480440_n.jpg
END:VEVENT
BEGIN:VEVENT
DTSTART;TZID=America/Edmonton:20241129T100000
DTEND;TZID=America/Edmonton:20241129T113000
DTSTAMP:20260423T154244
CREATED:20241019T043158Z
LAST-MODIFIED:20241019T043514Z
UID:10036581-1732874400-1732879800@urbancasual.ca
SUMMARY:Budget on a Bounty
DESCRIPTION:Friday November 29\, 10-11:30 a.m. | St. Andrew’s United Church\, 128 First Street E. | Registered\, 18+ \nThis fun\, hands-on session will help you learn to make the most of your food budget by reducing waste and expanding the ways you can use basic groceries. Family dinners are more delicious when you can create homemade stocks\, crunchy fresh microgreens and tasty seasonings with little to no additional cost. Limited spots. To register\, please visit: www.cochrane.ca/financialresources
URL:https://urbancasual.ca/cochrane-event/budget-on-a-bounty/
LOCATION:St. Andrew’s United Church\, 128 1st Street E\, Cochrane\, AB
CATEGORIES:Community,Library
ATTACH;FMTTYPE=image/jpeg:https://urbancasual.ca/wp-content/uploads/2024/10/Bounty-on-a-Budget.jpg
END:VEVENT
BEGIN:VEVENT
DTSTART;TZID=America/Edmonton:20241126T120000
DTEND;TZID=America/Edmonton:20241126T130000
DTSTAMP:20260423T154244
CREATED:20240912T164420Z
LAST-MODIFIED:20240912T164420Z
UID:10036034-1732622400-1732626000@urbancasual.ca
SUMMARY:St. Andrew's Community Lunch
DESCRIPTION:Our free Community Lunch resumes next week: 12-1pm\, every Tuesday\, starting Sept 17th!Come join us for freshly-homemade soup\, a bun\, and good conversation\, here at St. Andrew’s United Church. 
URL:https://urbancasual.ca/cochrane-event/st-andrews-community-lunch/2024-11-26/
LOCATION:St. Andrew’s United Church\, 128 1st Street E\, Cochrane\, AB
CATEGORIES:Church Events,Community,Family Friendly,Food,Free,Parents & Caregivers,Seniors
ATTACH;FMTTYPE=image/jpeg:https://urbancasual.ca/wp-content/uploads/2024/09/459033461_519244324034266_4506866919483480440_n.jpg
END:VEVENT
BEGIN:VEVENT
DTSTART;TZID=America/Edmonton:20241119T120000
DTEND;TZID=America/Edmonton:20241119T130000
DTSTAMP:20260423T154244
CREATED:20240912T164420Z
LAST-MODIFIED:20240912T164420Z
UID:10036033-1732017600-1732021200@urbancasual.ca
SUMMARY:St. Andrew's Community Lunch
DESCRIPTION:Our free Community Lunch resumes next week: 12-1pm\, every Tuesday\, starting Sept 17th!Come join us for freshly-homemade soup\, a bun\, and good conversation\, here at St. Andrew’s United Church. 
URL:https://urbancasual.ca/cochrane-event/st-andrews-community-lunch/2024-11-19/
LOCATION:St. Andrew’s United Church\, 128 1st Street E\, Cochrane\, AB
CATEGORIES:Church Events,Community,Family Friendly,Food,Free,Parents & Caregivers,Seniors
ATTACH;FMTTYPE=image/jpeg:https://urbancasual.ca/wp-content/uploads/2024/09/459033461_519244324034266_4506866919483480440_n.jpg
END:VEVENT
BEGIN:VEVENT
DTSTART;TZID=America/Edmonton:20241112T120000
DTEND;TZID=America/Edmonton:20241112T130000
DTSTAMP:20260423T154244
CREATED:20240912T164420Z
LAST-MODIFIED:20240912T164420Z
UID:10036032-1731412800-1731416400@urbancasual.ca
SUMMARY:St. Andrew's Community Lunch
DESCRIPTION:Our free Community Lunch resumes next week: 12-1pm\, every Tuesday\, starting Sept 17th!Come join us for freshly-homemade soup\, a bun\, and good conversation\, here at St. Andrew’s United Church. 
URL:https://urbancasual.ca/cochrane-event/st-andrews-community-lunch/2024-11-12/
LOCATION:St. Andrew’s United Church\, 128 1st Street E\, Cochrane\, AB
CATEGORIES:Church Events,Community,Family Friendly,Food,Free,Parents & Caregivers,Seniors
ATTACH;FMTTYPE=image/jpeg:https://urbancasual.ca/wp-content/uploads/2024/09/459033461_519244324034266_4506866919483480440_n.jpg
END:VEVENT
BEGIN:VEVENT
DTSTART;TZID=America/Edmonton:20241105T120000
DTEND;TZID=America/Edmonton:20241105T130000
DTSTAMP:20260423T154244
CREATED:20240912T164420Z
LAST-MODIFIED:20240912T164420Z
UID:10036031-1730808000-1730811600@urbancasual.ca
SUMMARY:St. Andrew's Community Lunch
DESCRIPTION:Our free Community Lunch resumes next week: 12-1pm\, every Tuesday\, starting Sept 17th!Come join us for freshly-homemade soup\, a bun\, and good conversation\, here at St. Andrew’s United Church. 
URL:https://urbancasual.ca/cochrane-event/st-andrews-community-lunch/2024-11-05/
LOCATION:St. Andrew’s United Church\, 128 1st Street E\, Cochrane\, AB
CATEGORIES:Church Events,Community,Family Friendly,Food,Free,Parents & Caregivers,Seniors
ATTACH;FMTTYPE=image/jpeg:https://urbancasual.ca/wp-content/uploads/2024/09/459033461_519244324034266_4506866919483480440_n.jpg
END:VEVENT
BEGIN:VEVENT
DTSTART;TZID=America/Edmonton:20241103T163000
DTEND;TZID=America/Edmonton:20241103T200000
DTSTAMP:20260423T154244
CREATED:20241010T202651Z
LAST-MODIFIED:20241010T202651Z
UID:10036266-1730651400-1730664000@urbancasual.ca
SUMMARY:Turkey Supper at St.Andrew's United Church
DESCRIPTION:It’s that time of year! \nFor over half a century\, St. Andrew’s has hosted a Turkey Supper– you won’t want to miss out on this fabulous feast! \nContact the office or see our website for details: https://cochraneunited.com/2024/10/07/turkey-supper-tickets/
URL:https://urbancasual.ca/cochrane-event/turkey-supper-at-st-andrews-united-church-2/
LOCATION:St. Andrew’s United Church\, 128 1st Street E\, Cochrane\, AB
CATEGORIES:Church Events,Community,Family Friendly,Food,Thanksgiving
ATTACH;FMTTYPE=image/jpeg:https://urbancasual.ca/wp-content/uploads/2024/10/inbound2889996100450062302.jpg
END:VEVENT
BEGIN:VEVENT
DTSTART;TZID=America/Edmonton:20241029T120000
DTEND;TZID=America/Edmonton:20241029T130000
DTSTAMP:20260423T154244
CREATED:20240912T164420Z
LAST-MODIFIED:20240912T164420Z
UID:10036030-1730203200-1730206800@urbancasual.ca
SUMMARY:St. Andrew's Community Lunch
DESCRIPTION:Our free Community Lunch resumes next week: 12-1pm\, every Tuesday\, starting Sept 17th!Come join us for freshly-homemade soup\, a bun\, and good conversation\, here at St. Andrew’s United Church. 
URL:https://urbancasual.ca/cochrane-event/st-andrews-community-lunch/2024-10-29/
LOCATION:St. Andrew’s United Church\, 128 1st Street E\, Cochrane\, AB
CATEGORIES:Church Events,Community,Family Friendly,Food,Free,Parents & Caregivers,Seniors
ATTACH;FMTTYPE=image/jpeg:https://urbancasual.ca/wp-content/uploads/2024/09/459033461_519244324034266_4506866919483480440_n.jpg
END:VEVENT
BEGIN:VEVENT
DTSTART;TZID=America/Edmonton:20241022T120000
DTEND;TZID=America/Edmonton:20241022T130000
DTSTAMP:20260423T154244
CREATED:20240912T164420Z
LAST-MODIFIED:20240912T164420Z
UID:10036029-1729598400-1729602000@urbancasual.ca
SUMMARY:St. Andrew's Community Lunch
DESCRIPTION:Our free Community Lunch resumes next week: 12-1pm\, every Tuesday\, starting Sept 17th!Come join us for freshly-homemade soup\, a bun\, and good conversation\, here at St. Andrew’s United Church. 
URL:https://urbancasual.ca/cochrane-event/st-andrews-community-lunch/2024-10-22/
LOCATION:St. Andrew’s United Church\, 128 1st Street E\, Cochrane\, AB
CATEGORIES:Church Events,Community,Family Friendly,Food,Free,Parents & Caregivers,Seniors
ATTACH;FMTTYPE=image/jpeg:https://urbancasual.ca/wp-content/uploads/2024/09/459033461_519244324034266_4506866919483480440_n.jpg
END:VEVENT
BEGIN:VEVENT
DTSTART;TZID=America/Edmonton:20241019T100000
DTEND;TZID=America/Edmonton:20241019T160000
DTSTAMP:20260423T154244
CREATED:20241002T220600Z
LAST-MODIFIED:20241002T220600Z
UID:10036135-1729332000-1729353600@urbancasual.ca
SUMMARY:Foothills Art Club's Fall Art Show & Sale
DESCRIPTION:Amazing original paintings will be on display and for sale at the Foothills Art Club Annual Fall Show & Sale at the St. Andrews United Church
URL:https://urbancasual.ca/cochrane-event/foothills-art-clubs-fall-art-show-sale/
LOCATION:St. Andrew’s United Church\, 128 1st Street E\, Cochrane\, AB
CATEGORIES:Art,Church Events,Club,Sale,Shopping
ATTACH;FMTTYPE=image/jpeg:https://urbancasual.ca/wp-content/uploads/2024/09/2024-Fall-ArtShowPromoBanner.jpg
END:VEVENT
BEGIN:VEVENT
DTSTART;TZID=America/Edmonton:20241015T120000
DTEND;TZID=America/Edmonton:20241015T130000
DTSTAMP:20260423T154244
CREATED:20240912T164420Z
LAST-MODIFIED:20240912T164420Z
UID:10036028-1728993600-1728997200@urbancasual.ca
SUMMARY:St. Andrew's Community Lunch
DESCRIPTION:Our free Community Lunch resumes next week: 12-1pm\, every Tuesday\, starting Sept 17th!Come join us for freshly-homemade soup\, a bun\, and good conversation\, here at St. Andrew’s United Church. 
URL:https://urbancasual.ca/cochrane-event/st-andrews-community-lunch/2024-10-15/
LOCATION:St. Andrew’s United Church\, 128 1st Street E\, Cochrane\, AB
CATEGORIES:Church Events,Community,Family Friendly,Food,Free,Parents & Caregivers,Seniors
ATTACH;FMTTYPE=image/jpeg:https://urbancasual.ca/wp-content/uploads/2024/09/459033461_519244324034266_4506866919483480440_n.jpg
END:VEVENT
BEGIN:VEVENT
DTSTART;TZID=America/Edmonton:20241008T120000
DTEND;TZID=America/Edmonton:20241008T130000
DTSTAMP:20260423T154244
CREATED:20240912T164420Z
LAST-MODIFIED:20240912T164420Z
UID:10036027-1728388800-1728392400@urbancasual.ca
SUMMARY:St. Andrew's Community Lunch
DESCRIPTION:Our free Community Lunch resumes next week: 12-1pm\, every Tuesday\, starting Sept 17th!Come join us for freshly-homemade soup\, a bun\, and good conversation\, here at St. Andrew’s United Church. 
URL:https://urbancasual.ca/cochrane-event/st-andrews-community-lunch/2024-10-08/
LOCATION:St. Andrew’s United Church\, 128 1st Street E\, Cochrane\, AB
CATEGORIES:Church Events,Community,Family Friendly,Food,Free,Parents & Caregivers,Seniors
ATTACH;FMTTYPE=image/jpeg:https://urbancasual.ca/wp-content/uploads/2024/09/459033461_519244324034266_4506866919483480440_n.jpg
END:VEVENT
BEGIN:VEVENT
DTSTART;TZID=America/Edmonton:20241001T120000
DTEND;TZID=America/Edmonton:20241001T130000
DTSTAMP:20260423T154244
CREATED:20240912T164420Z
LAST-MODIFIED:20240912T164420Z
UID:10036026-1727784000-1727787600@urbancasual.ca
SUMMARY:St. Andrew's Community Lunch
DESCRIPTION:Our free Community Lunch resumes next week: 12-1pm\, every Tuesday\, starting Sept 17th!Come join us for freshly-homemade soup\, a bun\, and good conversation\, here at St. Andrew’s United Church. 
URL:https://urbancasual.ca/cochrane-event/st-andrews-community-lunch/2024-10-01/
LOCATION:St. Andrew’s United Church\, 128 1st Street E\, Cochrane\, AB
CATEGORIES:Church Events,Community,Family Friendly,Food,Free,Parents & Caregivers,Seniors
ATTACH;FMTTYPE=image/jpeg:https://urbancasual.ca/wp-content/uploads/2024/09/459033461_519244324034266_4506866919483480440_n.jpg
END:VEVENT
BEGIN:VEVENT
DTSTART;TZID=America/Edmonton:20240924T120000
DTEND;TZID=America/Edmonton:20240924T130000
DTSTAMP:20260423T154244
CREATED:20240912T164420Z
LAST-MODIFIED:20240912T164420Z
UID:10036025-1727179200-1727182800@urbancasual.ca
SUMMARY:St. Andrew's Community Lunch
DESCRIPTION:Our free Community Lunch resumes next week: 12-1pm\, every Tuesday\, starting Sept 17th!Come join us for freshly-homemade soup\, a bun\, and good conversation\, here at St. Andrew’s United Church. 
URL:https://urbancasual.ca/cochrane-event/st-andrews-community-lunch/2024-09-24/
LOCATION:St. Andrew’s United Church\, 128 1st Street E\, Cochrane\, AB
CATEGORIES:Church Events,Community,Family Friendly,Food,Free,Parents & Caregivers,Seniors
ATTACH;FMTTYPE=image/jpeg:https://urbancasual.ca/wp-content/uploads/2024/09/459033461_519244324034266_4506866919483480440_n.jpg
END:VEVENT
BEGIN:VEVENT
DTSTART;TZID=America/Edmonton:20240917T120000
DTEND;TZID=America/Edmonton:20240917T130000
DTSTAMP:20260423T154244
CREATED:20240912T164420Z
LAST-MODIFIED:20240912T164420Z
UID:10036024-1726574400-1726578000@urbancasual.ca
SUMMARY:St. Andrew's Community Lunch
DESCRIPTION:Our free Community Lunch resumes next week: 12-1pm\, every Tuesday\, starting Sept 17th!Come join us for freshly-homemade soup\, a bun\, and good conversation\, here at St. Andrew’s United Church. 
URL:https://urbancasual.ca/cochrane-event/st-andrews-community-lunch/2024-09-17/
LOCATION:St. Andrew’s United Church\, 128 1st Street E\, Cochrane\, AB
CATEGORIES:Church Events,Community,Family Friendly,Food,Free,Parents & Caregivers,Seniors
ATTACH;FMTTYPE=image/jpeg:https://urbancasual.ca/wp-content/uploads/2024/09/459033461_519244324034266_4506866919483480440_n.jpg
END:VEVENT
END:VCALENDAR