BEGIN:VCALENDAR
VERSION:2.0
PRODID:-//Urbancasual.ca - ECPv6.15.20//NONSGML v1.0//EN
CALSCALE:GREGORIAN
METHOD:PUBLISH
X-ORIGINAL-URL:https://urbancasual.ca
X-WR-CALDESC:Events for Urbancasual.ca
REFRESH-INTERVAL;VALUE=DURATION:PT1H
X-Robots-Tag:noindex
X-PUBLISHED-TTL:PT1H
BEGIN:VTIMEZONE
TZID:America/Edmonton
BEGIN:DAYLIGHT
TZOFFSETFROM:-0700
TZOFFSETTO:-0600
TZNAME:MDT
DTSTART:20240310T090000
END:DAYLIGHT
BEGIN:STANDARD
TZOFFSETFROM:-0600
TZOFFSETTO:-0700
TZNAME:MST
DTSTART:20241103T080000
END:STANDARD
BEGIN:DAYLIGHT
TZOFFSETFROM:-0700
TZOFFSETTO:-0600
TZNAME:MDT
DTSTART:20250309T090000
END:DAYLIGHT
BEGIN:STANDARD
TZOFFSETFROM:-0600
TZOFFSETTO:-0700
TZNAME:MST
DTSTART:20251102T080000
END:STANDARD
BEGIN:DAYLIGHT
TZOFFSETFROM:-0700
TZOFFSETTO:-0600
TZNAME:MDT
DTSTART:20260308T090000
END:DAYLIGHT
BEGIN:STANDARD
TZOFFSETFROM:-0600
TZOFFSETTO:-0700
TZNAME:MST
DTSTART:20261101T080000
END:STANDARD
END:VTIMEZONE
BEGIN:VEVENT
DTSTART;TZID=America/Edmonton:20250517T180000
DTEND;TZID=America/Edmonton:20250517T210000
DTSTAMP:20260425T112032
CREATED:20241219T180111Z
LAST-MODIFIED:20260312T155218Z
UID:10032331-1747504800-1747515600@urbancasual.ca
SUMMARY:LIVE music Saturdays at Rocky View Brewing
DESCRIPTION:  \n  \n  \nLive music Saturdays in the taproom starting at 6pm. \n  \n  \n  \n  \n  \n  \n 
URL:https://urbancasual.ca/cochrane-event/live-music-saturdays-at-rocky-view-brewing-9-15-2-2/2025-05-17/
LOCATION:Rocky View Taproom\, 420 1st Street\, Cochrane\, AB
CATEGORIES:Business,Downtown,Entertainment & Games,Music,Pub/Bar Event,Restaurant
ATTACH;FMTTYPE=image/jpeg:https://urbancasual.ca/wp-content/uploads/2024/07/241712073_342240897364337_6168788210147837504_n-3.jpg
END:VEVENT
BEGIN:VEVENT
DTSTART;TZID=America/Edmonton:20250514T170000
DTEND;TZID=America/Edmonton:20250514T203000
DTSTAMP:20260425T112032
CREATED:20241210T012230Z
LAST-MODIFIED:20260211T225039Z
UID:10039721-1747242000-1747254600@urbancasual.ca
SUMMARY:Wing Night at The Taproom
DESCRIPTION:Join us every Wednesday from 5pm to 8:30pm for $8.50/lb wings! \nWe have a variety of flavours from you to choose from. You won’t wanna miss it!
URL:https://urbancasual.ca/cochrane-event/wing-night-at-the-taproom/2025-05-14/
LOCATION:Rocky View Taproom\, 420 1st Street\, Cochrane\, AB
CATEGORIES:Business,Entertainment & Games,Food,Pub/Bar Event,Restaurant
ATTACH;FMTTYPE=image/jpeg:https://urbancasual.ca/wp-content/uploads/2024/12/465707656_18375053353104462_8115185856607810178_n.jpg
END:VEVENT
BEGIN:VEVENT
DTSTART;TZID=America/Edmonton:20250510T180000
DTEND;TZID=America/Edmonton:20250510T210000
DTSTAMP:20260425T112032
CREATED:20241219T180111Z
LAST-MODIFIED:20260312T155218Z
UID:10032330-1746900000-1746910800@urbancasual.ca
SUMMARY:LIVE music Saturdays at Rocky View Brewing
DESCRIPTION:  \n  \n  \nLive music Saturdays in the taproom starting at 6pm. \n  \n  \n  \n  \n  \n  \n 
URL:https://urbancasual.ca/cochrane-event/live-music-saturdays-at-rocky-view-brewing-9-15-2-2/2025-05-10/
LOCATION:Rocky View Taproom\, 420 1st Street\, Cochrane\, AB
CATEGORIES:Business,Downtown,Entertainment & Games,Music,Pub/Bar Event,Restaurant
ATTACH;FMTTYPE=image/jpeg:https://urbancasual.ca/wp-content/uploads/2024/07/241712073_342240897364337_6168788210147837504_n-3.jpg
END:VEVENT
BEGIN:VEVENT
DTSTART;TZID=America/Edmonton:20250507T170000
DTEND;TZID=America/Edmonton:20250507T203000
DTSTAMP:20260425T112032
CREATED:20241210T012230Z
LAST-MODIFIED:20260211T225039Z
UID:10039720-1746637200-1746649800@urbancasual.ca
SUMMARY:Wing Night at The Taproom
DESCRIPTION:Join us every Wednesday from 5pm to 8:30pm for $8.50/lb wings! \nWe have a variety of flavours from you to choose from. You won’t wanna miss it!
URL:https://urbancasual.ca/cochrane-event/wing-night-at-the-taproom/2025-05-07/
LOCATION:Rocky View Taproom\, 420 1st Street\, Cochrane\, AB
CATEGORIES:Business,Entertainment & Games,Food,Pub/Bar Event,Restaurant
ATTACH;FMTTYPE=image/jpeg:https://urbancasual.ca/wp-content/uploads/2024/12/465707656_18375053353104462_8115185856607810178_n.jpg
END:VEVENT
BEGIN:VEVENT
DTSTART;TZID=America/Edmonton:20250503T180000
DTEND;TZID=America/Edmonton:20250503T210000
DTSTAMP:20260425T112032
CREATED:20241219T180111Z
LAST-MODIFIED:20260312T155218Z
UID:10032329-1746295200-1746306000@urbancasual.ca
SUMMARY:LIVE music Saturdays at Rocky View Brewing
DESCRIPTION:  \n  \n  \nLive music Saturdays in the taproom starting at 6pm. \n  \n  \n  \n  \n  \n  \n 
URL:https://urbancasual.ca/cochrane-event/live-music-saturdays-at-rocky-view-brewing-9-15-2-2/2025-05-03/
LOCATION:Rocky View Taproom\, 420 1st Street\, Cochrane\, AB
CATEGORIES:Business,Downtown,Entertainment & Games,Music,Pub/Bar Event,Restaurant
ATTACH;FMTTYPE=image/jpeg:https://urbancasual.ca/wp-content/uploads/2024/07/241712073_342240897364337_6168788210147837504_n-3.jpg
END:VEVENT
BEGIN:VEVENT
DTSTART;TZID=America/Edmonton:20250501T180000
DTEND;TZID=America/Edmonton:20250501T200000
DTSTAMP:20260425T112032
CREATED:20250409T200454Z
LAST-MODIFIED:20250409T200454Z
UID:10046227-1746122400-1746129600@urbancasual.ca
SUMMARY:Open Mic Night at Rocky View Taproom
DESCRIPTION:Hey there music lovers! We’re super exited to invite you to the first Open Mic night at The Taproom! This is an amazing opportunity to share your talent and connect with fellow musicians. Come join us for an evening filled with great music\, tasty food and of course #goodbeerfromgoodfolks \nFun begins at 6pm!
URL:https://urbancasual.ca/cochrane-event/open-mic-night-at-rocky-view-taproom/
LOCATION:Rocky View Taproom\, 420 1st Street\, Cochrane\, AB
CATEGORIES:Business,Entertainment & Games,Music,OPEN MIC,Pub/Bar Event,Restaurant
ATTACH;FMTTYPE=image/jpeg:https://urbancasual.ca/wp-content/uploads/2025/04/inbound8662477800493585224.jpg
END:VEVENT
BEGIN:VEVENT
DTSTART;TZID=America/Edmonton:20250430T170000
DTEND;TZID=America/Edmonton:20250430T203000
DTSTAMP:20260425T112032
CREATED:20241210T012230Z
LAST-MODIFIED:20260211T225039Z
UID:10039719-1746032400-1746045000@urbancasual.ca
SUMMARY:Wing Night at The Taproom
DESCRIPTION:Join us every Wednesday from 5pm to 8:30pm for $8.50/lb wings! \nWe have a variety of flavours from you to choose from. You won’t wanna miss it!
URL:https://urbancasual.ca/cochrane-event/wing-night-at-the-taproom/2025-04-30/
LOCATION:Rocky View Taproom\, 420 1st Street\, Cochrane\, AB
CATEGORIES:Business,Entertainment & Games,Food,Pub/Bar Event,Restaurant
ATTACH;FMTTYPE=image/jpeg:https://urbancasual.ca/wp-content/uploads/2024/12/465707656_18375053353104462_8115185856607810178_n.jpg
END:VEVENT
BEGIN:VEVENT
DTSTART;TZID=America/Edmonton:20250426T180000
DTEND;TZID=America/Edmonton:20250426T210000
DTSTAMP:20260425T112032
CREATED:20241219T180111Z
LAST-MODIFIED:20260312T155218Z
UID:10032328-1745690400-1745701200@urbancasual.ca
SUMMARY:LIVE music Saturdays at Rocky View Brewing
DESCRIPTION:  \n  \n  \nLive music Saturdays in the taproom starting at 6pm. \n  \n  \n  \n  \n  \n  \n 
URL:https://urbancasual.ca/cochrane-event/live-music-saturdays-at-rocky-view-brewing-9-15-2-2/2025-04-26/
LOCATION:Rocky View Taproom\, 420 1st Street\, Cochrane\, AB
CATEGORIES:Business,Downtown,Entertainment & Games,Music,Pub/Bar Event,Restaurant
ATTACH;FMTTYPE=image/jpeg:https://urbancasual.ca/wp-content/uploads/2024/07/241712073_342240897364337_6168788210147837504_n-3.jpg
END:VEVENT
BEGIN:VEVENT
DTSTART;TZID=America/Edmonton:20250423T170000
DTEND;TZID=America/Edmonton:20250423T203000
DTSTAMP:20260425T112032
CREATED:20241210T012230Z
LAST-MODIFIED:20260211T225039Z
UID:10039718-1745427600-1745440200@urbancasual.ca
SUMMARY:Wing Night at The Taproom
DESCRIPTION:Join us every Wednesday from 5pm to 8:30pm for $8.50/lb wings! \nWe have a variety of flavours from you to choose from. You won’t wanna miss it!
URL:https://urbancasual.ca/cochrane-event/wing-night-at-the-taproom/2025-04-23/
LOCATION:Rocky View Taproom\, 420 1st Street\, Cochrane\, AB
CATEGORIES:Business,Entertainment & Games,Food,Pub/Bar Event,Restaurant
ATTACH;FMTTYPE=image/jpeg:https://urbancasual.ca/wp-content/uploads/2024/12/465707656_18375053353104462_8115185856607810178_n.jpg
END:VEVENT
BEGIN:VEVENT
DTSTART;TZID=America/Edmonton:20250419T180000
DTEND;TZID=America/Edmonton:20250419T210000
DTSTAMP:20260425T112032
CREATED:20241219T180111Z
LAST-MODIFIED:20260312T155218Z
UID:10032327-1745085600-1745096400@urbancasual.ca
SUMMARY:LIVE music Saturdays at Rocky View Brewing
DESCRIPTION:  \n  \n  \nLive music Saturdays in the taproom starting at 6pm. \n  \n  \n  \n  \n  \n  \n 
URL:https://urbancasual.ca/cochrane-event/live-music-saturdays-at-rocky-view-brewing-9-15-2-2/2025-04-19/
LOCATION:Rocky View Taproom\, 420 1st Street\, Cochrane\, AB
CATEGORIES:Business,Downtown,Entertainment & Games,Music,Pub/Bar Event,Restaurant
ATTACH;FMTTYPE=image/jpeg:https://urbancasual.ca/wp-content/uploads/2024/07/241712073_342240897364337_6168788210147837504_n-3.jpg
END:VEVENT
BEGIN:VEVENT
DTSTART;TZID=America/Edmonton:20250416T170000
DTEND;TZID=America/Edmonton:20250416T203000
DTSTAMP:20260425T112032
CREATED:20241210T012230Z
LAST-MODIFIED:20260211T225039Z
UID:10039717-1744822800-1744835400@urbancasual.ca
SUMMARY:Wing Night at The Taproom
DESCRIPTION:Join us every Wednesday from 5pm to 8:30pm for $8.50/lb wings! \nWe have a variety of flavours from you to choose from. You won’t wanna miss it!
URL:https://urbancasual.ca/cochrane-event/wing-night-at-the-taproom/2025-04-16/
LOCATION:Rocky View Taproom\, 420 1st Street\, Cochrane\, AB
CATEGORIES:Business,Entertainment & Games,Food,Pub/Bar Event,Restaurant
ATTACH;FMTTYPE=image/jpeg:https://urbancasual.ca/wp-content/uploads/2024/12/465707656_18375053353104462_8115185856607810178_n.jpg
END:VEVENT
BEGIN:VEVENT
DTSTART;TZID=America/Edmonton:20250415T183000
DTEND;TZID=America/Edmonton:20250415T200000
DTSTAMP:20260425T112032
CREATED:20250121T225446Z
LAST-MODIFIED:20250121T225726Z
UID:10044138-1744741800-1744747200@urbancasual.ca
SUMMARY:Taproom Trivia
DESCRIPTION:TUESDAY\, JANUARY 21 – 6:30PM TO 8PM \n  \nEVERY TWO WEEKS: \nFEBRUARY 4TH \nFEBRUARY 18TH \nMARCH 4TH \nMARCH 18TH \nAPRIL 1ST \nAPRIL 15TH \n  \n  \n 
URL:https://urbancasual.ca/cochrane-event/taproom-trivia-3/2025-04-15/
LOCATION:Rocky View Taproom\, 420 1st Street\, Cochrane\, AB
CATEGORIES:Business,Community,Downtown,Entertainment & Games,Free,Pub/Bar Event
ATTACH;FMTTYPE=image/jpeg:https://urbancasual.ca/wp-content/uploads/2025/01/471541011_1222709709317447_3641802563782279192_n.jpg
END:VEVENT
BEGIN:VEVENT
DTSTART;TZID=America/Edmonton:20250413T160000
DTEND;TZID=America/Edmonton:20250413T180000
DTSTAMP:20260425T112032
CREATED:20250327T191308Z
LAST-MODIFIED:20250327T191308Z
UID:10045555-1744560000-1744567200@urbancasual.ca
SUMMARY:Puzzle Race at Rocky View Taproom
DESCRIPTION:Our 2025 Spring Puzzle Races are wrapping up with our final event on April 13! Grab ONE ticket per team of 2-4 people. We’ll give everyone the same 500-piece puzzle\, and the first team to finish wins!We ask that teams arrive no later than 3:30pm to get set up before the race starts!
URL:https://urbancasual.ca/cochrane-event/puzzle-race-at-rocky-view-taproom-2/
LOCATION:Rocky View Taproom\, 420 1st Street\, Cochrane\, AB
CATEGORIES:Entertainment & Games,Pub/Bar Event
ATTACH;FMTTYPE=image/jpeg:https://urbancasual.ca/wp-content/uploads/2025/03/Screenshot_20250327_115354_Instagram.jpg
END:VEVENT
BEGIN:VEVENT
DTSTART;TZID=America/Edmonton:20250412T180000
DTEND;TZID=America/Edmonton:20250412T210000
DTSTAMP:20260425T112032
CREATED:20241219T180111Z
LAST-MODIFIED:20260312T155218Z
UID:10032326-1744480800-1744491600@urbancasual.ca
SUMMARY:LIVE music Saturdays at Rocky View Brewing
DESCRIPTION:  \n  \n  \nLive music Saturdays in the taproom starting at 6pm. \n  \n  \n  \n  \n  \n  \n 
URL:https://urbancasual.ca/cochrane-event/live-music-saturdays-at-rocky-view-brewing-9-15-2-2/2025-04-12/
LOCATION:Rocky View Taproom\, 420 1st Street\, Cochrane\, AB
CATEGORIES:Business,Downtown,Entertainment & Games,Music,Pub/Bar Event,Restaurant
ATTACH;FMTTYPE=image/jpeg:https://urbancasual.ca/wp-content/uploads/2024/07/241712073_342240897364337_6168788210147837504_n-3.jpg
END:VEVENT
BEGIN:VEVENT
DTSTART;TZID=America/Edmonton:20250409T170000
DTEND;TZID=America/Edmonton:20250409T203000
DTSTAMP:20260425T112032
CREATED:20241210T012230Z
LAST-MODIFIED:20260211T225039Z
UID:10039716-1744218000-1744230600@urbancasual.ca
SUMMARY:Wing Night at The Taproom
DESCRIPTION:Join us every Wednesday from 5pm to 8:30pm for $8.50/lb wings! \nWe have a variety of flavours from you to choose from. You won’t wanna miss it!
URL:https://urbancasual.ca/cochrane-event/wing-night-at-the-taproom/2025-04-09/
LOCATION:Rocky View Taproom\, 420 1st Street\, Cochrane\, AB
CATEGORIES:Business,Entertainment & Games,Food,Pub/Bar Event,Restaurant
ATTACH;FMTTYPE=image/jpeg:https://urbancasual.ca/wp-content/uploads/2024/12/465707656_18375053353104462_8115185856607810178_n.jpg
END:VEVENT
BEGIN:VEVENT
DTSTART;TZID=America/Edmonton:20250405T180000
DTEND;TZID=America/Edmonton:20250405T210000
DTSTAMP:20260425T112032
CREATED:20241219T180111Z
LAST-MODIFIED:20260312T155218Z
UID:10032325-1743876000-1743886800@urbancasual.ca
SUMMARY:LIVE music Saturdays at Rocky View Brewing
DESCRIPTION:  \n  \n  \nLive music Saturdays in the taproom starting at 6pm. \n  \n  \n  \n  \n  \n  \n 
URL:https://urbancasual.ca/cochrane-event/live-music-saturdays-at-rocky-view-brewing-9-15-2-2/2025-04-05/
LOCATION:Rocky View Taproom\, 420 1st Street\, Cochrane\, AB
CATEGORIES:Business,Downtown,Entertainment & Games,Music,Pub/Bar Event,Restaurant
ATTACH;FMTTYPE=image/jpeg:https://urbancasual.ca/wp-content/uploads/2024/07/241712073_342240897364337_6168788210147837504_n-3.jpg
END:VEVENT
BEGIN:VEVENT
DTSTART;TZID=America/Edmonton:20250402T170000
DTEND;TZID=America/Edmonton:20250402T203000
DTSTAMP:20260425T112032
CREATED:20241210T012230Z
LAST-MODIFIED:20260211T225039Z
UID:10039715-1743613200-1743625800@urbancasual.ca
SUMMARY:Wing Night at The Taproom
DESCRIPTION:Join us every Wednesday from 5pm to 8:30pm for $8.50/lb wings! \nWe have a variety of flavours from you to choose from. You won’t wanna miss it!
URL:https://urbancasual.ca/cochrane-event/wing-night-at-the-taproom/2025-04-02/
LOCATION:Rocky View Taproom\, 420 1st Street\, Cochrane\, AB
CATEGORIES:Business,Entertainment & Games,Food,Pub/Bar Event,Restaurant
ATTACH;FMTTYPE=image/jpeg:https://urbancasual.ca/wp-content/uploads/2024/12/465707656_18375053353104462_8115185856607810178_n.jpg
END:VEVENT
BEGIN:VEVENT
DTSTART;TZID=America/Edmonton:20250401T183000
DTEND;TZID=America/Edmonton:20250401T200000
DTSTAMP:20260425T112032
CREATED:20250327T191129Z
LAST-MODIFIED:20250327T191643Z
UID:10045554-1743532200-1743537600@urbancasual.ca
SUMMARY:Music Bingo at Rocky View Taproom
DESCRIPTION:Join us this Tuesday\, April 1\, at 6:30 PM for an exciting night of Rock & Roll Music Bingo!
URL:https://urbancasual.ca/cochrane-event/music-bingo-at-rocky-view-taproom/
LOCATION:Rocky View Taproom\, 420 1st Street\, Cochrane\, AB
CATEGORIES:Entertainment & Games,Legion,Pub/Bar Event
ATTACH;FMTTYPE=image/jpeg:https://urbancasual.ca/wp-content/uploads/2025/03/Screenshot_20250327_115345_Instagram.jpg
END:VEVENT
BEGIN:VEVENT
DTSTART;TZID=America/Edmonton:20250401T183000
DTEND;TZID=America/Edmonton:20250401T200000
DTSTAMP:20260425T112032
CREATED:20250121T225446Z
LAST-MODIFIED:20250121T225726Z
UID:10044137-1743532200-1743537600@urbancasual.ca
SUMMARY:Taproom Trivia
DESCRIPTION:TUESDAY\, JANUARY 21 – 6:30PM TO 8PM \n  \nEVERY TWO WEEKS: \nFEBRUARY 4TH \nFEBRUARY 18TH \nMARCH 4TH \nMARCH 18TH \nAPRIL 1ST \nAPRIL 15TH \n  \n  \n 
URL:https://urbancasual.ca/cochrane-event/taproom-trivia-3/2025-04-01/
LOCATION:Rocky View Taproom\, 420 1st Street\, Cochrane\, AB
CATEGORIES:Business,Community,Downtown,Entertainment & Games,Free,Pub/Bar Event
ATTACH;FMTTYPE=image/jpeg:https://urbancasual.ca/wp-content/uploads/2025/01/471541011_1222709709317447_3641802563782279192_n.jpg
END:VEVENT
BEGIN:VEVENT
DTSTART;TZID=America/Edmonton:20250329T180000
DTEND;TZID=America/Edmonton:20250329T210000
DTSTAMP:20260425T112032
CREATED:20241219T180111Z
LAST-MODIFIED:20260312T155218Z
UID:10032324-1743271200-1743282000@urbancasual.ca
SUMMARY:LIVE music Saturdays at Rocky View Brewing
DESCRIPTION:  \n  \n  \nLive music Saturdays in the taproom starting at 6pm. \n  \n  \n  \n  \n  \n  \n 
URL:https://urbancasual.ca/cochrane-event/live-music-saturdays-at-rocky-view-brewing-9-15-2-2/2025-03-29/
LOCATION:Rocky View Taproom\, 420 1st Street\, Cochrane\, AB
CATEGORIES:Business,Downtown,Entertainment & Games,Music,Pub/Bar Event,Restaurant
ATTACH;FMTTYPE=image/jpeg:https://urbancasual.ca/wp-content/uploads/2024/07/241712073_342240897364337_6168788210147837504_n-3.jpg
END:VEVENT
BEGIN:VEVENT
DTSTART;TZID=America/Edmonton:20250326T170000
DTEND;TZID=America/Edmonton:20250326T203000
DTSTAMP:20260425T112032
CREATED:20241210T012230Z
LAST-MODIFIED:20260211T225039Z
UID:10039714-1743008400-1743021000@urbancasual.ca
SUMMARY:Wing Night at The Taproom
DESCRIPTION:Join us every Wednesday from 5pm to 8:30pm for $8.50/lb wings! \nWe have a variety of flavours from you to choose from. You won’t wanna miss it!
URL:https://urbancasual.ca/cochrane-event/wing-night-at-the-taproom/2025-03-26/
LOCATION:Rocky View Taproom\, 420 1st Street\, Cochrane\, AB
CATEGORIES:Business,Entertainment & Games,Food,Pub/Bar Event,Restaurant
ATTACH;FMTTYPE=image/jpeg:https://urbancasual.ca/wp-content/uploads/2024/12/465707656_18375053353104462_8115185856607810178_n.jpg
END:VEVENT
BEGIN:VEVENT
DTSTART;TZID=America/Edmonton:20250322T180000
DTEND;TZID=America/Edmonton:20250322T210000
DTSTAMP:20260425T112032
CREATED:20241219T180111Z
LAST-MODIFIED:20260312T155218Z
UID:10032323-1742666400-1742677200@urbancasual.ca
SUMMARY:LIVE music Saturdays at Rocky View Brewing
DESCRIPTION:  \n  \n  \nLive music Saturdays in the taproom starting at 6pm. \n  \n  \n  \n  \n  \n  \n 
URL:https://urbancasual.ca/cochrane-event/live-music-saturdays-at-rocky-view-brewing-9-15-2-2/2025-03-22/
LOCATION:Rocky View Taproom\, 420 1st Street\, Cochrane\, AB
CATEGORIES:Business,Downtown,Entertainment & Games,Music,Pub/Bar Event,Restaurant
ATTACH;FMTTYPE=image/jpeg:https://urbancasual.ca/wp-content/uploads/2024/07/241712073_342240897364337_6168788210147837504_n-3.jpg
END:VEVENT
BEGIN:VEVENT
DTSTART;TZID=America/Edmonton:20250319T170000
DTEND;TZID=America/Edmonton:20250319T203000
DTSTAMP:20260425T112032
CREATED:20241210T012230Z
LAST-MODIFIED:20260211T225039Z
UID:10039713-1742403600-1742416200@urbancasual.ca
SUMMARY:Wing Night at The Taproom
DESCRIPTION:Join us every Wednesday from 5pm to 8:30pm for $8.50/lb wings! \nWe have a variety of flavours from you to choose from. You won’t wanna miss it!
URL:https://urbancasual.ca/cochrane-event/wing-night-at-the-taproom/2025-03-19/
LOCATION:Rocky View Taproom\, 420 1st Street\, Cochrane\, AB
CATEGORIES:Business,Entertainment & Games,Food,Pub/Bar Event,Restaurant
ATTACH;FMTTYPE=image/jpeg:https://urbancasual.ca/wp-content/uploads/2024/12/465707656_18375053353104462_8115185856607810178_n.jpg
END:VEVENT
BEGIN:VEVENT
DTSTART;TZID=America/Edmonton:20250318T183000
DTEND;TZID=America/Edmonton:20250318T200000
DTSTAMP:20260425T112032
CREATED:20250121T225446Z
LAST-MODIFIED:20250121T225726Z
UID:10044136-1742322600-1742328000@urbancasual.ca
SUMMARY:Taproom Trivia
DESCRIPTION:TUESDAY\, JANUARY 21 – 6:30PM TO 8PM \n  \nEVERY TWO WEEKS: \nFEBRUARY 4TH \nFEBRUARY 18TH \nMARCH 4TH \nMARCH 18TH \nAPRIL 1ST \nAPRIL 15TH \n  \n  \n 
URL:https://urbancasual.ca/cochrane-event/taproom-trivia-3/2025-03-18/
LOCATION:Rocky View Taproom\, 420 1st Street\, Cochrane\, AB
CATEGORIES:Business,Community,Downtown,Entertainment & Games,Free,Pub/Bar Event
ATTACH;FMTTYPE=image/jpeg:https://urbancasual.ca/wp-content/uploads/2025/01/471541011_1222709709317447_3641802563782279192_n.jpg
END:VEVENT
BEGIN:VEVENT
DTSTART;TZID=America/Edmonton:20250315T180000
DTEND;TZID=America/Edmonton:20250315T210000
DTSTAMP:20260425T112032
CREATED:20241219T180111Z
LAST-MODIFIED:20260312T155218Z
UID:10032322-1742061600-1742072400@urbancasual.ca
SUMMARY:LIVE music Saturdays at Rocky View Brewing
DESCRIPTION:  \n  \n  \nLive music Saturdays in the taproom starting at 6pm. \n  \n  \n  \n  \n  \n  \n 
URL:https://urbancasual.ca/cochrane-event/live-music-saturdays-at-rocky-view-brewing-9-15-2-2/2025-03-15/
LOCATION:Rocky View Taproom\, 420 1st Street\, Cochrane\, AB
CATEGORIES:Business,Downtown,Entertainment & Games,Music,Pub/Bar Event,Restaurant
ATTACH;FMTTYPE=image/jpeg:https://urbancasual.ca/wp-content/uploads/2024/07/241712073_342240897364337_6168788210147837504_n-3.jpg
END:VEVENT
BEGIN:VEVENT
DTSTART;VALUE=DATE:20250315
DTEND;VALUE=DATE:20250319
DTSTAMP:20260425T112032
CREATED:20250310T064355Z
LAST-MODIFIED:20250310T064355Z
UID:10045365-1742007600-1742266799@urbancasual.ca
SUMMARY:Rocky View Brewing Taproom St. Patrick's Day
DESCRIPTION:
URL:https://urbancasual.ca/cochrane-event/rocky-view-brewing-taproom-st-patricks-day/
LOCATION:Rocky View Taproom\, 420 1st Street\, Cochrane\, AB
CATEGORIES:Pub/Bar Event,St. Patrick's Day 2025
ATTACH;FMTTYPE=image/jpeg:https://urbancasual.ca/wp-content/uploads/2025/03/480648726_18390453889104462_1027850111523471023_n.jpg
END:VEVENT
BEGIN:VEVENT
DTSTART;TZID=America/Edmonton:20250312T170000
DTEND;TZID=America/Edmonton:20250312T203000
DTSTAMP:20260425T112032
CREATED:20241210T012230Z
LAST-MODIFIED:20260211T225039Z
UID:10039712-1741798800-1741811400@urbancasual.ca
SUMMARY:Wing Night at The Taproom
DESCRIPTION:Join us every Wednesday from 5pm to 8:30pm for $8.50/lb wings! \nWe have a variety of flavours from you to choose from. You won’t wanna miss it!
URL:https://urbancasual.ca/cochrane-event/wing-night-at-the-taproom/2025-03-12/
LOCATION:Rocky View Taproom\, 420 1st Street\, Cochrane\, AB
CATEGORIES:Business,Entertainment & Games,Food,Pub/Bar Event,Restaurant
ATTACH;FMTTYPE=image/jpeg:https://urbancasual.ca/wp-content/uploads/2024/12/465707656_18375053353104462_8115185856607810178_n.jpg
END:VEVENT
BEGIN:VEVENT
DTSTART;TZID=America/Edmonton:20250308T180000
DTEND;TZID=America/Edmonton:20250308T210000
DTSTAMP:20260425T112032
CREATED:20241219T180111Z
LAST-MODIFIED:20260312T155218Z
UID:10032321-1741456800-1741467600@urbancasual.ca
SUMMARY:LIVE music Saturdays at Rocky View Brewing
DESCRIPTION:  \n  \n  \nLive music Saturdays in the taproom starting at 6pm. \n  \n  \n  \n  \n  \n  \n 
URL:https://urbancasual.ca/cochrane-event/live-music-saturdays-at-rocky-view-brewing-9-15-2-2/2025-03-08/
LOCATION:Rocky View Taproom\, 420 1st Street\, Cochrane\, AB
CATEGORIES:Business,Downtown,Entertainment & Games,Music,Pub/Bar Event,Restaurant
ATTACH;FMTTYPE=image/jpeg:https://urbancasual.ca/wp-content/uploads/2024/07/241712073_342240897364337_6168788210147837504_n-3.jpg
END:VEVENT
BEGIN:VEVENT
DTSTART;TZID=America/Edmonton:20250305T170000
DTEND;TZID=America/Edmonton:20250305T203000
DTSTAMP:20260425T112032
CREATED:20241210T012230Z
LAST-MODIFIED:20260211T225039Z
UID:10039711-1741194000-1741206600@urbancasual.ca
SUMMARY:Wing Night at The Taproom
DESCRIPTION:Join us every Wednesday from 5pm to 8:30pm for $8.50/lb wings! \nWe have a variety of flavours from you to choose from. You won’t wanna miss it!
URL:https://urbancasual.ca/cochrane-event/wing-night-at-the-taproom/2025-03-05/
LOCATION:Rocky View Taproom\, 420 1st Street\, Cochrane\, AB
CATEGORIES:Business,Entertainment & Games,Food,Pub/Bar Event,Restaurant
ATTACH;FMTTYPE=image/jpeg:https://urbancasual.ca/wp-content/uploads/2024/12/465707656_18375053353104462_8115185856607810178_n.jpg
END:VEVENT
BEGIN:VEVENT
DTSTART;TZID=America/Edmonton:20250304T183000
DTEND;TZID=America/Edmonton:20250304T200000
DTSTAMP:20260425T112032
CREATED:20250121T225446Z
LAST-MODIFIED:20250121T225726Z
UID:10044135-1741113000-1741118400@urbancasual.ca
SUMMARY:Taproom Trivia
DESCRIPTION:TUESDAY\, JANUARY 21 – 6:30PM TO 8PM \n  \nEVERY TWO WEEKS: \nFEBRUARY 4TH \nFEBRUARY 18TH \nMARCH 4TH \nMARCH 18TH \nAPRIL 1ST \nAPRIL 15TH \n  \n  \n 
URL:https://urbancasual.ca/cochrane-event/taproom-trivia-3/2025-03-04/
LOCATION:Rocky View Taproom\, 420 1st Street\, Cochrane\, AB
CATEGORIES:Business,Community,Downtown,Entertainment & Games,Free,Pub/Bar Event
ATTACH;FMTTYPE=image/jpeg:https://urbancasual.ca/wp-content/uploads/2025/01/471541011_1222709709317447_3641802563782279192_n.jpg
END:VEVENT
END:VCALENDAR