BEGIN:VCALENDAR
VERSION:2.0
PRODID:-//Urbancasual.ca - ECPv6.15.20//NONSGML v1.0//EN
CALSCALE:GREGORIAN
METHOD:PUBLISH
X-ORIGINAL-URL:https://urbancasual.ca
X-WR-CALDESC:Events for Urbancasual.ca
REFRESH-INTERVAL;VALUE=DURATION:PT1H
X-Robots-Tag:noindex
X-PUBLISHED-TTL:PT1H
BEGIN:VTIMEZONE
TZID:America/Edmonton
BEGIN:DAYLIGHT
TZOFFSETFROM:-0700
TZOFFSETTO:-0600
TZNAME:MDT
DTSTART:20270314T090000
END:DAYLIGHT
BEGIN:STANDARD
TZOFFSETFROM:-0600
TZOFFSETTO:-0700
TZNAME:MST
DTSTART:20271107T080000
END:STANDARD
BEGIN:DAYLIGHT
TZOFFSETFROM:-0700
TZOFFSETTO:-0600
TZNAME:MDT
DTSTART:20280312T090000
END:DAYLIGHT
BEGIN:STANDARD
TZOFFSETFROM:-0600
TZOFFSETTO:-0700
TZNAME:MST
DTSTART:20281105T080000
END:STANDARD
BEGIN:DAYLIGHT
TZOFFSETFROM:-0700
TZOFFSETTO:-0600
TZNAME:MDT
DTSTART:20290311T090000
END:DAYLIGHT
BEGIN:STANDARD
TZOFFSETFROM:-0600
TZOFFSETTO:-0700
TZNAME:MST
DTSTART:20291104T080000
END:STANDARD
END:VTIMEZONE
BEGIN:VEVENT
DTSTART;TZID=America/Edmonton:20280429T180000
DTEND;TZID=America/Edmonton:20280429T210000
DTSTAMP:20260425T183128
CREATED:20241219T180111Z
LAST-MODIFIED:20260312T155218Z
UID:10032485-1840644000-1840654800@urbancasual.ca
SUMMARY:LIVE music Saturdays at Rocky View Brewing
DESCRIPTION:  \n  \n  \nLive music Saturdays in the taproom starting at 6pm. \n  \n  \n  \n  \n  \n  \n 
URL:https://urbancasual.ca/cochrane-event/live-music-saturdays-at-rocky-view-brewing-9-15-2-2/2028-04-29/
LOCATION:Rocky View Taproom\, 420 1st Street\, Cochrane\, AB
CATEGORIES:Business,Downtown,Entertainment & Games,Music,Pub/Bar Event,Restaurant
ATTACH;FMTTYPE=image/jpeg:https://urbancasual.ca/wp-content/uploads/2024/07/241712073_342240897364337_6168788210147837504_n-3.jpg
END:VEVENT
BEGIN:VEVENT
DTSTART;TZID=America/Edmonton:20280503T170000
DTEND;TZID=America/Edmonton:20280503T203000
DTSTAMP:20260425T183128
CREATED:20241210T012230Z
LAST-MODIFIED:20260211T225039Z
UID:10039876-1840986000-1840998600@urbancasual.ca
SUMMARY:Wing Night at The Taproom
DESCRIPTION:Join us every Wednesday from 5pm to 8:30pm for $8.50/lb wings! \nWe have a variety of flavours from you to choose from. You won’t wanna miss it!
URL:https://urbancasual.ca/cochrane-event/wing-night-at-the-taproom/2028-05-03/
LOCATION:Rocky View Taproom\, 420 1st Street\, Cochrane\, AB
CATEGORIES:Business,Entertainment & Games,Food,Pub/Bar Event,Restaurant
ATTACH;FMTTYPE=image/jpeg:https://urbancasual.ca/wp-content/uploads/2024/12/465707656_18375053353104462_8115185856607810178_n.jpg
END:VEVENT
BEGIN:VEVENT
DTSTART;TZID=America/Edmonton:20280506T180000
DTEND;TZID=America/Edmonton:20280506T210000
DTSTAMP:20260425T183128
CREATED:20241219T180111Z
LAST-MODIFIED:20260312T155218Z
UID:10032486-1841248800-1841259600@urbancasual.ca
SUMMARY:LIVE music Saturdays at Rocky View Brewing
DESCRIPTION:  \n  \n  \nLive music Saturdays in the taproom starting at 6pm. \n  \n  \n  \n  \n  \n  \n 
URL:https://urbancasual.ca/cochrane-event/live-music-saturdays-at-rocky-view-brewing-9-15-2-2/2028-05-06/
LOCATION:Rocky View Taproom\, 420 1st Street\, Cochrane\, AB
CATEGORIES:Business,Downtown,Entertainment & Games,Music,Pub/Bar Event,Restaurant
ATTACH;FMTTYPE=image/jpeg:https://urbancasual.ca/wp-content/uploads/2024/07/241712073_342240897364337_6168788210147837504_n-3.jpg
END:VEVENT
BEGIN:VEVENT
DTSTART;TZID=America/Edmonton:20280510T170000
DTEND;TZID=America/Edmonton:20280510T203000
DTSTAMP:20260425T183128
CREATED:20241210T012230Z
LAST-MODIFIED:20260211T225039Z
UID:10039877-1841590800-1841603400@urbancasual.ca
SUMMARY:Wing Night at The Taproom
DESCRIPTION:Join us every Wednesday from 5pm to 8:30pm for $8.50/lb wings! \nWe have a variety of flavours from you to choose from. You won’t wanna miss it!
URL:https://urbancasual.ca/cochrane-event/wing-night-at-the-taproom/2028-05-10/
LOCATION:Rocky View Taproom\, 420 1st Street\, Cochrane\, AB
CATEGORIES:Business,Entertainment & Games,Food,Pub/Bar Event,Restaurant
ATTACH;FMTTYPE=image/jpeg:https://urbancasual.ca/wp-content/uploads/2024/12/465707656_18375053353104462_8115185856607810178_n.jpg
END:VEVENT
BEGIN:VEVENT
DTSTART;TZID=America/Edmonton:20280513T180000
DTEND;TZID=America/Edmonton:20280513T210000
DTSTAMP:20260425T183128
CREATED:20241219T180111Z
LAST-MODIFIED:20260312T155218Z
UID:10032487-1841853600-1841864400@urbancasual.ca
SUMMARY:LIVE music Saturdays at Rocky View Brewing
DESCRIPTION:  \n  \n  \nLive music Saturdays in the taproom starting at 6pm. \n  \n  \n  \n  \n  \n  \n 
URL:https://urbancasual.ca/cochrane-event/live-music-saturdays-at-rocky-view-brewing-9-15-2-2/2028-05-13/
LOCATION:Rocky View Taproom\, 420 1st Street\, Cochrane\, AB
CATEGORIES:Business,Downtown,Entertainment & Games,Music,Pub/Bar Event,Restaurant
ATTACH;FMTTYPE=image/jpeg:https://urbancasual.ca/wp-content/uploads/2024/07/241712073_342240897364337_6168788210147837504_n-3.jpg
END:VEVENT
BEGIN:VEVENT
DTSTART;TZID=America/Edmonton:20280517T170000
DTEND;TZID=America/Edmonton:20280517T203000
DTSTAMP:20260425T183128
CREATED:20241210T012230Z
LAST-MODIFIED:20260211T225039Z
UID:10039878-1842195600-1842208200@urbancasual.ca
SUMMARY:Wing Night at The Taproom
DESCRIPTION:Join us every Wednesday from 5pm to 8:30pm for $8.50/lb wings! \nWe have a variety of flavours from you to choose from. You won’t wanna miss it!
URL:https://urbancasual.ca/cochrane-event/wing-night-at-the-taproom/2028-05-17/
LOCATION:Rocky View Taproom\, 420 1st Street\, Cochrane\, AB
CATEGORIES:Business,Entertainment & Games,Food,Pub/Bar Event,Restaurant
ATTACH;FMTTYPE=image/jpeg:https://urbancasual.ca/wp-content/uploads/2024/12/465707656_18375053353104462_8115185856607810178_n.jpg
END:VEVENT
BEGIN:VEVENT
DTSTART;TZID=America/Edmonton:20280520T180000
DTEND;TZID=America/Edmonton:20280520T210000
DTSTAMP:20260425T183128
CREATED:20241219T180111Z
LAST-MODIFIED:20260312T155218Z
UID:10032488-1842458400-1842469200@urbancasual.ca
SUMMARY:LIVE music Saturdays at Rocky View Brewing
DESCRIPTION:  \n  \n  \nLive music Saturdays in the taproom starting at 6pm. \n  \n  \n  \n  \n  \n  \n 
URL:https://urbancasual.ca/cochrane-event/live-music-saturdays-at-rocky-view-brewing-9-15-2-2/2028-05-20/
LOCATION:Rocky View Taproom\, 420 1st Street\, Cochrane\, AB
CATEGORIES:Business,Downtown,Entertainment & Games,Music,Pub/Bar Event,Restaurant
ATTACH;FMTTYPE=image/jpeg:https://urbancasual.ca/wp-content/uploads/2024/07/241712073_342240897364337_6168788210147837504_n-3.jpg
END:VEVENT
BEGIN:VEVENT
DTSTART;TZID=America/Edmonton:20280524T170000
DTEND;TZID=America/Edmonton:20280524T203000
DTSTAMP:20260425T183128
CREATED:20241210T012230Z
LAST-MODIFIED:20260211T225039Z
UID:10039879-1842800400-1842813000@urbancasual.ca
SUMMARY:Wing Night at The Taproom
DESCRIPTION:Join us every Wednesday from 5pm to 8:30pm for $8.50/lb wings! \nWe have a variety of flavours from you to choose from. You won’t wanna miss it!
URL:https://urbancasual.ca/cochrane-event/wing-night-at-the-taproom/2028-05-24/
LOCATION:Rocky View Taproom\, 420 1st Street\, Cochrane\, AB
CATEGORIES:Business,Entertainment & Games,Food,Pub/Bar Event,Restaurant
ATTACH;FMTTYPE=image/jpeg:https://urbancasual.ca/wp-content/uploads/2024/12/465707656_18375053353104462_8115185856607810178_n.jpg
END:VEVENT
BEGIN:VEVENT
DTSTART;TZID=America/Edmonton:20280527T180000
DTEND;TZID=America/Edmonton:20280527T210000
DTSTAMP:20260425T183128
CREATED:20241219T180111Z
LAST-MODIFIED:20260312T155218Z
UID:10032489-1843063200-1843074000@urbancasual.ca
SUMMARY:LIVE music Saturdays at Rocky View Brewing
DESCRIPTION:  \n  \n  \nLive music Saturdays in the taproom starting at 6pm. \n  \n  \n  \n  \n  \n  \n 
URL:https://urbancasual.ca/cochrane-event/live-music-saturdays-at-rocky-view-brewing-9-15-2-2/2028-05-27/
LOCATION:Rocky View Taproom\, 420 1st Street\, Cochrane\, AB
CATEGORIES:Business,Downtown,Entertainment & Games,Music,Pub/Bar Event,Restaurant
ATTACH;FMTTYPE=image/jpeg:https://urbancasual.ca/wp-content/uploads/2024/07/241712073_342240897364337_6168788210147837504_n-3.jpg
END:VEVENT
BEGIN:VEVENT
DTSTART;TZID=America/Edmonton:20280531T170000
DTEND;TZID=America/Edmonton:20280531T203000
DTSTAMP:20260425T183128
CREATED:20241210T012230Z
LAST-MODIFIED:20260211T225039Z
UID:10039880-1843405200-1843417800@urbancasual.ca
SUMMARY:Wing Night at The Taproom
DESCRIPTION:Join us every Wednesday from 5pm to 8:30pm for $8.50/lb wings! \nWe have a variety of flavours from you to choose from. You won’t wanna miss it!
URL:https://urbancasual.ca/cochrane-event/wing-night-at-the-taproom/2028-05-31/
LOCATION:Rocky View Taproom\, 420 1st Street\, Cochrane\, AB
CATEGORIES:Business,Entertainment & Games,Food,Pub/Bar Event,Restaurant
ATTACH;FMTTYPE=image/jpeg:https://urbancasual.ca/wp-content/uploads/2024/12/465707656_18375053353104462_8115185856607810178_n.jpg
END:VEVENT
BEGIN:VEVENT
DTSTART;TZID=America/Edmonton:20280603T180000
DTEND;TZID=America/Edmonton:20280603T210000
DTSTAMP:20260425T183128
CREATED:20241219T180111Z
LAST-MODIFIED:20260312T155218Z
UID:10032490-1843668000-1843678800@urbancasual.ca
SUMMARY:LIVE music Saturdays at Rocky View Brewing
DESCRIPTION:  \n  \n  \nLive music Saturdays in the taproom starting at 6pm. \n  \n  \n  \n  \n  \n  \n 
URL:https://urbancasual.ca/cochrane-event/live-music-saturdays-at-rocky-view-brewing-9-15-2-2/2028-06-03/
LOCATION:Rocky View Taproom\, 420 1st Street\, Cochrane\, AB
CATEGORIES:Business,Downtown,Entertainment & Games,Music,Pub/Bar Event,Restaurant
ATTACH;FMTTYPE=image/jpeg:https://urbancasual.ca/wp-content/uploads/2024/07/241712073_342240897364337_6168788210147837504_n-3.jpg
END:VEVENT
BEGIN:VEVENT
DTSTART;TZID=America/Edmonton:20280607T170000
DTEND;TZID=America/Edmonton:20280607T203000
DTSTAMP:20260425T183128
CREATED:20241210T012230Z
LAST-MODIFIED:20260211T225039Z
UID:10039881-1844010000-1844022600@urbancasual.ca
SUMMARY:Wing Night at The Taproom
DESCRIPTION:Join us every Wednesday from 5pm to 8:30pm for $8.50/lb wings! \nWe have a variety of flavours from you to choose from. You won’t wanna miss it!
URL:https://urbancasual.ca/cochrane-event/wing-night-at-the-taproom/2028-06-07/
LOCATION:Rocky View Taproom\, 420 1st Street\, Cochrane\, AB
CATEGORIES:Business,Entertainment & Games,Food,Pub/Bar Event,Restaurant
ATTACH;FMTTYPE=image/jpeg:https://urbancasual.ca/wp-content/uploads/2024/12/465707656_18375053353104462_8115185856607810178_n.jpg
END:VEVENT
BEGIN:VEVENT
DTSTART;TZID=America/Edmonton:20280610T180000
DTEND;TZID=America/Edmonton:20280610T210000
DTSTAMP:20260425T183128
CREATED:20241219T180111Z
LAST-MODIFIED:20260312T155218Z
UID:10032491-1844272800-1844283600@urbancasual.ca
SUMMARY:LIVE music Saturdays at Rocky View Brewing
DESCRIPTION:  \n  \n  \nLive music Saturdays in the taproom starting at 6pm. \n  \n  \n  \n  \n  \n  \n 
URL:https://urbancasual.ca/cochrane-event/live-music-saturdays-at-rocky-view-brewing-9-15-2-2/2028-06-10/
LOCATION:Rocky View Taproom\, 420 1st Street\, Cochrane\, AB
CATEGORIES:Business,Downtown,Entertainment & Games,Music,Pub/Bar Event,Restaurant
ATTACH;FMTTYPE=image/jpeg:https://urbancasual.ca/wp-content/uploads/2024/07/241712073_342240897364337_6168788210147837504_n-3.jpg
END:VEVENT
BEGIN:VEVENT
DTSTART;TZID=America/Edmonton:20280614T170000
DTEND;TZID=America/Edmonton:20280614T203000
DTSTAMP:20260425T183128
CREATED:20241210T012230Z
LAST-MODIFIED:20260211T225039Z
UID:10039882-1844614800-1844627400@urbancasual.ca
SUMMARY:Wing Night at The Taproom
DESCRIPTION:Join us every Wednesday from 5pm to 8:30pm for $8.50/lb wings! \nWe have a variety of flavours from you to choose from. You won’t wanna miss it!
URL:https://urbancasual.ca/cochrane-event/wing-night-at-the-taproom/2028-06-14/
LOCATION:Rocky View Taproom\, 420 1st Street\, Cochrane\, AB
CATEGORIES:Business,Entertainment & Games,Food,Pub/Bar Event,Restaurant
ATTACH;FMTTYPE=image/jpeg:https://urbancasual.ca/wp-content/uploads/2024/12/465707656_18375053353104462_8115185856607810178_n.jpg
END:VEVENT
BEGIN:VEVENT
DTSTART;TZID=America/Edmonton:20280617T180000
DTEND;TZID=America/Edmonton:20280617T210000
DTSTAMP:20260425T183128
CREATED:20241219T180111Z
LAST-MODIFIED:20260312T155218Z
UID:10032492-1844877600-1844888400@urbancasual.ca
SUMMARY:LIVE music Saturdays at Rocky View Brewing
DESCRIPTION:  \n  \n  \nLive music Saturdays in the taproom starting at 6pm. \n  \n  \n  \n  \n  \n  \n 
URL:https://urbancasual.ca/cochrane-event/live-music-saturdays-at-rocky-view-brewing-9-15-2-2/2028-06-17/
LOCATION:Rocky View Taproom\, 420 1st Street\, Cochrane\, AB
CATEGORIES:Business,Downtown,Entertainment & Games,Music,Pub/Bar Event,Restaurant
ATTACH;FMTTYPE=image/jpeg:https://urbancasual.ca/wp-content/uploads/2024/07/241712073_342240897364337_6168788210147837504_n-3.jpg
END:VEVENT
BEGIN:VEVENT
DTSTART;TZID=America/Edmonton:20280621T170000
DTEND;TZID=America/Edmonton:20280621T203000
DTSTAMP:20260425T183128
CREATED:20241210T012230Z
LAST-MODIFIED:20260211T225039Z
UID:10039883-1845219600-1845232200@urbancasual.ca
SUMMARY:Wing Night at The Taproom
DESCRIPTION:Join us every Wednesday from 5pm to 8:30pm for $8.50/lb wings! \nWe have a variety of flavours from you to choose from. You won’t wanna miss it!
URL:https://urbancasual.ca/cochrane-event/wing-night-at-the-taproom/2028-06-21/
LOCATION:Rocky View Taproom\, 420 1st Street\, Cochrane\, AB
CATEGORIES:Business,Entertainment & Games,Food,Pub/Bar Event,Restaurant
ATTACH;FMTTYPE=image/jpeg:https://urbancasual.ca/wp-content/uploads/2024/12/465707656_18375053353104462_8115185856607810178_n.jpg
END:VEVENT
BEGIN:VEVENT
DTSTART;TZID=America/Edmonton:20280624T180000
DTEND;TZID=America/Edmonton:20280624T210000
DTSTAMP:20260425T183128
CREATED:20241219T180111Z
LAST-MODIFIED:20260312T155218Z
UID:10032493-1845482400-1845493200@urbancasual.ca
SUMMARY:LIVE music Saturdays at Rocky View Brewing
DESCRIPTION:  \n  \n  \nLive music Saturdays in the taproom starting at 6pm. \n  \n  \n  \n  \n  \n  \n 
URL:https://urbancasual.ca/cochrane-event/live-music-saturdays-at-rocky-view-brewing-9-15-2-2/2028-06-24/
LOCATION:Rocky View Taproom\, 420 1st Street\, Cochrane\, AB
CATEGORIES:Business,Downtown,Entertainment & Games,Music,Pub/Bar Event,Restaurant
ATTACH;FMTTYPE=image/jpeg:https://urbancasual.ca/wp-content/uploads/2024/07/241712073_342240897364337_6168788210147837504_n-3.jpg
END:VEVENT
BEGIN:VEVENT
DTSTART;TZID=America/Edmonton:20280628T170000
DTEND;TZID=America/Edmonton:20280628T203000
DTSTAMP:20260425T183128
CREATED:20241210T012230Z
LAST-MODIFIED:20260211T225039Z
UID:10039884-1845824400-1845837000@urbancasual.ca
SUMMARY:Wing Night at The Taproom
DESCRIPTION:Join us every Wednesday from 5pm to 8:30pm for $8.50/lb wings! \nWe have a variety of flavours from you to choose from. You won’t wanna miss it!
URL:https://urbancasual.ca/cochrane-event/wing-night-at-the-taproom/2028-06-28/
LOCATION:Rocky View Taproom\, 420 1st Street\, Cochrane\, AB
CATEGORIES:Business,Entertainment & Games,Food,Pub/Bar Event,Restaurant
ATTACH;FMTTYPE=image/jpeg:https://urbancasual.ca/wp-content/uploads/2024/12/465707656_18375053353104462_8115185856607810178_n.jpg
END:VEVENT
BEGIN:VEVENT
DTSTART;TZID=America/Edmonton:20280701T180000
DTEND;TZID=America/Edmonton:20280701T210000
DTSTAMP:20260425T183128
CREATED:20241219T180111Z
LAST-MODIFIED:20260312T155218Z
UID:10032494-1846087200-1846098000@urbancasual.ca
SUMMARY:LIVE music Saturdays at Rocky View Brewing
DESCRIPTION:  \n  \n  \nLive music Saturdays in the taproom starting at 6pm. \n  \n  \n  \n  \n  \n  \n 
URL:https://urbancasual.ca/cochrane-event/live-music-saturdays-at-rocky-view-brewing-9-15-2-2/2028-07-01/
LOCATION:Rocky View Taproom\, 420 1st Street\, Cochrane\, AB
CATEGORIES:Business,Downtown,Entertainment & Games,Music,Pub/Bar Event,Restaurant
ATTACH;FMTTYPE=image/jpeg:https://urbancasual.ca/wp-content/uploads/2024/07/241712073_342240897364337_6168788210147837504_n-3.jpg
END:VEVENT
BEGIN:VEVENT
DTSTART;TZID=America/Edmonton:20280705T170000
DTEND;TZID=America/Edmonton:20280705T203000
DTSTAMP:20260425T183128
CREATED:20241210T012230Z
LAST-MODIFIED:20260211T225039Z
UID:10039885-1846429200-1846441800@urbancasual.ca
SUMMARY:Wing Night at The Taproom
DESCRIPTION:Join us every Wednesday from 5pm to 8:30pm for $8.50/lb wings! \nWe have a variety of flavours from you to choose from. You won’t wanna miss it!
URL:https://urbancasual.ca/cochrane-event/wing-night-at-the-taproom/2028-07-05/
LOCATION:Rocky View Taproom\, 420 1st Street\, Cochrane\, AB
CATEGORIES:Business,Entertainment & Games,Food,Pub/Bar Event,Restaurant
ATTACH;FMTTYPE=image/jpeg:https://urbancasual.ca/wp-content/uploads/2024/12/465707656_18375053353104462_8115185856607810178_n.jpg
END:VEVENT
BEGIN:VEVENT
DTSTART;TZID=America/Edmonton:20280708T180000
DTEND;TZID=America/Edmonton:20280708T210000
DTSTAMP:20260425T183128
CREATED:20241219T180111Z
LAST-MODIFIED:20260312T155218Z
UID:10032495-1846692000-1846702800@urbancasual.ca
SUMMARY:LIVE music Saturdays at Rocky View Brewing
DESCRIPTION:  \n  \n  \nLive music Saturdays in the taproom starting at 6pm. \n  \n  \n  \n  \n  \n  \n 
URL:https://urbancasual.ca/cochrane-event/live-music-saturdays-at-rocky-view-brewing-9-15-2-2/2028-07-08/
LOCATION:Rocky View Taproom\, 420 1st Street\, Cochrane\, AB
CATEGORIES:Business,Downtown,Entertainment & Games,Music,Pub/Bar Event,Restaurant
ATTACH;FMTTYPE=image/jpeg:https://urbancasual.ca/wp-content/uploads/2024/07/241712073_342240897364337_6168788210147837504_n-3.jpg
END:VEVENT
BEGIN:VEVENT
DTSTART;TZID=America/Edmonton:20280712T170000
DTEND;TZID=America/Edmonton:20280712T203000
DTSTAMP:20260425T183128
CREATED:20241210T012230Z
LAST-MODIFIED:20260211T225039Z
UID:10039886-1847034000-1847046600@urbancasual.ca
SUMMARY:Wing Night at The Taproom
DESCRIPTION:Join us every Wednesday from 5pm to 8:30pm for $8.50/lb wings! \nWe have a variety of flavours from you to choose from. You won’t wanna miss it!
URL:https://urbancasual.ca/cochrane-event/wing-night-at-the-taproom/2028-07-12/
LOCATION:Rocky View Taproom\, 420 1st Street\, Cochrane\, AB
CATEGORIES:Business,Entertainment & Games,Food,Pub/Bar Event,Restaurant
ATTACH;FMTTYPE=image/jpeg:https://urbancasual.ca/wp-content/uploads/2024/12/465707656_18375053353104462_8115185856607810178_n.jpg
END:VEVENT
BEGIN:VEVENT
DTSTART;TZID=America/Edmonton:20280715T180000
DTEND;TZID=America/Edmonton:20280715T210000
DTSTAMP:20260425T183128
CREATED:20241219T180111Z
LAST-MODIFIED:20260312T155218Z
UID:10032496-1847296800-1847307600@urbancasual.ca
SUMMARY:LIVE music Saturdays at Rocky View Brewing
DESCRIPTION:  \n  \n  \nLive music Saturdays in the taproom starting at 6pm. \n  \n  \n  \n  \n  \n  \n 
URL:https://urbancasual.ca/cochrane-event/live-music-saturdays-at-rocky-view-brewing-9-15-2-2/2028-07-15/
LOCATION:Rocky View Taproom\, 420 1st Street\, Cochrane\, AB
CATEGORIES:Business,Downtown,Entertainment & Games,Music,Pub/Bar Event,Restaurant
ATTACH;FMTTYPE=image/jpeg:https://urbancasual.ca/wp-content/uploads/2024/07/241712073_342240897364337_6168788210147837504_n-3.jpg
END:VEVENT
BEGIN:VEVENT
DTSTART;TZID=America/Edmonton:20280719T170000
DTEND;TZID=America/Edmonton:20280719T203000
DTSTAMP:20260425T183128
CREATED:20241210T012230Z
LAST-MODIFIED:20260211T225039Z
UID:10039887-1847638800-1847651400@urbancasual.ca
SUMMARY:Wing Night at The Taproom
DESCRIPTION:Join us every Wednesday from 5pm to 8:30pm for $8.50/lb wings! \nWe have a variety of flavours from you to choose from. You won’t wanna miss it!
URL:https://urbancasual.ca/cochrane-event/wing-night-at-the-taproom/2028-07-19/
LOCATION:Rocky View Taproom\, 420 1st Street\, Cochrane\, AB
CATEGORIES:Business,Entertainment & Games,Food,Pub/Bar Event,Restaurant
ATTACH;FMTTYPE=image/jpeg:https://urbancasual.ca/wp-content/uploads/2024/12/465707656_18375053353104462_8115185856607810178_n.jpg
END:VEVENT
BEGIN:VEVENT
DTSTART;TZID=America/Edmonton:20280722T180000
DTEND;TZID=America/Edmonton:20280722T210000
DTSTAMP:20260425T183128
CREATED:20241219T180111Z
LAST-MODIFIED:20260312T155218Z
UID:10032497-1847901600-1847912400@urbancasual.ca
SUMMARY:LIVE music Saturdays at Rocky View Brewing
DESCRIPTION:  \n  \n  \nLive music Saturdays in the taproom starting at 6pm. \n  \n  \n  \n  \n  \n  \n 
URL:https://urbancasual.ca/cochrane-event/live-music-saturdays-at-rocky-view-brewing-9-15-2-2/2028-07-22/
LOCATION:Rocky View Taproom\, 420 1st Street\, Cochrane\, AB
CATEGORIES:Business,Downtown,Entertainment & Games,Music,Pub/Bar Event,Restaurant
ATTACH;FMTTYPE=image/jpeg:https://urbancasual.ca/wp-content/uploads/2024/07/241712073_342240897364337_6168788210147837504_n-3.jpg
END:VEVENT
BEGIN:VEVENT
DTSTART;TZID=America/Edmonton:20280726T170000
DTEND;TZID=America/Edmonton:20280726T203000
DTSTAMP:20260425T183128
CREATED:20241210T012230Z
LAST-MODIFIED:20260211T225039Z
UID:10039888-1848243600-1848256200@urbancasual.ca
SUMMARY:Wing Night at The Taproom
DESCRIPTION:Join us every Wednesday from 5pm to 8:30pm for $8.50/lb wings! \nWe have a variety of flavours from you to choose from. You won’t wanna miss it!
URL:https://urbancasual.ca/cochrane-event/wing-night-at-the-taproom/2028-07-26/
LOCATION:Rocky View Taproom\, 420 1st Street\, Cochrane\, AB
CATEGORIES:Business,Entertainment & Games,Food,Pub/Bar Event,Restaurant
ATTACH;FMTTYPE=image/jpeg:https://urbancasual.ca/wp-content/uploads/2024/12/465707656_18375053353104462_8115185856607810178_n.jpg
END:VEVENT
BEGIN:VEVENT
DTSTART;TZID=America/Edmonton:20280729T180000
DTEND;TZID=America/Edmonton:20280729T210000
DTSTAMP:20260425T183128
CREATED:20241219T180111Z
LAST-MODIFIED:20260312T155218Z
UID:10032498-1848506400-1848517200@urbancasual.ca
SUMMARY:LIVE music Saturdays at Rocky View Brewing
DESCRIPTION:  \n  \n  \nLive music Saturdays in the taproom starting at 6pm. \n  \n  \n  \n  \n  \n  \n 
URL:https://urbancasual.ca/cochrane-event/live-music-saturdays-at-rocky-view-brewing-9-15-2-2/2028-07-29/
LOCATION:Rocky View Taproom\, 420 1st Street\, Cochrane\, AB
CATEGORIES:Business,Downtown,Entertainment & Games,Music,Pub/Bar Event,Restaurant
ATTACH;FMTTYPE=image/jpeg:https://urbancasual.ca/wp-content/uploads/2024/07/241712073_342240897364337_6168788210147837504_n-3.jpg
END:VEVENT
BEGIN:VEVENT
DTSTART;TZID=America/Edmonton:20280802T170000
DTEND;TZID=America/Edmonton:20280802T203000
DTSTAMP:20260425T183128
CREATED:20241210T012230Z
LAST-MODIFIED:20260211T225039Z
UID:10039889-1848848400-1848861000@urbancasual.ca
SUMMARY:Wing Night at The Taproom
DESCRIPTION:Join us every Wednesday from 5pm to 8:30pm for $8.50/lb wings! \nWe have a variety of flavours from you to choose from. You won’t wanna miss it!
URL:https://urbancasual.ca/cochrane-event/wing-night-at-the-taproom/2028-08-02/
LOCATION:Rocky View Taproom\, 420 1st Street\, Cochrane\, AB
CATEGORIES:Business,Entertainment & Games,Food,Pub/Bar Event,Restaurant
ATTACH;FMTTYPE=image/jpeg:https://urbancasual.ca/wp-content/uploads/2024/12/465707656_18375053353104462_8115185856607810178_n.jpg
END:VEVENT
BEGIN:VEVENT
DTSTART;TZID=America/Edmonton:20280805T180000
DTEND;TZID=America/Edmonton:20280805T210000
DTSTAMP:20260425T183128
CREATED:20241219T180111Z
LAST-MODIFIED:20260312T155218Z
UID:10032499-1849111200-1849122000@urbancasual.ca
SUMMARY:LIVE music Saturdays at Rocky View Brewing
DESCRIPTION:  \n  \n  \nLive music Saturdays in the taproom starting at 6pm. \n  \n  \n  \n  \n  \n  \n 
URL:https://urbancasual.ca/cochrane-event/live-music-saturdays-at-rocky-view-brewing-9-15-2-2/2028-08-05/
LOCATION:Rocky View Taproom\, 420 1st Street\, Cochrane\, AB
CATEGORIES:Business,Downtown,Entertainment & Games,Music,Pub/Bar Event,Restaurant
ATTACH;FMTTYPE=image/jpeg:https://urbancasual.ca/wp-content/uploads/2024/07/241712073_342240897364337_6168788210147837504_n-3.jpg
END:VEVENT
BEGIN:VEVENT
DTSTART;TZID=America/Edmonton:20280809T170000
DTEND;TZID=America/Edmonton:20280809T203000
DTSTAMP:20260425T183128
CREATED:20241210T012230Z
LAST-MODIFIED:20260211T225039Z
UID:10039890-1849453200-1849465800@urbancasual.ca
SUMMARY:Wing Night at The Taproom
DESCRIPTION:Join us every Wednesday from 5pm to 8:30pm for $8.50/lb wings! \nWe have a variety of flavours from you to choose from. You won’t wanna miss it!
URL:https://urbancasual.ca/cochrane-event/wing-night-at-the-taproom/2028-08-09/
LOCATION:Rocky View Taproom\, 420 1st Street\, Cochrane\, AB
CATEGORIES:Business,Entertainment & Games,Food,Pub/Bar Event,Restaurant
ATTACH;FMTTYPE=image/jpeg:https://urbancasual.ca/wp-content/uploads/2024/12/465707656_18375053353104462_8115185856607810178_n.jpg
END:VEVENT
END:VCALENDAR