BEGIN:VCALENDAR
VERSION:2.0
PRODID:-//Urbancasual.ca - ECPv6.15.20//NONSGML v1.0//EN
CALSCALE:GREGORIAN
METHOD:PUBLISH
X-WR-CALNAME:Urbancasual.ca
X-ORIGINAL-URL:https://urbancasual.ca
X-WR-CALDESC:Events for Urbancasual.ca
REFRESH-INTERVAL;VALUE=DURATION:PT1H
X-Robots-Tag:noindex
X-PUBLISHED-TTL:PT1H
BEGIN:VTIMEZONE
TZID:America/Edmonton
BEGIN:DAYLIGHT
TZOFFSETFROM:-0700
TZOFFSETTO:-0600
TZNAME:MDT
DTSTART:20230312T090000
END:DAYLIGHT
BEGIN:STANDARD
TZOFFSETFROM:-0600
TZOFFSETTO:-0700
TZNAME:MST
DTSTART:20231105T080000
END:STANDARD
BEGIN:DAYLIGHT
TZOFFSETFROM:-0700
TZOFFSETTO:-0600
TZNAME:MDT
DTSTART:20240310T090000
END:DAYLIGHT
BEGIN:STANDARD
TZOFFSETFROM:-0600
TZOFFSETTO:-0700
TZNAME:MST
DTSTART:20241103T080000
END:STANDARD
BEGIN:DAYLIGHT
TZOFFSETFROM:-0700
TZOFFSETTO:-0600
TZNAME:MDT
DTSTART:20250309T090000
END:DAYLIGHT
BEGIN:STANDARD
TZOFFSETFROM:-0600
TZOFFSETTO:-0700
TZNAME:MST
DTSTART:20251102T080000
END:STANDARD
END:VTIMEZONE
BEGIN:VEVENT
DTSTART;TZID=America/Edmonton:20241210T080000
DTEND;TZID=America/Edmonton:20241210T093000
DTSTAMP:20260421T160556
CREATED:20221228T234228Z
LAST-MODIFIED:20221228T234228Z
UID:10012598-1733817600-1733823000@urbancasual.ca
SUMMARY:BNI Inspire - Business Networking Meeting
DESCRIPTION:We help business professionals grow their business through a structured\, positive\, and professional referral marketing program. \nWeekly (except the first Tuesday of the Month which is in person at the Legion) online\, from 8am to 9:30am.
URL:https://urbancasual.ca/cochrane-event/bni-inspire-business-networking-meeting-2/2024-12-10/
LOCATION:Online
CATEGORIES:Business,Networking
ATTACH;FMTTYPE=image/jpeg:https://urbancasual.ca/wp-content/uploads/2022/12/BNI.jpg
END:VEVENT
BEGIN:VEVENT
DTSTART;TZID=America/Edmonton:20241203T080000
DTEND;TZID=America/Edmonton:20241203T093000
DTSTAMP:20260421T160556
CREATED:20221228T234228Z
LAST-MODIFIED:20221228T234228Z
UID:10012597-1733212800-1733218200@urbancasual.ca
SUMMARY:BNI Inspire - Business Networking Meeting
DESCRIPTION:We help business professionals grow their business through a structured\, positive\, and professional referral marketing program. \nWeekly (except the first Tuesday of the Month which is in person at the Legion) online\, from 8am to 9:30am.
URL:https://urbancasual.ca/cochrane-event/bni-inspire-business-networking-meeting-2/2024-12-03/
LOCATION:Online
CATEGORIES:Business,Networking
ATTACH;FMTTYPE=image/jpeg:https://urbancasual.ca/wp-content/uploads/2022/12/BNI.jpg
END:VEVENT
BEGIN:VEVENT
DTSTART;TZID=America/Edmonton:20241126T080000
DTEND;TZID=America/Edmonton:20241126T093000
DTSTAMP:20260421T160556
CREATED:20221228T234228Z
LAST-MODIFIED:20221228T234228Z
UID:10012596-1732608000-1732613400@urbancasual.ca
SUMMARY:BNI Inspire - Business Networking Meeting
DESCRIPTION:We help business professionals grow their business through a structured\, positive\, and professional referral marketing program. \nWeekly (except the first Tuesday of the Month which is in person at the Legion) online\, from 8am to 9:30am.
URL:https://urbancasual.ca/cochrane-event/bni-inspire-business-networking-meeting-2/2024-11-26/
LOCATION:Online
CATEGORIES:Business,Networking
ATTACH;FMTTYPE=image/jpeg:https://urbancasual.ca/wp-content/uploads/2022/12/BNI.jpg
END:VEVENT
BEGIN:VEVENT
DTSTART;TZID=America/Edmonton:20241119T080000
DTEND;TZID=America/Edmonton:20241119T093000
DTSTAMP:20260421T160556
CREATED:20221228T234228Z
LAST-MODIFIED:20221228T234228Z
UID:10012595-1732003200-1732008600@urbancasual.ca
SUMMARY:BNI Inspire - Business Networking Meeting
DESCRIPTION:We help business professionals grow their business through a structured\, positive\, and professional referral marketing program. \nWeekly (except the first Tuesday of the Month which is in person at the Legion) online\, from 8am to 9:30am.
URL:https://urbancasual.ca/cochrane-event/bni-inspire-business-networking-meeting-2/2024-11-19/
LOCATION:Online
CATEGORIES:Business,Networking
ATTACH;FMTTYPE=image/jpeg:https://urbancasual.ca/wp-content/uploads/2022/12/BNI.jpg
END:VEVENT
BEGIN:VEVENT
DTSTART;TZID=America/Edmonton:20241112T080000
DTEND;TZID=America/Edmonton:20241112T093000
DTSTAMP:20260421T160556
CREATED:20221228T234228Z
LAST-MODIFIED:20221228T234228Z
UID:10012594-1731398400-1731403800@urbancasual.ca
SUMMARY:BNI Inspire - Business Networking Meeting
DESCRIPTION:We help business professionals grow their business through a structured\, positive\, and professional referral marketing program. \nWeekly (except the first Tuesday of the Month which is in person at the Legion) online\, from 8am to 9:30am.
URL:https://urbancasual.ca/cochrane-event/bni-inspire-business-networking-meeting-2/2024-11-12/
LOCATION:Online
CATEGORIES:Business,Networking
ATTACH;FMTTYPE=image/jpeg:https://urbancasual.ca/wp-content/uploads/2022/12/BNI.jpg
END:VEVENT
BEGIN:VEVENT
DTSTART;TZID=America/Edmonton:20241105T080000
DTEND;TZID=America/Edmonton:20241105T093000
DTSTAMP:20260421T160556
CREATED:20221228T234228Z
LAST-MODIFIED:20221228T234228Z
UID:10012593-1730793600-1730799000@urbancasual.ca
SUMMARY:BNI Inspire - Business Networking Meeting
DESCRIPTION:We help business professionals grow their business through a structured\, positive\, and professional referral marketing program. \nWeekly (except the first Tuesday of the Month which is in person at the Legion) online\, from 8am to 9:30am.
URL:https://urbancasual.ca/cochrane-event/bni-inspire-business-networking-meeting-2/2024-11-05/
LOCATION:Online
CATEGORIES:Business,Networking
ATTACH;FMTTYPE=image/jpeg:https://urbancasual.ca/wp-content/uploads/2022/12/BNI.jpg
END:VEVENT
BEGIN:VEVENT
DTSTART;TZID=America/Edmonton:20241029T080000
DTEND;TZID=America/Edmonton:20241029T093000
DTSTAMP:20260421T160556
CREATED:20221228T234228Z
LAST-MODIFIED:20221228T234228Z
UID:10012592-1730188800-1730194200@urbancasual.ca
SUMMARY:BNI Inspire - Business Networking Meeting
DESCRIPTION:We help business professionals grow their business through a structured\, positive\, and professional referral marketing program. \nWeekly (except the first Tuesday of the Month which is in person at the Legion) online\, from 8am to 9:30am.
URL:https://urbancasual.ca/cochrane-event/bni-inspire-business-networking-meeting-2/2024-10-29/
LOCATION:Online
CATEGORIES:Business,Networking
ATTACH;FMTTYPE=image/jpeg:https://urbancasual.ca/wp-content/uploads/2022/12/BNI.jpg
END:VEVENT
BEGIN:VEVENT
DTSTART;TZID=America/Edmonton:20241022T080000
DTEND;TZID=America/Edmonton:20241022T093000
DTSTAMP:20260421T160556
CREATED:20221228T234228Z
LAST-MODIFIED:20221228T234228Z
UID:10012591-1729584000-1729589400@urbancasual.ca
SUMMARY:BNI Inspire - Business Networking Meeting
DESCRIPTION:We help business professionals grow their business through a structured\, positive\, and professional referral marketing program. \nWeekly (except the first Tuesday of the Month which is in person at the Legion) online\, from 8am to 9:30am.
URL:https://urbancasual.ca/cochrane-event/bni-inspire-business-networking-meeting-2/2024-10-22/
LOCATION:Online
CATEGORIES:Business,Networking
ATTACH;FMTTYPE=image/jpeg:https://urbancasual.ca/wp-content/uploads/2022/12/BNI.jpg
END:VEVENT
BEGIN:VEVENT
DTSTART;TZID=America/Edmonton:20241015T080000
DTEND;TZID=America/Edmonton:20241015T093000
DTSTAMP:20260421T160556
CREATED:20221228T234228Z
LAST-MODIFIED:20221228T234228Z
UID:10012590-1728979200-1728984600@urbancasual.ca
SUMMARY:BNI Inspire - Business Networking Meeting
DESCRIPTION:We help business professionals grow their business through a structured\, positive\, and professional referral marketing program. \nWeekly (except the first Tuesday of the Month which is in person at the Legion) online\, from 8am to 9:30am.
URL:https://urbancasual.ca/cochrane-event/bni-inspire-business-networking-meeting-2/2024-10-15/
LOCATION:Online
CATEGORIES:Business,Networking
ATTACH;FMTTYPE=image/jpeg:https://urbancasual.ca/wp-content/uploads/2022/12/BNI.jpg
END:VEVENT
BEGIN:VEVENT
DTSTART;TZID=America/Edmonton:20241008T080000
DTEND;TZID=America/Edmonton:20241008T093000
DTSTAMP:20260421T160557
CREATED:20221228T234228Z
LAST-MODIFIED:20221228T234228Z
UID:10012589-1728374400-1728379800@urbancasual.ca
SUMMARY:BNI Inspire - Business Networking Meeting
DESCRIPTION:We help business professionals grow their business through a structured\, positive\, and professional referral marketing program. \nWeekly (except the first Tuesday of the Month which is in person at the Legion) online\, from 8am to 9:30am.
URL:https://urbancasual.ca/cochrane-event/bni-inspire-business-networking-meeting-2/2024-10-08/
LOCATION:Online
CATEGORIES:Business,Networking
ATTACH;FMTTYPE=image/jpeg:https://urbancasual.ca/wp-content/uploads/2022/12/BNI.jpg
END:VEVENT
BEGIN:VEVENT
DTSTART;TZID=America/Edmonton:20241001T080000
DTEND;TZID=America/Edmonton:20241001T093000
DTSTAMP:20260421T160557
CREATED:20221228T234228Z
LAST-MODIFIED:20221228T234228Z
UID:10012588-1727769600-1727775000@urbancasual.ca
SUMMARY:BNI Inspire - Business Networking Meeting
DESCRIPTION:We help business professionals grow their business through a structured\, positive\, and professional referral marketing program. \nWeekly (except the first Tuesday of the Month which is in person at the Legion) online\, from 8am to 9:30am.
URL:https://urbancasual.ca/cochrane-event/bni-inspire-business-networking-meeting-2/2024-10-01/
LOCATION:Online
CATEGORIES:Business,Networking
ATTACH;FMTTYPE=image/jpeg:https://urbancasual.ca/wp-content/uploads/2022/12/BNI.jpg
END:VEVENT
BEGIN:VEVENT
DTSTART;TZID=America/Edmonton:20240924T080000
DTEND;TZID=America/Edmonton:20240924T093000
DTSTAMP:20260421T160557
CREATED:20221228T234228Z
LAST-MODIFIED:20221228T234228Z
UID:10012587-1727164800-1727170200@urbancasual.ca
SUMMARY:BNI Inspire - Business Networking Meeting
DESCRIPTION:We help business professionals grow their business through a structured\, positive\, and professional referral marketing program. \nWeekly (except the first Tuesday of the Month which is in person at the Legion) online\, from 8am to 9:30am.
URL:https://urbancasual.ca/cochrane-event/bni-inspire-business-networking-meeting-2/2024-09-24/
LOCATION:Online
CATEGORIES:Business,Networking
ATTACH;FMTTYPE=image/jpeg:https://urbancasual.ca/wp-content/uploads/2022/12/BNI.jpg
END:VEVENT
BEGIN:VEVENT
DTSTART;TZID=America/Edmonton:20240917T080000
DTEND;TZID=America/Edmonton:20240917T093000
DTSTAMP:20260421T160557
CREATED:20221228T234228Z
LAST-MODIFIED:20221228T234228Z
UID:10012586-1726560000-1726565400@urbancasual.ca
SUMMARY:BNI Inspire - Business Networking Meeting
DESCRIPTION:We help business professionals grow their business through a structured\, positive\, and professional referral marketing program. \nWeekly (except the first Tuesday of the Month which is in person at the Legion) online\, from 8am to 9:30am.
URL:https://urbancasual.ca/cochrane-event/bni-inspire-business-networking-meeting-2/2024-09-17/
LOCATION:Online
CATEGORIES:Business,Networking
ATTACH;FMTTYPE=image/jpeg:https://urbancasual.ca/wp-content/uploads/2022/12/BNI.jpg
END:VEVENT
BEGIN:VEVENT
DTSTART;TZID=America/Edmonton:20240910T080000
DTEND;TZID=America/Edmonton:20240910T093000
DTSTAMP:20260421T160557
CREATED:20221228T234228Z
LAST-MODIFIED:20221228T234228Z
UID:10012585-1725955200-1725960600@urbancasual.ca
SUMMARY:BNI Inspire - Business Networking Meeting
DESCRIPTION:We help business professionals grow their business through a structured\, positive\, and professional referral marketing program. \nWeekly (except the first Tuesday of the Month which is in person at the Legion) online\, from 8am to 9:30am.
URL:https://urbancasual.ca/cochrane-event/bni-inspire-business-networking-meeting-2/2024-09-10/
LOCATION:Online
CATEGORIES:Business,Networking
ATTACH;FMTTYPE=image/jpeg:https://urbancasual.ca/wp-content/uploads/2022/12/BNI.jpg
END:VEVENT
END:VCALENDAR