BEGIN:VCALENDAR
VERSION:2.0
PRODID:-//Urbancasual.ca - ECPv6.15.20//NONSGML v1.0//EN
CALSCALE:GREGORIAN
METHOD:PUBLISH
X-WR-CALNAME:Urbancasual.ca
X-ORIGINAL-URL:https://urbancasual.ca
X-WR-CALDESC:Events for Urbancasual.ca
REFRESH-INTERVAL;VALUE=DURATION:PT1H
X-Robots-Tag:noindex
X-PUBLISHED-TTL:PT1H
BEGIN:VTIMEZONE
TZID:America/Edmonton
BEGIN:DAYLIGHT
TZOFFSETFROM:-0700
TZOFFSETTO:-0600
TZNAME:MDT
DTSTART:20240310T090000
END:DAYLIGHT
BEGIN:STANDARD
TZOFFSETFROM:-0600
TZOFFSETTO:-0700
TZNAME:MST
DTSTART:20241103T080000
END:STANDARD
BEGIN:DAYLIGHT
TZOFFSETFROM:-0700
TZOFFSETTO:-0600
TZNAME:MDT
DTSTART:20250309T090000
END:DAYLIGHT
BEGIN:STANDARD
TZOFFSETFROM:-0600
TZOFFSETTO:-0700
TZNAME:MST
DTSTART:20251102T080000
END:STANDARD
BEGIN:DAYLIGHT
TZOFFSETFROM:-0700
TZOFFSETTO:-0600
TZNAME:MDT
DTSTART:20260308T090000
END:DAYLIGHT
BEGIN:STANDARD
TZOFFSETFROM:-0600
TZOFFSETTO:-0700
TZNAME:MST
DTSTART:20261101T080000
END:STANDARD
END:VTIMEZONE
BEGIN:VEVENT
DTSTART;TZID=America/Edmonton:20251206T140000
DTEND;TZID=America/Edmonton:20251206T170000
DTSTAMP:20260423T130753
CREATED:20251122T222302Z
LAST-MODIFIED:20251122T222302Z
UID:10051250-1765029600-1765040400@urbancasual.ca
SUMMARY:Santa at A&W
DESCRIPTION:Join us on Saturday\, December 6th from 2–5pm for a magical afternoon filled with holiday cheer. Kids can take photos with Santa\, listen to Christmas stories\, and go home with a fun goodie bag!Plus\, we’re donating $2 from every Kids Pack sold all day to support local families in need. Let’s make this holiday season brighter together!
URL:https://urbancasual.ca/cochrane-event/santa-at-aw/
LOCATION:A&W WESTSIDE DRIVE
CATEGORIES:HOLIDAY FUN,Parents & Caregivers,SANTA
ATTACH;FMTTYPE=image/jpeg:https://urbancasual.ca/wp-content/uploads/2025/11/584790082_122232547010102857_3968067857188367646_n.jpg
END:VEVENT
BEGIN:VEVENT
DTSTART;TZID=America/Edmonton:20251023T170000
DTEND;TZID=America/Edmonton:20251023T200000
DTSTAMP:20260423T130753
CREATED:20250414T191316Z
LAST-MODIFIED:20250414T191339Z
UID:10047031-1761238800-1761249600@urbancasual.ca
SUMMARY:Cochrane Classic Car Club meet Up
DESCRIPTION:Cochrane Classic Car Club Thursday Night Show and Shine will start on Thursday April 17th (Weather Permitting) from 5:00 to 8:00. \nThe event will be held every Thursday during the season unless otherwise posted on Facebook at the A&W Westside Cochrane.\nHope to see everyone soon
URL:https://urbancasual.ca/cochrane-event/cochrane-classic-car-club-meet-up/2025-10-23/
LOCATION:A&W WESTSIDE DRIVE
CATEGORIES:Car Show,Club,Community,Entertainment & Games,Free
ATTACH;FMTTYPE=image/jpeg:https://urbancasual.ca/wp-content/uploads/2025/04/491590669_639196252206581_9038313815574729107_n.jpg
END:VEVENT
BEGIN:VEVENT
DTSTART;TZID=America/Edmonton:20251016T170000
DTEND;TZID=America/Edmonton:20251016T200000
DTSTAMP:20260423T130753
CREATED:20250414T191316Z
LAST-MODIFIED:20250414T191339Z
UID:10047030-1760634000-1760644800@urbancasual.ca
SUMMARY:Cochrane Classic Car Club meet Up
DESCRIPTION:Cochrane Classic Car Club Thursday Night Show and Shine will start on Thursday April 17th (Weather Permitting) from 5:00 to 8:00. \nThe event will be held every Thursday during the season unless otherwise posted on Facebook at the A&W Westside Cochrane.\nHope to see everyone soon
URL:https://urbancasual.ca/cochrane-event/cochrane-classic-car-club-meet-up/2025-10-16/
LOCATION:A&W WESTSIDE DRIVE
CATEGORIES:Car Show,Club,Community,Entertainment & Games,Free
ATTACH;FMTTYPE=image/jpeg:https://urbancasual.ca/wp-content/uploads/2025/04/491590669_639196252206581_9038313815574729107_n.jpg
END:VEVENT
BEGIN:VEVENT
DTSTART;TZID=America/Edmonton:20251009T170000
DTEND;TZID=America/Edmonton:20251009T200000
DTSTAMP:20260423T130753
CREATED:20250414T191316Z
LAST-MODIFIED:20250414T191339Z
UID:10047029-1760029200-1760040000@urbancasual.ca
SUMMARY:Cochrane Classic Car Club meet Up
DESCRIPTION:Cochrane Classic Car Club Thursday Night Show and Shine will start on Thursday April 17th (Weather Permitting) from 5:00 to 8:00. \nThe event will be held every Thursday during the season unless otherwise posted on Facebook at the A&W Westside Cochrane.\nHope to see everyone soon
URL:https://urbancasual.ca/cochrane-event/cochrane-classic-car-club-meet-up/2025-10-09/
LOCATION:A&W WESTSIDE DRIVE
CATEGORIES:Car Show,Club,Community,Entertainment & Games,Free
ATTACH;FMTTYPE=image/jpeg:https://urbancasual.ca/wp-content/uploads/2025/04/491590669_639196252206581_9038313815574729107_n.jpg
END:VEVENT
BEGIN:VEVENT
DTSTART;TZID=America/Edmonton:20251002T170000
DTEND;TZID=America/Edmonton:20251002T200000
DTSTAMP:20260423T130753
CREATED:20250414T191316Z
LAST-MODIFIED:20250414T191339Z
UID:10047028-1759424400-1759435200@urbancasual.ca
SUMMARY:Cochrane Classic Car Club meet Up
DESCRIPTION:Cochrane Classic Car Club Thursday Night Show and Shine will start on Thursday April 17th (Weather Permitting) from 5:00 to 8:00. \nThe event will be held every Thursday during the season unless otherwise posted on Facebook at the A&W Westside Cochrane.\nHope to see everyone soon
URL:https://urbancasual.ca/cochrane-event/cochrane-classic-car-club-meet-up/2025-10-02/
LOCATION:A&W WESTSIDE DRIVE
CATEGORIES:Car Show,Club,Community,Entertainment & Games,Free
ATTACH;FMTTYPE=image/jpeg:https://urbancasual.ca/wp-content/uploads/2025/04/491590669_639196252206581_9038313815574729107_n.jpg
END:VEVENT
BEGIN:VEVENT
DTSTART;TZID=America/Edmonton:20250925T170000
DTEND;TZID=America/Edmonton:20250925T200000
DTSTAMP:20260423T130753
CREATED:20250414T191316Z
LAST-MODIFIED:20250414T191339Z
UID:10047027-1758819600-1758830400@urbancasual.ca
SUMMARY:Cochrane Classic Car Club meet Up
DESCRIPTION:Cochrane Classic Car Club Thursday Night Show and Shine will start on Thursday April 17th (Weather Permitting) from 5:00 to 8:00. \nThe event will be held every Thursday during the season unless otherwise posted on Facebook at the A&W Westside Cochrane.\nHope to see everyone soon
URL:https://urbancasual.ca/cochrane-event/cochrane-classic-car-club-meet-up/2025-09-25/
LOCATION:A&W WESTSIDE DRIVE
CATEGORIES:Car Show,Club,Community,Entertainment & Games,Free
ATTACH;FMTTYPE=image/jpeg:https://urbancasual.ca/wp-content/uploads/2025/04/491590669_639196252206581_9038313815574729107_n.jpg
END:VEVENT
BEGIN:VEVENT
DTSTART;TZID=America/Edmonton:20250918T170000
DTEND;TZID=America/Edmonton:20250918T200000
DTSTAMP:20260423T130753
CREATED:20250414T191316Z
LAST-MODIFIED:20250414T191339Z
UID:10047026-1758214800-1758225600@urbancasual.ca
SUMMARY:Cochrane Classic Car Club meet Up
DESCRIPTION:Cochrane Classic Car Club Thursday Night Show and Shine will start on Thursday April 17th (Weather Permitting) from 5:00 to 8:00. \nThe event will be held every Thursday during the season unless otherwise posted on Facebook at the A&W Westside Cochrane.\nHope to see everyone soon
URL:https://urbancasual.ca/cochrane-event/cochrane-classic-car-club-meet-up/2025-09-18/
LOCATION:A&W WESTSIDE DRIVE
CATEGORIES:Car Show,Club,Community,Entertainment & Games,Free
ATTACH;FMTTYPE=image/jpeg:https://urbancasual.ca/wp-content/uploads/2025/04/491590669_639196252206581_9038313815574729107_n.jpg
END:VEVENT
BEGIN:VEVENT
DTSTART;TZID=America/Edmonton:20250911T170000
DTEND;TZID=America/Edmonton:20250911T200000
DTSTAMP:20260423T130753
CREATED:20250414T191316Z
LAST-MODIFIED:20250414T191339Z
UID:10047025-1757610000-1757620800@urbancasual.ca
SUMMARY:Cochrane Classic Car Club meet Up
DESCRIPTION:Cochrane Classic Car Club Thursday Night Show and Shine will start on Thursday April 17th (Weather Permitting) from 5:00 to 8:00. \nThe event will be held every Thursday during the season unless otherwise posted on Facebook at the A&W Westside Cochrane.\nHope to see everyone soon
URL:https://urbancasual.ca/cochrane-event/cochrane-classic-car-club-meet-up/2025-09-11/
LOCATION:A&W WESTSIDE DRIVE
CATEGORIES:Car Show,Club,Community,Entertainment & Games,Free
ATTACH;FMTTYPE=image/jpeg:https://urbancasual.ca/wp-content/uploads/2025/04/491590669_639196252206581_9038313815574729107_n.jpg
END:VEVENT
BEGIN:VEVENT
DTSTART;TZID=America/Edmonton:20250904T170000
DTEND;TZID=America/Edmonton:20250904T200000
DTSTAMP:20260423T130753
CREATED:20250414T191316Z
LAST-MODIFIED:20250414T191339Z
UID:10047024-1757005200-1757016000@urbancasual.ca
SUMMARY:Cochrane Classic Car Club meet Up
DESCRIPTION:Cochrane Classic Car Club Thursday Night Show and Shine will start on Thursday April 17th (Weather Permitting) from 5:00 to 8:00. \nThe event will be held every Thursday during the season unless otherwise posted on Facebook at the A&W Westside Cochrane.\nHope to see everyone soon
URL:https://urbancasual.ca/cochrane-event/cochrane-classic-car-club-meet-up/2025-09-04/
LOCATION:A&W WESTSIDE DRIVE
CATEGORIES:Car Show,Club,Community,Entertainment & Games,Free
ATTACH;FMTTYPE=image/jpeg:https://urbancasual.ca/wp-content/uploads/2025/04/491590669_639196252206581_9038313815574729107_n.jpg
END:VEVENT
BEGIN:VEVENT
DTSTART;TZID=America/Edmonton:20250828T170000
DTEND;TZID=America/Edmonton:20250828T200000
DTSTAMP:20260423T130753
CREATED:20250414T191316Z
LAST-MODIFIED:20250414T191339Z
UID:10047023-1756400400-1756411200@urbancasual.ca
SUMMARY:Cochrane Classic Car Club meet Up
DESCRIPTION:Cochrane Classic Car Club Thursday Night Show and Shine will start on Thursday April 17th (Weather Permitting) from 5:00 to 8:00. \nThe event will be held every Thursday during the season unless otherwise posted on Facebook at the A&W Westside Cochrane.\nHope to see everyone soon
URL:https://urbancasual.ca/cochrane-event/cochrane-classic-car-club-meet-up/2025-08-28/
LOCATION:A&W WESTSIDE DRIVE
CATEGORIES:Car Show,Club,Community,Entertainment & Games,Free
ATTACH;FMTTYPE=image/jpeg:https://urbancasual.ca/wp-content/uploads/2025/04/491590669_639196252206581_9038313815574729107_n.jpg
END:VEVENT
BEGIN:VEVENT
DTSTART;TZID=America/Edmonton:20250821T170000
DTEND;TZID=America/Edmonton:20250821T200000
DTSTAMP:20260423T130753
CREATED:20250414T191316Z
LAST-MODIFIED:20250414T191339Z
UID:10047022-1755795600-1755806400@urbancasual.ca
SUMMARY:Cochrane Classic Car Club meet Up
DESCRIPTION:Cochrane Classic Car Club Thursday Night Show and Shine will start on Thursday April 17th (Weather Permitting) from 5:00 to 8:00. \nThe event will be held every Thursday during the season unless otherwise posted on Facebook at the A&W Westside Cochrane.\nHope to see everyone soon
URL:https://urbancasual.ca/cochrane-event/cochrane-classic-car-club-meet-up/2025-08-21/
LOCATION:A&W WESTSIDE DRIVE
CATEGORIES:Car Show,Club,Community,Entertainment & Games,Free
ATTACH;FMTTYPE=image/jpeg:https://urbancasual.ca/wp-content/uploads/2025/04/491590669_639196252206581_9038313815574729107_n.jpg
END:VEVENT
BEGIN:VEVENT
DTSTART;TZID=America/Edmonton:20250814T170000
DTEND;TZID=America/Edmonton:20250814T200000
DTSTAMP:20260423T130753
CREATED:20250414T191316Z
LAST-MODIFIED:20250414T191339Z
UID:10047021-1755190800-1755201600@urbancasual.ca
SUMMARY:Cochrane Classic Car Club meet Up
DESCRIPTION:Cochrane Classic Car Club Thursday Night Show and Shine will start on Thursday April 17th (Weather Permitting) from 5:00 to 8:00. \nThe event will be held every Thursday during the season unless otherwise posted on Facebook at the A&W Westside Cochrane.\nHope to see everyone soon
URL:https://urbancasual.ca/cochrane-event/cochrane-classic-car-club-meet-up/2025-08-14/
LOCATION:A&W WESTSIDE DRIVE
CATEGORIES:Car Show,Club,Community,Entertainment & Games,Free
ATTACH;FMTTYPE=image/jpeg:https://urbancasual.ca/wp-content/uploads/2025/04/491590669_639196252206581_9038313815574729107_n.jpg
END:VEVENT
BEGIN:VEVENT
DTSTART;TZID=America/Edmonton:20250807T170000
DTEND;TZID=America/Edmonton:20250807T200000
DTSTAMP:20260423T130753
CREATED:20250414T191316Z
LAST-MODIFIED:20250414T191339Z
UID:10047020-1754586000-1754596800@urbancasual.ca
SUMMARY:Cochrane Classic Car Club meet Up
DESCRIPTION:Cochrane Classic Car Club Thursday Night Show and Shine will start on Thursday April 17th (Weather Permitting) from 5:00 to 8:00. \nThe event will be held every Thursday during the season unless otherwise posted on Facebook at the A&W Westside Cochrane.\nHope to see everyone soon
URL:https://urbancasual.ca/cochrane-event/cochrane-classic-car-club-meet-up/2025-08-07/
LOCATION:A&W WESTSIDE DRIVE
CATEGORIES:Car Show,Club,Community,Entertainment & Games,Free
ATTACH;FMTTYPE=image/jpeg:https://urbancasual.ca/wp-content/uploads/2025/04/491590669_639196252206581_9038313815574729107_n.jpg
END:VEVENT
BEGIN:VEVENT
DTSTART;TZID=America/Edmonton:20250731T170000
DTEND;TZID=America/Edmonton:20250731T200000
DTSTAMP:20260423T130753
CREATED:20250414T191316Z
LAST-MODIFIED:20250414T191339Z
UID:10047019-1753981200-1753992000@urbancasual.ca
SUMMARY:Cochrane Classic Car Club meet Up
DESCRIPTION:Cochrane Classic Car Club Thursday Night Show and Shine will start on Thursday April 17th (Weather Permitting) from 5:00 to 8:00. \nThe event will be held every Thursday during the season unless otherwise posted on Facebook at the A&W Westside Cochrane.\nHope to see everyone soon
URL:https://urbancasual.ca/cochrane-event/cochrane-classic-car-club-meet-up/2025-07-31/
LOCATION:A&W WESTSIDE DRIVE
CATEGORIES:Car Show,Club,Community,Entertainment & Games,Free
ATTACH;FMTTYPE=image/jpeg:https://urbancasual.ca/wp-content/uploads/2025/04/491590669_639196252206581_9038313815574729107_n.jpg
END:VEVENT
BEGIN:VEVENT
DTSTART;TZID=America/Edmonton:20250724T170000
DTEND;TZID=America/Edmonton:20250724T200000
DTSTAMP:20260423T130753
CREATED:20250414T191316Z
LAST-MODIFIED:20250414T191339Z
UID:10047018-1753376400-1753387200@urbancasual.ca
SUMMARY:Cochrane Classic Car Club meet Up
DESCRIPTION:Cochrane Classic Car Club Thursday Night Show and Shine will start on Thursday April 17th (Weather Permitting) from 5:00 to 8:00. \nThe event will be held every Thursday during the season unless otherwise posted on Facebook at the A&W Westside Cochrane.\nHope to see everyone soon
URL:https://urbancasual.ca/cochrane-event/cochrane-classic-car-club-meet-up/2025-07-24/
LOCATION:A&W WESTSIDE DRIVE
CATEGORIES:Car Show,Club,Community,Entertainment & Games,Free
ATTACH;FMTTYPE=image/jpeg:https://urbancasual.ca/wp-content/uploads/2025/04/491590669_639196252206581_9038313815574729107_n.jpg
END:VEVENT
BEGIN:VEVENT
DTSTART;TZID=America/Edmonton:20250717T170000
DTEND;TZID=America/Edmonton:20250717T200000
DTSTAMP:20260423T130753
CREATED:20250414T191316Z
LAST-MODIFIED:20250414T191339Z
UID:10047017-1752771600-1752782400@urbancasual.ca
SUMMARY:Cochrane Classic Car Club meet Up
DESCRIPTION:Cochrane Classic Car Club Thursday Night Show and Shine will start on Thursday April 17th (Weather Permitting) from 5:00 to 8:00. \nThe event will be held every Thursday during the season unless otherwise posted on Facebook at the A&W Westside Cochrane.\nHope to see everyone soon
URL:https://urbancasual.ca/cochrane-event/cochrane-classic-car-club-meet-up/2025-07-17/
LOCATION:A&W WESTSIDE DRIVE
CATEGORIES:Car Show,Club,Community,Entertainment & Games,Free
ATTACH;FMTTYPE=image/jpeg:https://urbancasual.ca/wp-content/uploads/2025/04/491590669_639196252206581_9038313815574729107_n.jpg
END:VEVENT
BEGIN:VEVENT
DTSTART;TZID=America/Edmonton:20250710T170000
DTEND;TZID=America/Edmonton:20250710T200000
DTSTAMP:20260423T130753
CREATED:20250414T191316Z
LAST-MODIFIED:20250414T191339Z
UID:10047016-1752166800-1752177600@urbancasual.ca
SUMMARY:Cochrane Classic Car Club meet Up
DESCRIPTION:Cochrane Classic Car Club Thursday Night Show and Shine will start on Thursday April 17th (Weather Permitting) from 5:00 to 8:00. \nThe event will be held every Thursday during the season unless otherwise posted on Facebook at the A&W Westside Cochrane.\nHope to see everyone soon
URL:https://urbancasual.ca/cochrane-event/cochrane-classic-car-club-meet-up/2025-07-10/
LOCATION:A&W WESTSIDE DRIVE
CATEGORIES:Car Show,Club,Community,Entertainment & Games,Free
ATTACH;FMTTYPE=image/jpeg:https://urbancasual.ca/wp-content/uploads/2025/04/491590669_639196252206581_9038313815574729107_n.jpg
END:VEVENT
BEGIN:VEVENT
DTSTART;TZID=America/Edmonton:20250703T170000
DTEND;TZID=America/Edmonton:20250703T200000
DTSTAMP:20260423T130753
CREATED:20250414T191316Z
LAST-MODIFIED:20250414T191339Z
UID:10047015-1751562000-1751572800@urbancasual.ca
SUMMARY:Cochrane Classic Car Club meet Up
DESCRIPTION:Cochrane Classic Car Club Thursday Night Show and Shine will start on Thursday April 17th (Weather Permitting) from 5:00 to 8:00. \nThe event will be held every Thursday during the season unless otherwise posted on Facebook at the A&W Westside Cochrane.\nHope to see everyone soon
URL:https://urbancasual.ca/cochrane-event/cochrane-classic-car-club-meet-up/2025-07-03/
LOCATION:A&W WESTSIDE DRIVE
CATEGORIES:Car Show,Club,Community,Entertainment & Games,Free
ATTACH;FMTTYPE=image/jpeg:https://urbancasual.ca/wp-content/uploads/2025/04/491590669_639196252206581_9038313815574729107_n.jpg
END:VEVENT
BEGIN:VEVENT
DTSTART;TZID=America/Edmonton:20250626T170000
DTEND;TZID=America/Edmonton:20250626T200000
DTSTAMP:20260423T130753
CREATED:20250414T191316Z
LAST-MODIFIED:20250414T191339Z
UID:10047014-1750957200-1750968000@urbancasual.ca
SUMMARY:Cochrane Classic Car Club meet Up
DESCRIPTION:Cochrane Classic Car Club Thursday Night Show and Shine will start on Thursday April 17th (Weather Permitting) from 5:00 to 8:00. \nThe event will be held every Thursday during the season unless otherwise posted on Facebook at the A&W Westside Cochrane.\nHope to see everyone soon
URL:https://urbancasual.ca/cochrane-event/cochrane-classic-car-club-meet-up/2025-06-26/
LOCATION:A&W WESTSIDE DRIVE
CATEGORIES:Car Show,Club,Community,Entertainment & Games,Free
ATTACH;FMTTYPE=image/jpeg:https://urbancasual.ca/wp-content/uploads/2025/04/491590669_639196252206581_9038313815574729107_n.jpg
END:VEVENT
BEGIN:VEVENT
DTSTART;TZID=America/Edmonton:20250612T170000
DTEND;TZID=America/Edmonton:20250612T200000
DTSTAMP:20260423T130753
CREATED:20250414T191316Z
LAST-MODIFIED:20250414T191339Z
UID:10047012-1749747600-1749758400@urbancasual.ca
SUMMARY:Cochrane Classic Car Club meet Up
DESCRIPTION:Cochrane Classic Car Club Thursday Night Show and Shine will start on Thursday April 17th (Weather Permitting) from 5:00 to 8:00. \nThe event will be held every Thursday during the season unless otherwise posted on Facebook at the A&W Westside Cochrane.\nHope to see everyone soon
URL:https://urbancasual.ca/cochrane-event/cochrane-classic-car-club-meet-up/2025-06-12/
LOCATION:A&W WESTSIDE DRIVE
CATEGORIES:Car Show,Club,Community,Entertainment & Games,Free
ATTACH;FMTTYPE=image/jpeg:https://urbancasual.ca/wp-content/uploads/2025/04/491590669_639196252206581_9038313815574729107_n.jpg
END:VEVENT
BEGIN:VEVENT
DTSTART;TZID=America/Edmonton:20250605T170000
DTEND;TZID=America/Edmonton:20250605T200000
DTSTAMP:20260423T130753
CREATED:20250414T191316Z
LAST-MODIFIED:20250414T191339Z
UID:10047011-1749142800-1749153600@urbancasual.ca
SUMMARY:Cochrane Classic Car Club meet Up
DESCRIPTION:Cochrane Classic Car Club Thursday Night Show and Shine will start on Thursday April 17th (Weather Permitting) from 5:00 to 8:00. \nThe event will be held every Thursday during the season unless otherwise posted on Facebook at the A&W Westside Cochrane.\nHope to see everyone soon
URL:https://urbancasual.ca/cochrane-event/cochrane-classic-car-club-meet-up/2025-06-05/
LOCATION:A&W WESTSIDE DRIVE
CATEGORIES:Car Show,Club,Community,Entertainment & Games,Free
ATTACH;FMTTYPE=image/jpeg:https://urbancasual.ca/wp-content/uploads/2025/04/491590669_639196252206581_9038313815574729107_n.jpg
END:VEVENT
BEGIN:VEVENT
DTSTART;TZID=America/Edmonton:20250529T170000
DTEND;TZID=America/Edmonton:20250529T200000
DTSTAMP:20260423T130753
CREATED:20250414T191316Z
LAST-MODIFIED:20250414T191339Z
UID:10047010-1748538000-1748548800@urbancasual.ca
SUMMARY:Cochrane Classic Car Club meet Up
DESCRIPTION:Cochrane Classic Car Club Thursday Night Show and Shine will start on Thursday April 17th (Weather Permitting) from 5:00 to 8:00. \nThe event will be held every Thursday during the season unless otherwise posted on Facebook at the A&W Westside Cochrane.\nHope to see everyone soon
URL:https://urbancasual.ca/cochrane-event/cochrane-classic-car-club-meet-up/2025-05-29/
LOCATION:A&W WESTSIDE DRIVE
CATEGORIES:Car Show,Club,Community,Entertainment & Games,Free
ATTACH;FMTTYPE=image/jpeg:https://urbancasual.ca/wp-content/uploads/2025/04/491590669_639196252206581_9038313815574729107_n.jpg
END:VEVENT
BEGIN:VEVENT
DTSTART;TZID=America/Edmonton:20250522T170000
DTEND;TZID=America/Edmonton:20250522T200000
DTSTAMP:20260423T130753
CREATED:20250414T191316Z
LAST-MODIFIED:20250414T191339Z
UID:10047009-1747933200-1747944000@urbancasual.ca
SUMMARY:Cochrane Classic Car Club meet Up
DESCRIPTION:Cochrane Classic Car Club Thursday Night Show and Shine will start on Thursday April 17th (Weather Permitting) from 5:00 to 8:00. \nThe event will be held every Thursday during the season unless otherwise posted on Facebook at the A&W Westside Cochrane.\nHope to see everyone soon
URL:https://urbancasual.ca/cochrane-event/cochrane-classic-car-club-meet-up/2025-05-22/
LOCATION:A&W WESTSIDE DRIVE
CATEGORIES:Car Show,Club,Community,Entertainment & Games,Free
ATTACH;FMTTYPE=image/jpeg:https://urbancasual.ca/wp-content/uploads/2025/04/491590669_639196252206581_9038313815574729107_n.jpg
END:VEVENT
BEGIN:VEVENT
DTSTART;TZID=America/Edmonton:20250515T170000
DTEND;TZID=America/Edmonton:20250515T200000
DTSTAMP:20260423T130753
CREATED:20250414T191316Z
LAST-MODIFIED:20250414T191339Z
UID:10047008-1747328400-1747339200@urbancasual.ca
SUMMARY:Cochrane Classic Car Club meet Up
DESCRIPTION:Cochrane Classic Car Club Thursday Night Show and Shine will start on Thursday April 17th (Weather Permitting) from 5:00 to 8:00. \nThe event will be held every Thursday during the season unless otherwise posted on Facebook at the A&W Westside Cochrane.\nHope to see everyone soon
URL:https://urbancasual.ca/cochrane-event/cochrane-classic-car-club-meet-up/2025-05-15/
LOCATION:A&W WESTSIDE DRIVE
CATEGORIES:Car Show,Club,Community,Entertainment & Games,Free
ATTACH;FMTTYPE=image/jpeg:https://urbancasual.ca/wp-content/uploads/2025/04/491590669_639196252206581_9038313815574729107_n.jpg
END:VEVENT
BEGIN:VEVENT
DTSTART;TZID=America/Edmonton:20250508T170000
DTEND;TZID=America/Edmonton:20250508T200000
DTSTAMP:20260423T130753
CREATED:20250414T191316Z
LAST-MODIFIED:20250414T191339Z
UID:10047007-1746723600-1746734400@urbancasual.ca
SUMMARY:Cochrane Classic Car Club meet Up
DESCRIPTION:Cochrane Classic Car Club Thursday Night Show and Shine will start on Thursday April 17th (Weather Permitting) from 5:00 to 8:00. \nThe event will be held every Thursday during the season unless otherwise posted on Facebook at the A&W Westside Cochrane.\nHope to see everyone soon
URL:https://urbancasual.ca/cochrane-event/cochrane-classic-car-club-meet-up/2025-05-08/
LOCATION:A&W WESTSIDE DRIVE
CATEGORIES:Car Show,Club,Community,Entertainment & Games,Free
ATTACH;FMTTYPE=image/jpeg:https://urbancasual.ca/wp-content/uploads/2025/04/491590669_639196252206581_9038313815574729107_n.jpg
END:VEVENT
BEGIN:VEVENT
DTSTART;TZID=America/Edmonton:20250501T170000
DTEND;TZID=America/Edmonton:20250501T200000
DTSTAMP:20260423T130753
CREATED:20250414T191316Z
LAST-MODIFIED:20250414T191339Z
UID:10047006-1746118800-1746129600@urbancasual.ca
SUMMARY:Cochrane Classic Car Club meet Up
DESCRIPTION:Cochrane Classic Car Club Thursday Night Show and Shine will start on Thursday April 17th (Weather Permitting) from 5:00 to 8:00. \nThe event will be held every Thursday during the season unless otherwise posted on Facebook at the A&W Westside Cochrane.\nHope to see everyone soon
URL:https://urbancasual.ca/cochrane-event/cochrane-classic-car-club-meet-up/2025-05-01/
LOCATION:A&W WESTSIDE DRIVE
CATEGORIES:Car Show,Club,Community,Entertainment & Games,Free
ATTACH;FMTTYPE=image/jpeg:https://urbancasual.ca/wp-content/uploads/2025/04/491590669_639196252206581_9038313815574729107_n.jpg
END:VEVENT
BEGIN:VEVENT
DTSTART;TZID=America/Edmonton:20250426T170000
DTEND;TZID=America/Edmonton:20250426T200000
DTSTAMP:20260423T130753
CREATED:20250408T233350Z
LAST-MODIFIED:20250408T233801Z
UID:10046224-1745686800-1745697600@urbancasual.ca
SUMMARY:COLOURS FOR A CURE - A&W WESTSIDE DRIVE
DESCRIPTION:MARK YOUR CALENDARS! \nJoin us for an evening of art\, heart\, and hope! 🎨❤️✨ \nCOLOURS FOR A CURE is a student-led art show and auction supporting the Alberta Cancer Foundation—happening Saturday\, April 26th from 5–8 PM at A&W Westside Drive\, Cochrane. \nEnjoy beautiful student artwork\, bid on one-of-a-kind pieces\, and dine in with 15% off food 🍔🍟—all while supporting a great cause! \nEvery dollar raised helps fund vital cancer research and care. 💪💜 \nLet’s make a difference—together. 🙌 \n#ColoursForACure #AWCochrane #SupportLocal #ArtForACause #AlbertaCancerFoundation #CommunityStrong #AWCochrane
URL:https://urbancasual.ca/cochrane-event/colours-for-a-cure-aw-westside-drive/
LOCATION:A&W WESTSIDE DRIVE
CATEGORIES:Art,Community,Family Friendly,Food,Fundraiser
ATTACH;FMTTYPE=image/jpeg:https://urbancasual.ca/wp-content/uploads/2025/04/inbound9012568869690037896.jpg
END:VEVENT
BEGIN:VEVENT
DTSTART;TZID=America/Edmonton:20250424T170000
DTEND;TZID=America/Edmonton:20250424T200000
DTSTAMP:20260423T130753
CREATED:20250414T191316Z
LAST-MODIFIED:20250414T191339Z
UID:10047005-1745514000-1745524800@urbancasual.ca
SUMMARY:Cochrane Classic Car Club meet Up
DESCRIPTION:Cochrane Classic Car Club Thursday Night Show and Shine will start on Thursday April 17th (Weather Permitting) from 5:00 to 8:00. \nThe event will be held every Thursday during the season unless otherwise posted on Facebook at the A&W Westside Cochrane.\nHope to see everyone soon
URL:https://urbancasual.ca/cochrane-event/cochrane-classic-car-club-meet-up/2025-04-24/
LOCATION:A&W WESTSIDE DRIVE
CATEGORIES:Car Show,Club,Community,Entertainment & Games,Free
ATTACH;FMTTYPE=image/jpeg:https://urbancasual.ca/wp-content/uploads/2025/04/491590669_639196252206581_9038313815574729107_n.jpg
END:VEVENT
BEGIN:VEVENT
DTSTART;TZID=America/Edmonton:20250417T170000
DTEND;TZID=America/Edmonton:20250417T200000
DTSTAMP:20260423T130753
CREATED:20250414T191316Z
LAST-MODIFIED:20250414T191339Z
UID:10047004-1744909200-1744920000@urbancasual.ca
SUMMARY:Cochrane Classic Car Club meet Up
DESCRIPTION:Cochrane Classic Car Club Thursday Night Show and Shine will start on Thursday April 17th (Weather Permitting) from 5:00 to 8:00. \nThe event will be held every Thursday during the season unless otherwise posted on Facebook at the A&W Westside Cochrane.\nHope to see everyone soon
URL:https://urbancasual.ca/cochrane-event/cochrane-classic-car-club-meet-up/2025-04-17/
LOCATION:A&W WESTSIDE DRIVE
CATEGORIES:Car Show,Club,Community,Entertainment & Games,Free
ATTACH;FMTTYPE=image/jpeg:https://urbancasual.ca/wp-content/uploads/2025/04/491590669_639196252206581_9038313815574729107_n.jpg
END:VEVENT
END:VCALENDAR