BEGIN:VCALENDAR
VERSION:2.0
PRODID:-//Urbancasual.ca - ECPv6.15.20//NONSGML v1.0//EN
CALSCALE:GREGORIAN
METHOD:PUBLISH
X-ORIGINAL-URL:https://urbancasual.ca
X-WR-CALDESC:Events for Urbancasual.ca
REFRESH-INTERVAL;VALUE=DURATION:PT1H
X-Robots-Tag:noindex
X-PUBLISHED-TTL:PT1H
BEGIN:VTIMEZONE
TZID:America/Edmonton
BEGIN:DAYLIGHT
TZOFFSETFROM:-0700
TZOFFSETTO:-0600
TZNAME:MDT
DTSTART:20230312T090000
END:DAYLIGHT
BEGIN:STANDARD
TZOFFSETFROM:-0600
TZOFFSETTO:-0700
TZNAME:MST
DTSTART:20231105T080000
END:STANDARD
BEGIN:DAYLIGHT
TZOFFSETFROM:-0700
TZOFFSETTO:-0600
TZNAME:MDT
DTSTART:20240310T090000
END:DAYLIGHT
BEGIN:STANDARD
TZOFFSETFROM:-0600
TZOFFSETTO:-0700
TZNAME:MST
DTSTART:20241103T080000
END:STANDARD
BEGIN:DAYLIGHT
TZOFFSETFROM:-0700
TZOFFSETTO:-0600
TZNAME:MDT
DTSTART:20250309T090000
END:DAYLIGHT
BEGIN:STANDARD
TZOFFSETFROM:-0600
TZOFFSETTO:-0700
TZNAME:MST
DTSTART:20251102T080000
END:STANDARD
BEGIN:DAYLIGHT
TZOFFSETFROM:-0700
TZOFFSETTO:-0600
TZNAME:MDT
DTSTART:20260308T090000
END:DAYLIGHT
BEGIN:STANDARD
TZOFFSETFROM:-0600
TZOFFSETTO:-0700
TZNAME:MST
DTSTART:20261101T080000
END:STANDARD
END:VTIMEZONE
BEGIN:VEVENT
DTSTART;TZID=America/Edmonton:20251114T200000
DTEND;TZID=America/Edmonton:20251114T230000
DTSTAMP:20260423T164454
CREATED:20251106T183957Z
LAST-MODIFIED:20251106T183957Z
UID:10051164-1763150400-1763161200@urbancasual.ca
SUMMARY:QUOTE THE RAVEN - COCHRANE HOUSE CONCERTS
DESCRIPTION:Those of you who have been attending Cochrane House Concerts for a while will recognize the band as this will be their third time to Cochrane! Honestly\, we were a little surprised when Jordan and Kristen reached out to play again\, because it feels like they’ve outgrown our little series\, winning major awards and playing major festivals in Europe and North America. Be sure to secure your seat with a $25 per ticket e-Transfer to tickets@willowspringsss.com now as this may be your last opportunity to see them in a small venue. And remember\, as always\, all the funds going directly to the musicians. \n\nQuote the Raven\, the acclaimed Canadian duo of Jordan Coaker and Kirsten Rodden-Clarke\, have been enchanting audiences with their haunting harmonies and sharp wit for over a decade. Originating from Newfoundland and Labrador\, their unique blend of Americana and East Coast folk has garnered them widespread recognition. \n\nTheir sophomore album\, “Can’t Hold the Light\,” which delves into the lives of working musicians\, won the 2022 East Coast Music Award (ECMA) for Contemporary Roots Recording of the Year and received two Canadian Folk Music Award nominations. The duo has also been honoured as Music Newfoundland & Labrador’s Group of the Year in 2019\, 2021\, and 2022. \n\nIn 2025\, Quote the Raven received multiple ECMA nominations\, including Album of the Year for their upcoming release\, Map the Dark\, and Roots Release of the Year for their single “Already Gone.” \n\nAs of 2025\, Quote the Raven has achieved over one and a half million streams across various platforms\, reflecting their growing international appeal. With a dynamic stage presence\, the duo has performed extensively across Canada and internationally\, including tours in Australia\, the UK and US. They have showcased at prominent events such as Folk Alliance International\, AmericanaFest and AmericanaFestUK\, Your Roots Are Showing in Ireland\, and the Northeast Regional Folk Alliance (NERFA). Their engaging performances and authentic storytelling continue to captivate listeners worldwide. \n\nWe’re going to take a little break over December and January for hockey season\, but we’ll be back with Lynne Hanson\, February 20\, 2026\, Suzie Ungerleider (with Ben Sures and Matt Patershuk) March 12\, 2026\, and Iona Lane\, March 28\, 2026. More details about each of these shows\, as well as some we’re planning in the summer\, should be available early in the New Year.
URL:https://urbancasual.ca/cochrane-event/quote-the-raven-cochrane-house-concerts/
LOCATION:64 Sundown Way Cochrane\, AB\, 64 Sundown Way\, Cochrane
CATEGORIES:Community,Concert,Entertainment & Games,Music
ATTACH;FMTTYPE=image/jpeg:https://urbancasual.ca/wp-content/uploads/2025/11/538698077_1331893022276696_5668865350848262338_n.jpg
END:VEVENT
BEGIN:VEVENT
DTSTART;TZID=America/Edmonton:20251114T200000
DTEND;TZID=America/Edmonton:20251114T220000
DTSTAMP:20260423T164454
CREATED:20250910T231703Z
LAST-MODIFIED:20250910T231703Z
UID:10050387-1763150400-1763157600@urbancasual.ca
SUMMARY:COCHRANE HOUSE CONCERTS
DESCRIPTION:As always\, you can secure your seat with a $25 per ticket E-Transfer to tickets@willowspringsss.com\, with all the funds going directly to the musicians.
URL:https://urbancasual.ca/cochrane-event/cochrane-house-concerts/2025-11-14/
LOCATION:64 Sundown Way Cochrane\, AB\, 64 Sundown Way\, Cochrane
CATEGORIES:Concert,Entertainment & Games,Music
ATTACH;FMTTYPE=image/jpeg:https://urbancasual.ca/wp-content/uploads/2025/09/Cochrane-House-Concerts-Fall-2025-8.5-x-11-in.jpg
END:VEVENT
BEGIN:VEVENT
DTSTART;TZID=America/Edmonton:20251001T193000
DTEND;TZID=America/Edmonton:20251001T213000
DTSTAMP:20260423T164454
CREATED:20250910T231703Z
LAST-MODIFIED:20250910T231703Z
UID:10050386-1759347000-1759354200@urbancasual.ca
SUMMARY:COCHRANE HOUSE CONCERTS
DESCRIPTION:As always\, you can secure your seat with a $25 per ticket E-Transfer to tickets@willowspringsss.com\, with all the funds going directly to the musicians.
URL:https://urbancasual.ca/cochrane-event/cochrane-house-concerts/2025-10-01/
LOCATION:64 Sundown Way Cochrane\, AB\, 64 Sundown Way\, Cochrane
CATEGORIES:Concert,Entertainment & Games,Music
ATTACH;FMTTYPE=image/jpeg:https://urbancasual.ca/wp-content/uploads/2025/09/Cochrane-House-Concerts-Fall-2025-8.5-x-11-in.jpg
END:VEVENT
BEGIN:VEVENT
DTSTART;TZID=America/Edmonton:20250918T193000
DTEND;TZID=America/Edmonton:20250918T213000
DTSTAMP:20260423T164454
CREATED:20250910T231703Z
LAST-MODIFIED:20250910T231703Z
UID:10050385-1758223800-1758231000@urbancasual.ca
SUMMARY:COCHRANE HOUSE CONCERTS
DESCRIPTION:As always\, you can secure your seat with a $25 per ticket E-Transfer to tickets@willowspringsss.com\, with all the funds going directly to the musicians.
URL:https://urbancasual.ca/cochrane-event/cochrane-house-concerts/2025-09-18/
LOCATION:64 Sundown Way Cochrane\, AB\, 64 Sundown Way\, Cochrane
CATEGORIES:Concert,Entertainment & Games,Music
ATTACH;FMTTYPE=image/jpeg:https://urbancasual.ca/wp-content/uploads/2025/09/Cochrane-House-Concerts-Fall-2025-8.5-x-11-in.jpg
END:VEVENT
BEGIN:VEVENT
DTSTART;TZID=America/Edmonton:20241102T200000
DTEND;TZID=America/Edmonton:20241102T220000
DTSTAMP:20260423T164454
CREATED:20241017T162543Z
LAST-MODIFIED:20241017T162543Z
UID:10036565-1730577600-1730584800@urbancasual.ca
SUMMARY:Home Concert: Aleksi Campagne
DESCRIPTION:We’re excited to be welcoming Aleksi back to Cochrane House Concerts to open our 2024-2025 Winter Season! As always\, the cost will be $25 per ticket and your ticket can be secured with an e-transfer to tickets@willowspringsss.com.\n\nNamed Penguin Eggs & Roots Music Canada’s New Discovery of the Year (2024)\, Aleksi Campagne offers a contemporary\, indie-folktake on the time-honoured fiddle-singing tradition. Born and raised in Montreal\, Aleksi’smusic blends folk songwriting with an edgy\,multi-layered sound resulting from his unique combination of voice\, violin and looping-effect pedals. His debut album For The Giving / Sansrien donner was just nominated for a CanadianFolk Music Award (April 2024)\, and is a fully bilingual album offering 10 songs in French and the same 10 songs in English.\n\nAleksi’s debut has been a whirlwind! Aleksi was selected as a Mariposa Folk Festival EmergingArtist to perform at the festival. His first singleAnother Day was picked by Paul Corby as a TopSingle of 2022. He was then celebrated by Tom Coxworth as one of the Top 5 Favourite acts at the Folk Alliance International Conference\, alongside acts like The Fretless and Mary Gautier. His second single Won’t be Scared was selected as the only Canadian finalist in the Kerrville Folk Festival’s Grassy Hill New FolkCompetition for Emerging Song writers. In July 2023. Aleksi Launched his debut album\, which debuted at #22 FAI Folk Charts.\n\nIn a review in Le Devoir by Sylvain Cormier\, Aleksi’s debut was compared to that of Patric Watson and half Moon Run. According to Roots Music Canada\, “Aleksi Campagne finessed one of the most musically ambitious accomplishments of the year\, an impeccable double album\, one set of songs in two conjoined bilingual packages.” He is now touring his album with other 50 shows in Canada and the United States!
URL:https://urbancasual.ca/cochrane-event/home-concert-aleksi-campagne/
LOCATION:64 Sundown Way Cochrane\, AB\, 64 Sundown Way\, Cochrane
CATEGORIES:Community,Concert,Entertainment & Games,Music
ATTACH;FMTTYPE=image/jpeg:https://urbancasual.ca/wp-content/uploads/2024/10/inbound8339519972747735832.jpg
END:VEVENT
END:VCALENDAR