BEGIN:VCALENDAR
VERSION:2.0
PRODID:-//Urbancasual.ca - ECPv6.15.20//NONSGML v1.0//EN
CALSCALE:GREGORIAN
METHOD:PUBLISH
X-WR-CALNAME:Urbancasual.ca
X-ORIGINAL-URL:https://urbancasual.ca
X-WR-CALDESC:Events for Urbancasual.ca
REFRESH-INTERVAL;VALUE=DURATION:PT1H
X-Robots-Tag:noindex
X-PUBLISHED-TTL:PT1H
BEGIN:VTIMEZONE
TZID:America/Edmonton
BEGIN:DAYLIGHT
TZOFFSETFROM:-0700
TZOFFSETTO:-0600
TZNAME:MDT
DTSTART:20250309T090000
END:DAYLIGHT
BEGIN:STANDARD
TZOFFSETFROM:-0600
TZOFFSETTO:-0700
TZNAME:MST
DTSTART:20251102T080000
END:STANDARD
BEGIN:DAYLIGHT
TZOFFSETFROM:-0700
TZOFFSETTO:-0600
TZNAME:MDT
DTSTART:20260308T090000
END:DAYLIGHT
BEGIN:STANDARD
TZOFFSETFROM:-0600
TZOFFSETTO:-0700
TZNAME:MST
DTSTART:20261101T080000
END:STANDARD
BEGIN:DAYLIGHT
TZOFFSETFROM:-0700
TZOFFSETTO:-0600
TZNAME:MDT
DTSTART:20270314T090000
END:DAYLIGHT
BEGIN:STANDARD
TZOFFSETFROM:-0600
TZOFFSETTO:-0700
TZNAME:MST
DTSTART:20271107T080000
END:STANDARD
END:VTIMEZONE
BEGIN:VEVENT
DTSTART;TZID=America/Edmonton:20260912T140000
DTEND;TZID=America/Edmonton:20260912T160000
DTSTAMP:20260424T205913
CREATED:20260108T210716Z
LAST-MODIFIED:20260108T210716Z
UID:10053879-1789221600-1789228800@urbancasual.ca
SUMMARY:Drop In Shuffleboard at The Legion (Saturdays)
DESCRIPTION:
URL:https://urbancasual.ca/cochrane-event/drop-in-shuffleboard-at-the-legion-saturdays/2026-09-12/
LOCATION:The Legion\, 114 Fifth Ave\, Cochrane\, Canada
CATEGORIES:Community,Entertainment & Games,Family Friendly,Free,Legion
ATTACH;FMTTYPE=image/webp:https://urbancasual.ca/wp-content/uploads/2026/01/shuffleport.webp
END:VEVENT
BEGIN:VEVENT
DTSTART;TZID=America/Edmonton:20260914T190000
DTEND;TZID=America/Edmonton:20260914T210000
DTSTAMP:20260424T205913
CREATED:20260108T211206Z
LAST-MODIFIED:20260108T211206Z
UID:10053931-1789412400-1789419600@urbancasual.ca
SUMMARY:EUCHRE NIGHT AT THE LEGION (DROP IN)
DESCRIPTION:
URL:https://urbancasual.ca/cochrane-event/euchre-night-at-the-legion-drop-in/2026-09-14/
LOCATION:The Legion\, 114 Fifth Ave\, Cochrane\, Canada
CATEGORIES:Community,Entertainment & Games,Family Friendly,Free,Legion
ATTACH;FMTTYPE=image/jpeg:https://urbancasual.ca/wp-content/uploads/2026/01/608223840_122205932546544523_506268762666482123_n.jpg
END:VEVENT
BEGIN:VEVENT
DTSTART;TZID=America/Edmonton:20260915T160000
DTEND;TZID=America/Edmonton:20260915T180000
DTSTAMP:20260424T205913
CREATED:20260108T210530Z
LAST-MODIFIED:20260108T210818Z
UID:10053828-1789488000-1789495200@urbancasual.ca
SUMMARY:Drop In Shuffleboard at The Legion (Tuesdays)
DESCRIPTION:
URL:https://urbancasual.ca/cochrane-event/drop-in-shuffleboard-at-the-legion-tuesdays/2026-09-15/
LOCATION:The Legion\, 114 Fifth Ave\, Cochrane\, Canada
CATEGORIES:Community,Entertainment & Games,Family Friendly,Free,Legion
ATTACH;FMTTYPE=image/webp:https://urbancasual.ca/wp-content/uploads/2026/01/shuffleport.webp
END:VEVENT
BEGIN:VEVENT
DTSTART;TZID=America/Edmonton:20260919T140000
DTEND;TZID=America/Edmonton:20260919T160000
DTSTAMP:20260424T205913
CREATED:20260108T210716Z
LAST-MODIFIED:20260108T210716Z
UID:10053880-1789826400-1789833600@urbancasual.ca
SUMMARY:Drop In Shuffleboard at The Legion (Saturdays)
DESCRIPTION:
URL:https://urbancasual.ca/cochrane-event/drop-in-shuffleboard-at-the-legion-saturdays/2026-09-19/
LOCATION:The Legion\, 114 Fifth Ave\, Cochrane\, Canada
CATEGORIES:Community,Entertainment & Games,Family Friendly,Free,Legion
ATTACH;FMTTYPE=image/webp:https://urbancasual.ca/wp-content/uploads/2026/01/shuffleport.webp
END:VEVENT
BEGIN:VEVENT
DTSTART;TZID=America/Edmonton:20260921T190000
DTEND;TZID=America/Edmonton:20260921T210000
DTSTAMP:20260424T205913
CREATED:20260108T211206Z
LAST-MODIFIED:20260108T211206Z
UID:10053932-1790017200-1790024400@urbancasual.ca
SUMMARY:EUCHRE NIGHT AT THE LEGION (DROP IN)
DESCRIPTION:
URL:https://urbancasual.ca/cochrane-event/euchre-night-at-the-legion-drop-in/2026-09-21/
LOCATION:The Legion\, 114 Fifth Ave\, Cochrane\, Canada
CATEGORIES:Community,Entertainment & Games,Family Friendly,Free,Legion
ATTACH;FMTTYPE=image/jpeg:https://urbancasual.ca/wp-content/uploads/2026/01/608223840_122205932546544523_506268762666482123_n.jpg
END:VEVENT
BEGIN:VEVENT
DTSTART;TZID=America/Edmonton:20260922T160000
DTEND;TZID=America/Edmonton:20260922T180000
DTSTAMP:20260424T205913
CREATED:20260108T210530Z
LAST-MODIFIED:20260108T210818Z
UID:10053829-1790092800-1790100000@urbancasual.ca
SUMMARY:Drop In Shuffleboard at The Legion (Tuesdays)
DESCRIPTION:
URL:https://urbancasual.ca/cochrane-event/drop-in-shuffleboard-at-the-legion-tuesdays/2026-09-22/
LOCATION:The Legion\, 114 Fifth Ave\, Cochrane\, Canada
CATEGORIES:Community,Entertainment & Games,Family Friendly,Free,Legion
ATTACH;FMTTYPE=image/webp:https://urbancasual.ca/wp-content/uploads/2026/01/shuffleport.webp
END:VEVENT
BEGIN:VEVENT
DTSTART;TZID=America/Edmonton:20260926T140000
DTEND;TZID=America/Edmonton:20260926T160000
DTSTAMP:20260424T205913
CREATED:20260108T210716Z
LAST-MODIFIED:20260108T210716Z
UID:10053881-1790431200-1790438400@urbancasual.ca
SUMMARY:Drop In Shuffleboard at The Legion (Saturdays)
DESCRIPTION:
URL:https://urbancasual.ca/cochrane-event/drop-in-shuffleboard-at-the-legion-saturdays/2026-09-26/
LOCATION:The Legion\, 114 Fifth Ave\, Cochrane\, Canada
CATEGORIES:Community,Entertainment & Games,Family Friendly,Free,Legion
ATTACH;FMTTYPE=image/webp:https://urbancasual.ca/wp-content/uploads/2026/01/shuffleport.webp
END:VEVENT
BEGIN:VEVENT
DTSTART;TZID=America/Edmonton:20260928T190000
DTEND;TZID=America/Edmonton:20260928T210000
DTSTAMP:20260424T205913
CREATED:20260108T211206Z
LAST-MODIFIED:20260108T211206Z
UID:10053933-1790622000-1790629200@urbancasual.ca
SUMMARY:EUCHRE NIGHT AT THE LEGION (DROP IN)
DESCRIPTION:
URL:https://urbancasual.ca/cochrane-event/euchre-night-at-the-legion-drop-in/2026-09-28/
LOCATION:The Legion\, 114 Fifth Ave\, Cochrane\, Canada
CATEGORIES:Community,Entertainment & Games,Family Friendly,Free,Legion
ATTACH;FMTTYPE=image/jpeg:https://urbancasual.ca/wp-content/uploads/2026/01/608223840_122205932546544523_506268762666482123_n.jpg
END:VEVENT
BEGIN:VEVENT
DTSTART;TZID=America/Edmonton:20260929T160000
DTEND;TZID=America/Edmonton:20260929T180000
DTSTAMP:20260424T205913
CREATED:20260108T210530Z
LAST-MODIFIED:20260108T210818Z
UID:10053830-1790697600-1790704800@urbancasual.ca
SUMMARY:Drop In Shuffleboard at The Legion (Tuesdays)
DESCRIPTION:
URL:https://urbancasual.ca/cochrane-event/drop-in-shuffleboard-at-the-legion-tuesdays/2026-09-29/
LOCATION:The Legion\, 114 Fifth Ave\, Cochrane\, Canada
CATEGORIES:Community,Entertainment & Games,Family Friendly,Free,Legion
ATTACH;FMTTYPE=image/webp:https://urbancasual.ca/wp-content/uploads/2026/01/shuffleport.webp
END:VEVENT
BEGIN:VEVENT
DTSTART;TZID=America/Edmonton:20261003T140000
DTEND;TZID=America/Edmonton:20261003T160000
DTSTAMP:20260424T205913
CREATED:20260108T210716Z
LAST-MODIFIED:20260108T210716Z
UID:10053882-1791036000-1791043200@urbancasual.ca
SUMMARY:Drop In Shuffleboard at The Legion (Saturdays)
DESCRIPTION:
URL:https://urbancasual.ca/cochrane-event/drop-in-shuffleboard-at-the-legion-saturdays/2026-10-03/
LOCATION:The Legion\, 114 Fifth Ave\, Cochrane\, Canada
CATEGORIES:Community,Entertainment & Games,Family Friendly,Free,Legion
ATTACH;FMTTYPE=image/webp:https://urbancasual.ca/wp-content/uploads/2026/01/shuffleport.webp
END:VEVENT
BEGIN:VEVENT
DTSTART;TZID=America/Edmonton:20261005T190000
DTEND;TZID=America/Edmonton:20261005T210000
DTSTAMP:20260424T205913
CREATED:20260108T211206Z
LAST-MODIFIED:20260108T211206Z
UID:10053934-1791226800-1791234000@urbancasual.ca
SUMMARY:EUCHRE NIGHT AT THE LEGION (DROP IN)
DESCRIPTION:
URL:https://urbancasual.ca/cochrane-event/euchre-night-at-the-legion-drop-in/2026-10-05/
LOCATION:The Legion\, 114 Fifth Ave\, Cochrane\, Canada
CATEGORIES:Community,Entertainment & Games,Family Friendly,Free,Legion
ATTACH;FMTTYPE=image/jpeg:https://urbancasual.ca/wp-content/uploads/2026/01/608223840_122205932546544523_506268762666482123_n.jpg
END:VEVENT
BEGIN:VEVENT
DTSTART;TZID=America/Edmonton:20261006T160000
DTEND;TZID=America/Edmonton:20261006T180000
DTSTAMP:20260424T205913
CREATED:20260108T210530Z
LAST-MODIFIED:20260108T210818Z
UID:10053831-1791302400-1791309600@urbancasual.ca
SUMMARY:Drop In Shuffleboard at The Legion (Tuesdays)
DESCRIPTION:
URL:https://urbancasual.ca/cochrane-event/drop-in-shuffleboard-at-the-legion-tuesdays/2026-10-06/
LOCATION:The Legion\, 114 Fifth Ave\, Cochrane\, Canada
CATEGORIES:Community,Entertainment & Games,Family Friendly,Free,Legion
ATTACH;FMTTYPE=image/webp:https://urbancasual.ca/wp-content/uploads/2026/01/shuffleport.webp
END:VEVENT
BEGIN:VEVENT
DTSTART;TZID=America/Edmonton:20261010T140000
DTEND;TZID=America/Edmonton:20261010T160000
DTSTAMP:20260424T205913
CREATED:20260108T210716Z
LAST-MODIFIED:20260108T210716Z
UID:10053883-1791640800-1791648000@urbancasual.ca
SUMMARY:Drop In Shuffleboard at The Legion (Saturdays)
DESCRIPTION:
URL:https://urbancasual.ca/cochrane-event/drop-in-shuffleboard-at-the-legion-saturdays/2026-10-10/
LOCATION:The Legion\, 114 Fifth Ave\, Cochrane\, Canada
CATEGORIES:Community,Entertainment & Games,Family Friendly,Free,Legion
ATTACH;FMTTYPE=image/webp:https://urbancasual.ca/wp-content/uploads/2026/01/shuffleport.webp
END:VEVENT
BEGIN:VEVENT
DTSTART;TZID=America/Edmonton:20261012T190000
DTEND;TZID=America/Edmonton:20261012T210000
DTSTAMP:20260424T205913
CREATED:20260108T211206Z
LAST-MODIFIED:20260108T211206Z
UID:10053935-1791831600-1791838800@urbancasual.ca
SUMMARY:EUCHRE NIGHT AT THE LEGION (DROP IN)
DESCRIPTION:
URL:https://urbancasual.ca/cochrane-event/euchre-night-at-the-legion-drop-in/2026-10-12/
LOCATION:The Legion\, 114 Fifth Ave\, Cochrane\, Canada
CATEGORIES:Community,Entertainment & Games,Family Friendly,Free,Legion
ATTACH;FMTTYPE=image/jpeg:https://urbancasual.ca/wp-content/uploads/2026/01/608223840_122205932546544523_506268762666482123_n.jpg
END:VEVENT
BEGIN:VEVENT
DTSTART;TZID=America/Edmonton:20261013T160000
DTEND;TZID=America/Edmonton:20261013T180000
DTSTAMP:20260424T205914
CREATED:20260108T210530Z
LAST-MODIFIED:20260108T210818Z
UID:10053832-1791907200-1791914400@urbancasual.ca
SUMMARY:Drop In Shuffleboard at The Legion (Tuesdays)
DESCRIPTION:
URL:https://urbancasual.ca/cochrane-event/drop-in-shuffleboard-at-the-legion-tuesdays/2026-10-13/
LOCATION:The Legion\, 114 Fifth Ave\, Cochrane\, Canada
CATEGORIES:Community,Entertainment & Games,Family Friendly,Free,Legion
ATTACH;FMTTYPE=image/webp:https://urbancasual.ca/wp-content/uploads/2026/01/shuffleport.webp
END:VEVENT
BEGIN:VEVENT
DTSTART;TZID=America/Edmonton:20261017T140000
DTEND;TZID=America/Edmonton:20261017T160000
DTSTAMP:20260424T205914
CREATED:20260108T210716Z
LAST-MODIFIED:20260108T210716Z
UID:10053884-1792245600-1792252800@urbancasual.ca
SUMMARY:Drop In Shuffleboard at The Legion (Saturdays)
DESCRIPTION:
URL:https://urbancasual.ca/cochrane-event/drop-in-shuffleboard-at-the-legion-saturdays/2026-10-17/
LOCATION:The Legion\, 114 Fifth Ave\, Cochrane\, Canada
CATEGORIES:Community,Entertainment & Games,Family Friendly,Free,Legion
ATTACH;FMTTYPE=image/webp:https://urbancasual.ca/wp-content/uploads/2026/01/shuffleport.webp
END:VEVENT
BEGIN:VEVENT
DTSTART;TZID=America/Edmonton:20261019T190000
DTEND;TZID=America/Edmonton:20261019T210000
DTSTAMP:20260424T205914
CREATED:20260108T211206Z
LAST-MODIFIED:20260108T211206Z
UID:10053936-1792436400-1792443600@urbancasual.ca
SUMMARY:EUCHRE NIGHT AT THE LEGION (DROP IN)
DESCRIPTION:
URL:https://urbancasual.ca/cochrane-event/euchre-night-at-the-legion-drop-in/2026-10-19/
LOCATION:The Legion\, 114 Fifth Ave\, Cochrane\, Canada
CATEGORIES:Community,Entertainment & Games,Family Friendly,Free,Legion
ATTACH;FMTTYPE=image/jpeg:https://urbancasual.ca/wp-content/uploads/2026/01/608223840_122205932546544523_506268762666482123_n.jpg
END:VEVENT
BEGIN:VEVENT
DTSTART;TZID=America/Edmonton:20261020T160000
DTEND;TZID=America/Edmonton:20261020T180000
DTSTAMP:20260424T205914
CREATED:20260108T210530Z
LAST-MODIFIED:20260108T210818Z
UID:10053833-1792512000-1792519200@urbancasual.ca
SUMMARY:Drop In Shuffleboard at The Legion (Tuesdays)
DESCRIPTION:
URL:https://urbancasual.ca/cochrane-event/drop-in-shuffleboard-at-the-legion-tuesdays/2026-10-20/
LOCATION:The Legion\, 114 Fifth Ave\, Cochrane\, Canada
CATEGORIES:Community,Entertainment & Games,Family Friendly,Free,Legion
ATTACH;FMTTYPE=image/webp:https://urbancasual.ca/wp-content/uploads/2026/01/shuffleport.webp
END:VEVENT
BEGIN:VEVENT
DTSTART;TZID=America/Edmonton:20261024T140000
DTEND;TZID=America/Edmonton:20261024T160000
DTSTAMP:20260424T205914
CREATED:20260108T210716Z
LAST-MODIFIED:20260108T210716Z
UID:10053885-1792850400-1792857600@urbancasual.ca
SUMMARY:Drop In Shuffleboard at The Legion (Saturdays)
DESCRIPTION:
URL:https://urbancasual.ca/cochrane-event/drop-in-shuffleboard-at-the-legion-saturdays/2026-10-24/
LOCATION:The Legion\, 114 Fifth Ave\, Cochrane\, Canada
CATEGORIES:Community,Entertainment & Games,Family Friendly,Free,Legion
ATTACH;FMTTYPE=image/webp:https://urbancasual.ca/wp-content/uploads/2026/01/shuffleport.webp
END:VEVENT
BEGIN:VEVENT
DTSTART;TZID=America/Edmonton:20261026T190000
DTEND;TZID=America/Edmonton:20261026T210000
DTSTAMP:20260424T205914
CREATED:20260108T211206Z
LAST-MODIFIED:20260108T211206Z
UID:10053937-1793041200-1793048400@urbancasual.ca
SUMMARY:EUCHRE NIGHT AT THE LEGION (DROP IN)
DESCRIPTION:
URL:https://urbancasual.ca/cochrane-event/euchre-night-at-the-legion-drop-in/2026-10-26/
LOCATION:The Legion\, 114 Fifth Ave\, Cochrane\, Canada
CATEGORIES:Community,Entertainment & Games,Family Friendly,Free,Legion
ATTACH;FMTTYPE=image/jpeg:https://urbancasual.ca/wp-content/uploads/2026/01/608223840_122205932546544523_506268762666482123_n.jpg
END:VEVENT
BEGIN:VEVENT
DTSTART;TZID=America/Edmonton:20261027T160000
DTEND;TZID=America/Edmonton:20261027T180000
DTSTAMP:20260424T205914
CREATED:20260108T210530Z
LAST-MODIFIED:20260108T210818Z
UID:10053834-1793116800-1793124000@urbancasual.ca
SUMMARY:Drop In Shuffleboard at The Legion (Tuesdays)
DESCRIPTION:
URL:https://urbancasual.ca/cochrane-event/drop-in-shuffleboard-at-the-legion-tuesdays/2026-10-27/
LOCATION:The Legion\, 114 Fifth Ave\, Cochrane\, Canada
CATEGORIES:Community,Entertainment & Games,Family Friendly,Free,Legion
ATTACH;FMTTYPE=image/webp:https://urbancasual.ca/wp-content/uploads/2026/01/shuffleport.webp
END:VEVENT
BEGIN:VEVENT
DTSTART;TZID=America/Edmonton:20261031T140000
DTEND;TZID=America/Edmonton:20261031T160000
DTSTAMP:20260424T205914
CREATED:20260108T210716Z
LAST-MODIFIED:20260108T210716Z
UID:10053886-1793455200-1793462400@urbancasual.ca
SUMMARY:Drop In Shuffleboard at The Legion (Saturdays)
DESCRIPTION:
URL:https://urbancasual.ca/cochrane-event/drop-in-shuffleboard-at-the-legion-saturdays/2026-10-31/
LOCATION:The Legion\, 114 Fifth Ave\, Cochrane\, Canada
CATEGORIES:Community,Entertainment & Games,Family Friendly,Free,Legion
ATTACH;FMTTYPE=image/webp:https://urbancasual.ca/wp-content/uploads/2026/01/shuffleport.webp
END:VEVENT
BEGIN:VEVENT
DTSTART;TZID=America/Edmonton:20261102T190000
DTEND;TZID=America/Edmonton:20261102T210000
DTSTAMP:20260424T205914
CREATED:20260108T211206Z
LAST-MODIFIED:20260108T211206Z
UID:10053938-1793646000-1793653200@urbancasual.ca
SUMMARY:EUCHRE NIGHT AT THE LEGION (DROP IN)
DESCRIPTION:
URL:https://urbancasual.ca/cochrane-event/euchre-night-at-the-legion-drop-in/2026-11-02/
LOCATION:The Legion\, 114 Fifth Ave\, Cochrane\, Canada
CATEGORIES:Community,Entertainment & Games,Family Friendly,Free,Legion
ATTACH;FMTTYPE=image/jpeg:https://urbancasual.ca/wp-content/uploads/2026/01/608223840_122205932546544523_506268762666482123_n.jpg
END:VEVENT
BEGIN:VEVENT
DTSTART;TZID=America/Edmonton:20261103T160000
DTEND;TZID=America/Edmonton:20261103T180000
DTSTAMP:20260424T205914
CREATED:20260108T210530Z
LAST-MODIFIED:20260108T210818Z
UID:10053835-1793721600-1793728800@urbancasual.ca
SUMMARY:Drop In Shuffleboard at The Legion (Tuesdays)
DESCRIPTION:
URL:https://urbancasual.ca/cochrane-event/drop-in-shuffleboard-at-the-legion-tuesdays/2026-11-03/
LOCATION:The Legion\, 114 Fifth Ave\, Cochrane\, Canada
CATEGORIES:Community,Entertainment & Games,Family Friendly,Free,Legion
ATTACH;FMTTYPE=image/webp:https://urbancasual.ca/wp-content/uploads/2026/01/shuffleport.webp
END:VEVENT
BEGIN:VEVENT
DTSTART;TZID=America/Edmonton:20261107T140000
DTEND;TZID=America/Edmonton:20261107T160000
DTSTAMP:20260424T205914
CREATED:20260108T210716Z
LAST-MODIFIED:20260108T210716Z
UID:10053887-1794060000-1794067200@urbancasual.ca
SUMMARY:Drop In Shuffleboard at The Legion (Saturdays)
DESCRIPTION:
URL:https://urbancasual.ca/cochrane-event/drop-in-shuffleboard-at-the-legion-saturdays/2026-11-07/
LOCATION:The Legion\, 114 Fifth Ave\, Cochrane\, Canada
CATEGORIES:Community,Entertainment & Games,Family Friendly,Free,Legion
ATTACH;FMTTYPE=image/webp:https://urbancasual.ca/wp-content/uploads/2026/01/shuffleport.webp
END:VEVENT
BEGIN:VEVENT
DTSTART;TZID=America/Edmonton:20261109T190000
DTEND;TZID=America/Edmonton:20261109T210000
DTSTAMP:20260424T205914
CREATED:20260108T211206Z
LAST-MODIFIED:20260108T211206Z
UID:10053939-1794250800-1794258000@urbancasual.ca
SUMMARY:EUCHRE NIGHT AT THE LEGION (DROP IN)
DESCRIPTION:
URL:https://urbancasual.ca/cochrane-event/euchre-night-at-the-legion-drop-in/2026-11-09/
LOCATION:The Legion\, 114 Fifth Ave\, Cochrane\, Canada
CATEGORIES:Community,Entertainment & Games,Family Friendly,Free,Legion
ATTACH;FMTTYPE=image/jpeg:https://urbancasual.ca/wp-content/uploads/2026/01/608223840_122205932546544523_506268762666482123_n.jpg
END:VEVENT
BEGIN:VEVENT
DTSTART;TZID=America/Edmonton:20261110T160000
DTEND;TZID=America/Edmonton:20261110T180000
DTSTAMP:20260424T205914
CREATED:20260108T210530Z
LAST-MODIFIED:20260108T210818Z
UID:10053836-1794326400-1794333600@urbancasual.ca
SUMMARY:Drop In Shuffleboard at The Legion (Tuesdays)
DESCRIPTION:
URL:https://urbancasual.ca/cochrane-event/drop-in-shuffleboard-at-the-legion-tuesdays/2026-11-10/
LOCATION:The Legion\, 114 Fifth Ave\, Cochrane\, Canada
CATEGORIES:Community,Entertainment & Games,Family Friendly,Free,Legion
ATTACH;FMTTYPE=image/webp:https://urbancasual.ca/wp-content/uploads/2026/01/shuffleport.webp
END:VEVENT
BEGIN:VEVENT
DTSTART;TZID=America/Edmonton:20261114T140000
DTEND;TZID=America/Edmonton:20261114T160000
DTSTAMP:20260424T205914
CREATED:20260108T210716Z
LAST-MODIFIED:20260108T210716Z
UID:10053888-1794664800-1794672000@urbancasual.ca
SUMMARY:Drop In Shuffleboard at The Legion (Saturdays)
DESCRIPTION:
URL:https://urbancasual.ca/cochrane-event/drop-in-shuffleboard-at-the-legion-saturdays/2026-11-14/
LOCATION:The Legion\, 114 Fifth Ave\, Cochrane\, Canada
CATEGORIES:Community,Entertainment & Games,Family Friendly,Free,Legion
ATTACH;FMTTYPE=image/webp:https://urbancasual.ca/wp-content/uploads/2026/01/shuffleport.webp
END:VEVENT
BEGIN:VEVENT
DTSTART;TZID=America/Edmonton:20261116T190000
DTEND;TZID=America/Edmonton:20261116T210000
DTSTAMP:20260424T205914
CREATED:20260108T211206Z
LAST-MODIFIED:20260108T211206Z
UID:10053940-1794855600-1794862800@urbancasual.ca
SUMMARY:EUCHRE NIGHT AT THE LEGION (DROP IN)
DESCRIPTION:
URL:https://urbancasual.ca/cochrane-event/euchre-night-at-the-legion-drop-in/2026-11-16/
LOCATION:The Legion\, 114 Fifth Ave\, Cochrane\, Canada
CATEGORIES:Community,Entertainment & Games,Family Friendly,Free,Legion
ATTACH;FMTTYPE=image/jpeg:https://urbancasual.ca/wp-content/uploads/2026/01/608223840_122205932546544523_506268762666482123_n.jpg
END:VEVENT
BEGIN:VEVENT
DTSTART;TZID=America/Edmonton:20261117T160000
DTEND;TZID=America/Edmonton:20261117T180000
DTSTAMP:20260424T205914
CREATED:20260108T210530Z
LAST-MODIFIED:20260108T210818Z
UID:10053837-1794931200-1794938400@urbancasual.ca
SUMMARY:Drop In Shuffleboard at The Legion (Tuesdays)
DESCRIPTION:
URL:https://urbancasual.ca/cochrane-event/drop-in-shuffleboard-at-the-legion-tuesdays/2026-11-17/
LOCATION:The Legion\, 114 Fifth Ave\, Cochrane\, Canada
CATEGORIES:Community,Entertainment & Games,Family Friendly,Free,Legion
ATTACH;FMTTYPE=image/webp:https://urbancasual.ca/wp-content/uploads/2026/01/shuffleport.webp
END:VEVENT
END:VCALENDAR