BEGIN:VCALENDAR
VERSION:2.0
PRODID:-//Urbancasual.ca - ECPv6.15.20//NONSGML v1.0//EN
CALSCALE:GREGORIAN
METHOD:PUBLISH
X-ORIGINAL-URL:https://urbancasual.ca
X-WR-CALDESC:Events for Urbancasual.ca
REFRESH-INTERVAL;VALUE=DURATION:PT1H
X-Robots-Tag:noindex
X-PUBLISHED-TTL:PT1H
BEGIN:VTIMEZONE
TZID:America/Edmonton
BEGIN:DAYLIGHT
TZOFFSETFROM:-0700
TZOFFSETTO:-0600
TZNAME:MDT
DTSTART:20250309T090000
END:DAYLIGHT
BEGIN:STANDARD
TZOFFSETFROM:-0600
TZOFFSETTO:-0700
TZNAME:MST
DTSTART:20251102T080000
END:STANDARD
BEGIN:DAYLIGHT
TZOFFSETFROM:-0700
TZOFFSETTO:-0600
TZNAME:MDT
DTSTART:20260308T090000
END:DAYLIGHT
BEGIN:STANDARD
TZOFFSETFROM:-0600
TZOFFSETTO:-0700
TZNAME:MST
DTSTART:20261101T080000
END:STANDARD
BEGIN:DAYLIGHT
TZOFFSETFROM:-0700
TZOFFSETTO:-0600
TZNAME:MDT
DTSTART:20270314T090000
END:DAYLIGHT
BEGIN:STANDARD
TZOFFSETFROM:-0600
TZOFFSETTO:-0700
TZNAME:MST
DTSTART:20271107T080000
END:STANDARD
END:VTIMEZONE
BEGIN:VEVENT
DTSTART;TZID=America/Edmonton:20260424T160000
DTEND;TZID=America/Edmonton:20260424T190000
DTSTAMP:20260424T031359
CREATED:20260413T225943Z
LAST-MODIFIED:20260413T225943Z
UID:10059312-1777046400-1777057200@urbancasual.ca
SUMMARY:Beyond the Pane Exhibition Opening Reception
DESCRIPTION:Route 22 proudly presents our next SOLO Exhibition in our downtown Cochrane Gallery location. \n“Beyond the Pane” – Art Exhibition featuring the art of local stained glass artist Sharon Pshyk. \nThis exhibition is showing from April 20 to May 24\, 2026. \nExperience the wonderful interplay of light and colour in Sharon’s unique glass creations alongside her use of materials from driftwood\, crystals\, beads\, and rocks! \nOpening Reception | Celebration:\nFriday – April 24\, 2026\nTime: 4:00 pm to 7:00 pm\nLocation: Route 22 Artist Collective Gallery\, Cochrane\, AB. \nRefreshments will be provided & all are welcome! \nVisit our website at www.route22gallery.com under Programming for more!
URL:https://urbancasual.ca/cochrane-event/beyond-the-pane-exhibition-opening-reception/
LOCATION:Route 22 Artist Collective Gallery\, 208 1st Street W.\, Cochrane\, Alberta\, Canada
CATEGORIES:Art,Downtown,Launch,Open House,Photography,Sale
ATTACH;FMTTYPE=image/jpeg:https://urbancasual.ca/wp-content/uploads/2026/04/Reception-Date.jpg
ORGANIZER;CN="Route 22 Artist Collective Gallery":MAILTO:INFO@ROUTE22GALLERY.COM
END:VEVENT
BEGIN:VEVENT
DTSTART;TZID=America/Edmonton:20260424T190000
DTEND;TZID=America/Edmonton:20260424T210000
DTSTAMP:20260424T031359
CREATED:20260402T225851Z
LAST-MODIFIED:20260402T225851Z
UID:10058659-1777057200-1777064400@urbancasual.ca
SUMMARY:Springtime Paint & Sip Nights
DESCRIPTION:Springtime Paint & Sip Night with Susan Ballantine \nJoin us for an evening of some Springtime painting with Susan and leave with a finished piece! \nNo experience is necessary and all supplies will be included!\nAll are welcome! \nRoute 22’s bar will also be open for some alcoholic (and non-alcoholic!) beverages. \nDates: April 10th and 24th\, 2026 \nTime: 7:00 pm – 9:00 pm \nLocation: Route 22 Artist Collective Gallery \nPrice: $25 + GST | Fees \nAges: 18+ \nVisit our website @ route22gallery.com under events for more information!
URL:https://urbancasual.ca/cochrane-event/springtime-paint-sip-nights/2026-04-24/
LOCATION:Route 22 Artist Collective Gallery\, 208 1st Street W.\, Cochrane\, Alberta\, Canada
CATEGORIES:Art,Entertainment & Games,Learning,Networking,Newcomers
ATTACH;FMTTYPE=image/jpeg:https://urbancasual.ca/wp-content/uploads/2026/04/Spring-Time-Paint-Night-Poster.jpg
ORGANIZER;CN="Route 22 Artist Collective Gallery":MAILTO:INFO@ROUTE22GALLERY.COM
END:VEVENT
BEGIN:VEVENT
DTSTART;TZID=America/Edmonton:20260428T183000
DTEND;TZID=America/Edmonton:20260428T200000
DTSTAMP:20260424T031359
CREATED:20260331T222330Z
LAST-MODIFIED:20260331T222330Z
UID:10058179-1777401000-1777406400@urbancasual.ca
SUMMARY:Learn to Paint with Stephen Purdy
DESCRIPTION:Learn to Paint with Stephen Purdy! \nMost of us enjoy the natural landscape\, and sometimes stand in awe of its beauty.\nJoin Stephen as he teaches and shares what he’s learned to help you make a landscape painting you can be proud of! \nThis class is based on the process of painting outdoors\, in which it is essential to develop a strong composition\, designate the appropriate values\, and make the colour sparkle with the life of the scene before your eyes. Outside\, you have a limited time to capture the scene as the light will change. Inside the studio\, this same efficiency will keep your painting fresh. \nThis class is for everyone. Beginner\, Intermediate or Expert. We can all learn from some constructive criticism. The class is structured with demonstrations of each stage of a painting\, followed by individual critiques of each stage of the students’ progress. If you are a little uncertain of your ability\, don’t be\, this class might be a little intense\, but that is because painting is really\, really\, really fun!!! \nDates:\n– Tuesdays\, from April 7th until May 26\, 2026 \nTime: 6:30 pm – 8:00 pm \nRegistration Price:\nOne class: $30 + GST | Fees \nFor more information and to register:\n– Scan the QR code to get registered now!\n– OR\, visit our website @ route22gallery.com under events for more information!
URL:https://urbancasual.ca/cochrane-event/learn-to-paint-with-stephen-purdy/2026-04-28/
LOCATION:Route 22 Artist Collective Gallery\, 208 1st Street W.\, Cochrane\, Alberta\, Canada
CATEGORIES:Art,Learning
ATTACH;FMTTYPE=image/jpeg:https://urbancasual.ca/wp-content/uploads/2026/03/APR-MAY-Stephen-Purdy-Learn-to-Paint-2.jpg
ORGANIZER;CN="Route 22 Artist Collective Gallery":MAILTO:INFO@ROUTE22GALLERY.COM
END:VEVENT
BEGIN:VEVENT
DTSTART;TZID=America/Edmonton:20260505T183000
DTEND;TZID=America/Edmonton:20260505T200000
DTSTAMP:20260424T031359
CREATED:20260331T222330Z
LAST-MODIFIED:20260331T222330Z
UID:10058180-1778005800-1778011200@urbancasual.ca
SUMMARY:Learn to Paint with Stephen Purdy
DESCRIPTION:Learn to Paint with Stephen Purdy! \nMost of us enjoy the natural landscape\, and sometimes stand in awe of its beauty.\nJoin Stephen as he teaches and shares what he’s learned to help you make a landscape painting you can be proud of! \nThis class is based on the process of painting outdoors\, in which it is essential to develop a strong composition\, designate the appropriate values\, and make the colour sparkle with the life of the scene before your eyes. Outside\, you have a limited time to capture the scene as the light will change. Inside the studio\, this same efficiency will keep your painting fresh. \nThis class is for everyone. Beginner\, Intermediate or Expert. We can all learn from some constructive criticism. The class is structured with demonstrations of each stage of a painting\, followed by individual critiques of each stage of the students’ progress. If you are a little uncertain of your ability\, don’t be\, this class might be a little intense\, but that is because painting is really\, really\, really fun!!! \nDates:\n– Tuesdays\, from April 7th until May 26\, 2026 \nTime: 6:30 pm – 8:00 pm \nRegistration Price:\nOne class: $30 + GST | Fees \nFor more information and to register:\n– Scan the QR code to get registered now!\n– OR\, visit our website @ route22gallery.com under events for more information!
URL:https://urbancasual.ca/cochrane-event/learn-to-paint-with-stephen-purdy/2026-05-05/
LOCATION:Route 22 Artist Collective Gallery\, 208 1st Street W.\, Cochrane\, Alberta\, Canada
CATEGORIES:Art,Learning
ATTACH;FMTTYPE=image/jpeg:https://urbancasual.ca/wp-content/uploads/2026/03/APR-MAY-Stephen-Purdy-Learn-to-Paint-2.jpg
ORGANIZER;CN="Route 22 Artist Collective Gallery":MAILTO:INFO@ROUTE22GALLERY.COM
END:VEVENT
BEGIN:VEVENT
DTSTART;TZID=America/Edmonton:20260507T183000
DTEND;TZID=America/Edmonton:20260507T200000
DTSTAMP:20260424T031359
CREATED:20260421T224441Z
LAST-MODIFIED:20260421T224441Z
UID:10059325-1778178600-1778184000@urbancasual.ca
SUMMARY:Emotions in Line & Colour: A Creative Exploration!
DESCRIPTION:Emotions in Line & Colour: A Creative Exploration! \nJoin Route 22 Gallery and student art therapist\, Kimberly Cota\, for a unique session designed to celebrate Mental Health Awareness Week. \nUsing the simple elements of line and color\, we will explore how emotions can take shape on the page. This is not about creating a “perfect” piece of art; it is about the movement\, the feeling\, and the process of self-expression. \nYou’ll also spend time as a group exploring the ways our individual expressions may overlap and create a shared visual language for the things we feel. \nThis is a zero-pressure\, supportive environment where the focus is on the experience rather than the finished product! \nDate: May 7\, 2026 \nTime: 6:30 pm – 8:00 pm \nLocation: Route 22 Artist Collective Gallery \nPrice: Free! \nOpen to all; no art background necessary! \nVisit our website @ route22gallery.com under events for more information!
URL:https://urbancasual.ca/cochrane-event/emotions-in-line-colour-a-creative-exploration/
LOCATION:Route 22 Artist Collective Gallery\, 208 1st Street W.\, Cochrane\, Alberta\, Canada
CATEGORIES:Art,Community,Free,Gallery,Mental Health,Mental Health Week
ATTACH;FMTTYPE=image/jpeg:https://urbancasual.ca/wp-content/uploads/2026/04/MHAW-Exploring-Emotions-in-Color-Line-Workshop.jpg
ORGANIZER;CN="Route 22 Artist Collective Gallery":MAILTO:INFO@ROUTE22GALLERY.COM
END:VEVENT
BEGIN:VEVENT
DTSTART;TZID=America/Edmonton:20260512T183000
DTEND;TZID=America/Edmonton:20260512T200000
DTSTAMP:20260424T031359
CREATED:20260331T222330Z
LAST-MODIFIED:20260331T222330Z
UID:10058181-1778610600-1778616000@urbancasual.ca
SUMMARY:Learn to Paint with Stephen Purdy
DESCRIPTION:Learn to Paint with Stephen Purdy! \nMost of us enjoy the natural landscape\, and sometimes stand in awe of its beauty.\nJoin Stephen as he teaches and shares what he’s learned to help you make a landscape painting you can be proud of! \nThis class is based on the process of painting outdoors\, in which it is essential to develop a strong composition\, designate the appropriate values\, and make the colour sparkle with the life of the scene before your eyes. Outside\, you have a limited time to capture the scene as the light will change. Inside the studio\, this same efficiency will keep your painting fresh. \nThis class is for everyone. Beginner\, Intermediate or Expert. We can all learn from some constructive criticism. The class is structured with demonstrations of each stage of a painting\, followed by individual critiques of each stage of the students’ progress. If you are a little uncertain of your ability\, don’t be\, this class might be a little intense\, but that is because painting is really\, really\, really fun!!! \nDates:\n– Tuesdays\, from April 7th until May 26\, 2026 \nTime: 6:30 pm – 8:00 pm \nRegistration Price:\nOne class: $30 + GST | Fees \nFor more information and to register:\n– Scan the QR code to get registered now!\n– OR\, visit our website @ route22gallery.com under events for more information!
URL:https://urbancasual.ca/cochrane-event/learn-to-paint-with-stephen-purdy/2026-05-12/
LOCATION:Route 22 Artist Collective Gallery\, 208 1st Street W.\, Cochrane\, Alberta\, Canada
CATEGORIES:Art,Learning
ATTACH;FMTTYPE=image/jpeg:https://urbancasual.ca/wp-content/uploads/2026/03/APR-MAY-Stephen-Purdy-Learn-to-Paint-2.jpg
ORGANIZER;CN="Route 22 Artist Collective Gallery":MAILTO:INFO@ROUTE22GALLERY.COM
END:VEVENT
BEGIN:VEVENT
DTSTART;TZID=America/Edmonton:20260519T183000
DTEND;TZID=America/Edmonton:20260519T200000
DTSTAMP:20260424T031359
CREATED:20260331T222330Z
LAST-MODIFIED:20260331T222330Z
UID:10058182-1779215400-1779220800@urbancasual.ca
SUMMARY:Learn to Paint with Stephen Purdy
DESCRIPTION:Learn to Paint with Stephen Purdy! \nMost of us enjoy the natural landscape\, and sometimes stand in awe of its beauty.\nJoin Stephen as he teaches and shares what he’s learned to help you make a landscape painting you can be proud of! \nThis class is based on the process of painting outdoors\, in which it is essential to develop a strong composition\, designate the appropriate values\, and make the colour sparkle with the life of the scene before your eyes. Outside\, you have a limited time to capture the scene as the light will change. Inside the studio\, this same efficiency will keep your painting fresh. \nThis class is for everyone. Beginner\, Intermediate or Expert. We can all learn from some constructive criticism. The class is structured with demonstrations of each stage of a painting\, followed by individual critiques of each stage of the students’ progress. If you are a little uncertain of your ability\, don’t be\, this class might be a little intense\, but that is because painting is really\, really\, really fun!!! \nDates:\n– Tuesdays\, from April 7th until May 26\, 2026 \nTime: 6:30 pm – 8:00 pm \nRegistration Price:\nOne class: $30 + GST | Fees \nFor more information and to register:\n– Scan the QR code to get registered now!\n– OR\, visit our website @ route22gallery.com under events for more information!
URL:https://urbancasual.ca/cochrane-event/learn-to-paint-with-stephen-purdy/2026-05-19/
LOCATION:Route 22 Artist Collective Gallery\, 208 1st Street W.\, Cochrane\, Alberta\, Canada
CATEGORIES:Art,Learning
ATTACH;FMTTYPE=image/jpeg:https://urbancasual.ca/wp-content/uploads/2026/03/APR-MAY-Stephen-Purdy-Learn-to-Paint-2.jpg
ORGANIZER;CN="Route 22 Artist Collective Gallery":MAILTO:INFO@ROUTE22GALLERY.COM
END:VEVENT
BEGIN:VEVENT
DTSTART;TZID=America/Edmonton:20260520T183000
DTEND;TZID=America/Edmonton:20260520T210000
DTSTAMP:20260424T031359
CREATED:20260106T234928Z
LAST-MODIFIED:20260106T234928Z
UID:10053408-1779301800-1779310800@urbancasual.ca
SUMMARY:Open Mic Nights @ Route 22!
DESCRIPTION:Open Mic Nights @ Route 22! \nCalling all poets\, musicians\, magicians & comedians! Come share your talents in an intimate setting\, or sit and cheer on your fellow locals! \nEvery 3rd Wednesday\, monthly. \nTime: 6:30 PM – 9:00 PM \nLocation: Route 22 Artist Collective \nCost: $5 for spectators (Free for performers) \nAudience: All Ages Welcome! \nDescription:\nAt Route 22\, we believe in ALL forms of art! Whether you’re a seasoned performer or just looking to showcase your talents\, this event is the perfect opportunity to share your music\, poetry\, comedy\, or any other creative form of expression. A fun way to test out new material or get feedback from like-minded folks. Don’t be shy – bring a friend\, grab a drink\, sit back\, and enjoy the show with us. \nPre-purchase not required\, walk-ins welcome by admission at the door \nDoors open at 6:30 pm for pre-show mingling and to sign-up for the stage\nPerformances begin at 7pm sharp\n*Alcoholic beverages will be available for purchase at this event*
URL:https://urbancasual.ca/cochrane-event/open-mic-nights-route-22/2026-05-20/
LOCATION:Route 22 Artist Collective Gallery\, 208 1st Street W.\, Cochrane\, Alberta\, Canada
CATEGORIES:Art,OPEN MIC
ATTACH;FMTTYPE=image/jpeg:https://urbancasual.ca/wp-content/uploads/2026/01/Copy-of-TEMPLATE-Open-Mic-Social-Post.jpg
ORGANIZER;CN="Route 22 Artist Collective Gallery":MAILTO:INFO@ROUTE22GALLERY.COM
END:VEVENT
BEGIN:VEVENT
DTSTART;TZID=America/Edmonton:20260526T183000
DTEND;TZID=America/Edmonton:20260526T200000
DTSTAMP:20260424T031359
CREATED:20260331T222330Z
LAST-MODIFIED:20260331T222330Z
UID:10058183-1779820200-1779825600@urbancasual.ca
SUMMARY:Learn to Paint with Stephen Purdy
DESCRIPTION:Learn to Paint with Stephen Purdy! \nMost of us enjoy the natural landscape\, and sometimes stand in awe of its beauty.\nJoin Stephen as he teaches and shares what he’s learned to help you make a landscape painting you can be proud of! \nThis class is based on the process of painting outdoors\, in which it is essential to develop a strong composition\, designate the appropriate values\, and make the colour sparkle with the life of the scene before your eyes. Outside\, you have a limited time to capture the scene as the light will change. Inside the studio\, this same efficiency will keep your painting fresh. \nThis class is for everyone. Beginner\, Intermediate or Expert. We can all learn from some constructive criticism. The class is structured with demonstrations of each stage of a painting\, followed by individual critiques of each stage of the students’ progress. If you are a little uncertain of your ability\, don’t be\, this class might be a little intense\, but that is because painting is really\, really\, really fun!!! \nDates:\n– Tuesdays\, from April 7th until May 26\, 2026 \nTime: 6:30 pm – 8:00 pm \nRegistration Price:\nOne class: $30 + GST | Fees \nFor more information and to register:\n– Scan the QR code to get registered now!\n– OR\, visit our website @ route22gallery.com under events for more information!
URL:https://urbancasual.ca/cochrane-event/learn-to-paint-with-stephen-purdy/2026-05-26/
LOCATION:Route 22 Artist Collective Gallery\, 208 1st Street W.\, Cochrane\, Alberta\, Canada
CATEGORIES:Art,Learning
ATTACH;FMTTYPE=image/jpeg:https://urbancasual.ca/wp-content/uploads/2026/03/APR-MAY-Stephen-Purdy-Learn-to-Paint-2.jpg
ORGANIZER;CN="Route 22 Artist Collective Gallery":MAILTO:INFO@ROUTE22GALLERY.COM
END:VEVENT
BEGIN:VEVENT
DTSTART;TZID=America/Edmonton:20260617T183000
DTEND;TZID=America/Edmonton:20260617T210000
DTSTAMP:20260424T031359
CREATED:20260106T234928Z
LAST-MODIFIED:20260106T234928Z
UID:10053409-1781721000-1781730000@urbancasual.ca
SUMMARY:Open Mic Nights @ Route 22!
DESCRIPTION:Open Mic Nights @ Route 22! \nCalling all poets\, musicians\, magicians & comedians! Come share your talents in an intimate setting\, or sit and cheer on your fellow locals! \nEvery 3rd Wednesday\, monthly. \nTime: 6:30 PM – 9:00 PM \nLocation: Route 22 Artist Collective \nCost: $5 for spectators (Free for performers) \nAudience: All Ages Welcome! \nDescription:\nAt Route 22\, we believe in ALL forms of art! Whether you’re a seasoned performer or just looking to showcase your talents\, this event is the perfect opportunity to share your music\, poetry\, comedy\, or any other creative form of expression. A fun way to test out new material or get feedback from like-minded folks. Don’t be shy – bring a friend\, grab a drink\, sit back\, and enjoy the show with us. \nPre-purchase not required\, walk-ins welcome by admission at the door \nDoors open at 6:30 pm for pre-show mingling and to sign-up for the stage\nPerformances begin at 7pm sharp\n*Alcoholic beverages will be available for purchase at this event*
URL:https://urbancasual.ca/cochrane-event/open-mic-nights-route-22/2026-06-17/
LOCATION:Route 22 Artist Collective Gallery\, 208 1st Street W.\, Cochrane\, Alberta\, Canada
CATEGORIES:Art,OPEN MIC
ATTACH;FMTTYPE=image/jpeg:https://urbancasual.ca/wp-content/uploads/2026/01/Copy-of-TEMPLATE-Open-Mic-Social-Post.jpg
ORGANIZER;CN="Route 22 Artist Collective Gallery":MAILTO:INFO@ROUTE22GALLERY.COM
END:VEVENT
BEGIN:VEVENT
DTSTART;TZID=America/Edmonton:20260625T180000
DTEND;TZID=America/Edmonton:20260625T200000
DTSTAMP:20260424T031359
CREATED:20260211T191039Z
LAST-MODIFIED:20260211T191039Z
UID:10054547-1782410400-1782417600@urbancasual.ca
SUMMARY:Photography Basics with Jo-Anne Oucharek
DESCRIPTION:Photography Basics with Jo-Anne Oucharek \nJoin Jo-Anne for a hands-on workshop designed for anyone who wants to take better photos\, using a camera or phone! \nYou’ll learn:\n– How to use the exposure triangle (aperture\, shutter speed\, ISO) without the jargon\n– Simple tricks to compose stronger photos\n– Why light is everything in photography\n– Easy tips to practice at home or outdoors with any camera \n*No experience required! — Just bring your curiosity and your camera (or phone). By the end\, you’ll have the confidence to move beyond “auto mode” and start capturing photos that tell your story. \nDates:\n– Saturday\, February 21st | 10:00 am – 12:00 pm\n– Tuesday\, March 24th | 6:00 pm – 8:00 pm\n– Sunday\, April 12th | 10:00 am – 12:00 pm\n– Thursday\, June 25th | 6:00 pm – 8:00 pm \nPrice: $25 + GST | Fees \nFor more information and to register:\n– Scan the QR code to get registered now!\n– OR\, visit our website @ route22gallery.com under events for more information!
URL:https://urbancasual.ca/cochrane-event/photography-basics-with-jo-anne-oucharek/2026-06-25/
LOCATION:Route 22 Artist Collective Gallery\, 208 1st Street W.\, Cochrane\, Alberta\, Canada
CATEGORIES:Art,camera,Learning,Photography
ATTACH;FMTTYPE=image/jpeg:https://urbancasual.ca/wp-content/uploads/2026/02/1.jpg
ORGANIZER;CN="Route 22 Artist Collective Gallery":MAILTO:INFO@ROUTE22GALLERY.COM
END:VEVENT
END:VCALENDAR