BEGIN:VCALENDAR
VERSION:2.0
PRODID:-//Urbancasual.ca - ECPv6.15.20//NONSGML v1.0//EN
CALSCALE:GREGORIAN
METHOD:PUBLISH
X-ORIGINAL-URL:https://urbancasual.ca
X-WR-CALDESC:Events for Urbancasual.ca
REFRESH-INTERVAL;VALUE=DURATION:PT1H
X-Robots-Tag:noindex
X-PUBLISHED-TTL:PT1H
BEGIN:VTIMEZONE
TZID:America/Edmonton
BEGIN:DAYLIGHT
TZOFFSETFROM:-0700
TZOFFSETTO:-0600
TZNAME:MDT
DTSTART:20230312T090000
END:DAYLIGHT
BEGIN:STANDARD
TZOFFSETFROM:-0600
TZOFFSETTO:-0700
TZNAME:MST
DTSTART:20231105T080000
END:STANDARD
BEGIN:DAYLIGHT
TZOFFSETFROM:-0700
TZOFFSETTO:-0600
TZNAME:MDT
DTSTART:20240310T090000
END:DAYLIGHT
BEGIN:STANDARD
TZOFFSETFROM:-0600
TZOFFSETTO:-0700
TZNAME:MST
DTSTART:20241103T080000
END:STANDARD
BEGIN:DAYLIGHT
TZOFFSETFROM:-0700
TZOFFSETTO:-0600
TZNAME:MDT
DTSTART:20250309T090000
END:DAYLIGHT
BEGIN:STANDARD
TZOFFSETFROM:-0600
TZOFFSETTO:-0700
TZNAME:MST
DTSTART:20251102T080000
END:STANDARD
BEGIN:DAYLIGHT
TZOFFSETFROM:-0700
TZOFFSETTO:-0600
TZNAME:MDT
DTSTART:20260308T090000
END:DAYLIGHT
BEGIN:STANDARD
TZOFFSETFROM:-0600
TZOFFSETTO:-0700
TZNAME:MST
DTSTART:20261101T080000
END:STANDARD
END:VTIMEZONE
BEGIN:VEVENT
DTSTART;TZID=America/Edmonton:20250409T183000
DTEND;TZID=America/Edmonton:20250409T210000
DTSTAMP:20260425T075553
CREATED:20250331T222242Z
LAST-MODIFIED:20250331T222243Z
UID:10046140-1744223400-1744232400@urbancasual.ca
SUMMARY:Community Innovators Speakers Series - April
DESCRIPTION:Join us at Found Books & Shop for a rich\, interactive discussion with… Michael & Judie Bopp. Co-Founders of Four Worlds International and Directors of Four Worlds Centre for Development Learning \n\nTopic: The Innovation of Recreating the World \nTickets are $5 per person\, but they are limited! \nLocation: Found Books & Shop – 208\, 1st Street W \nTime: Doors open at 6:30pm\, with the discussion starting at 7pm.
URL:https://urbancasual.ca/cochrane-event/community-innovators-speakers-series-april/
LOCATION:Found Book Shop\, 206 1st Street W\, Cochrane\, AB
CATEGORIES:Business,Community,Entertainment & Games,Learning
ATTACH;FMTTYPE=image/jpeg:https://urbancasual.ca/wp-content/uploads/2025/03/C.I-APRIL-9-BOPP.jpg
END:VEVENT
BEGIN:VEVENT
DTSTART;TZID=America/Edmonton:20250401T070000
DTEND;TZID=America/Edmonton:20250401T090000
DTSTAMP:20260425T075553
CREATED:20250330T212255Z
LAST-MODIFIED:20250330T212255Z
UID:10046100-1743490800-1743498000@urbancasual.ca
SUMMARY:FOUNDERS COFFEE
DESCRIPTION:Join us for a morning of networking at our FOUNDERS COFFEE event on the 1st and 3rd Tuesday of the month at SUNNY SIDE UP in Cochrane\, at 7am. This event is free\, but you buy your own breakfast or coffee. \nDates: The 1st and 3rd Tuesday of each month \nTime: 7am to 9am \n\n\n\n\n\nEVENTBRITE RSVP\n\n\n\n\n\nWhere: SUNNY SIDE UP COCHRANE\, 205 1st Street W. in Cochrane\, AB \nRSVP ON EVENTBRITE OR JUST SHOW UP!
URL:https://urbancasual.ca/cochrane-event/founders-coffee-2/2025-04-01/
CATEGORIES:Business,Community,Learning,Networking
ATTACH;FMTTYPE=image/png:https://urbancasual.ca/wp-content/uploads/2025/03/blue-back-com-ins-4.png
END:VEVENT
BEGIN:VEVENT
DTSTART;TZID=America/Edmonton:20250325T190000
DTEND;TZID=America/Edmonton:20250325T210000
DTSTAMP:20260425T075553
CREATED:20230518T210646Z
LAST-MODIFIED:20250512T220248Z
UID:10009635-1742929200-1742936400@urbancasual.ca
SUMMARY:Start Up Cochrane
DESCRIPTION:WHEN: Join us on the FOURTH Tuesday night of each month\, 7 PM – 9 PM at The Corner Coworking on Railway Street E in Cochrane\, AB.\n\nNOTE: EACH MONTH WE WILL UPDATE IF THERE WILL BE A TOPIC OR PRESENTER.\n\nCOST: Free\n\nWhat can I do? How do I get involved?\n\nFor these events to be a success\, and to grow the local #startup community\, we need entrepreneurs at all stages of the startup & launch phases.\n\n-Got a new idea?\n-Have a concept you are curious about?\n-Ready to pitch for funding?\n-Looking to grow an existing business?\nPLUS\n-Have you launched a new business already?\n-Are you an investor?\n-Been involved in startups before? (Successful & less successful)\n-Just plain curious?
URL:https://urbancasual.ca/cochrane-event/start-up-cochrane-4/2025-03-25/
LOCATION:The Corner Coworking\, 225 Railway Street E\, Cochrane
CATEGORIES:Business,Community,Learning,Networking
ATTACH;FMTTYPE=image/jpeg:https://urbancasual.ca/wp-content/uploads/2025/05/3-START-UP-1640-X-850.jpg
END:VEVENT
BEGIN:VEVENT
DTSTART;TZID=America/Edmonton:20250225T190000
DTEND;TZID=America/Edmonton:20250225T210000
DTSTAMP:20260425T075553
CREATED:20230518T210646Z
LAST-MODIFIED:20250512T220248Z
UID:10009634-1740510000-1740517200@urbancasual.ca
SUMMARY:Start Up Cochrane
DESCRIPTION:WHEN: Join us on the FOURTH Tuesday night of each month\, 7 PM – 9 PM at The Corner Coworking on Railway Street E in Cochrane\, AB.\n\nNOTE: EACH MONTH WE WILL UPDATE IF THERE WILL BE A TOPIC OR PRESENTER.\n\nCOST: Free\n\nWhat can I do? How do I get involved?\n\nFor these events to be a success\, and to grow the local #startup community\, we need entrepreneurs at all stages of the startup & launch phases.\n\n-Got a new idea?\n-Have a concept you are curious about?\n-Ready to pitch for funding?\n-Looking to grow an existing business?\nPLUS\n-Have you launched a new business already?\n-Are you an investor?\n-Been involved in startups before? (Successful & less successful)\n-Just plain curious?
URL:https://urbancasual.ca/cochrane-event/start-up-cochrane-4/2025-02-25/
LOCATION:The Corner Coworking\, 225 Railway Street E\, Cochrane
CATEGORIES:Business,Community,Learning,Networking
ATTACH;FMTTYPE=image/jpeg:https://urbancasual.ca/wp-content/uploads/2025/05/3-START-UP-1640-X-850.jpg
END:VEVENT
BEGIN:VEVENT
DTSTART;TZID=America/Edmonton:20250218T070000
DTEND;TZID=America/Edmonton:20250218T090000
DTSTAMP:20260425T075553
CREATED:20250201T234857Z
LAST-MODIFIED:20250201T234857Z
UID:10044605-1739862000-1739869200@urbancasual.ca
SUMMARY:FOUNDERS COFFEE
DESCRIPTION:Join us for a morning of networking at our FOUNDERS COFFEE event on February 4th or 18th at SUNNY SIDE UP in Cochrane\, at 7am. This event is free\, but you buy your own breakfast or coffee. \nDates: Tuesday\, February 4th and Tuesday\, February 18th \nTime: 7am to 9am \n\n\n\n\n\nEVENTBRITE RSVP\n\n\n\n\n\nWhere: SUNNY SIDE UP COCHRANE\, 205 1st Street W. in Cochrane\, AB \nRSVP ON EVENTBRITE OR JUST SHOW UP!
URL:https://urbancasual.ca/cochrane-event/founders-coffee/2025-02-18/
CATEGORIES:Business,Community,Employment,Networking
ATTACH;FMTTYPE=image/png:https://urbancasual.ca/wp-content/uploads/2025/02/blue-back-com-ins-2.png
END:VEVENT
BEGIN:VEVENT
DTSTART;TZID=America/Edmonton:20250212T183000
DTEND;TZID=America/Edmonton:20250212T210000
DTSTAMP:20260425T075553
CREATED:20250201T235120Z
LAST-MODIFIED:20250207T013655Z
UID:10044606-1739385000-1739394000@urbancasual.ca
SUMMARY:Community Innovators Speakers Series - Removing the Hassle from Shopping Local
DESCRIPTION:Join us at Found Books & Shop for a rich\, interactive discussion with… Alana Baxter\, CEO & Founder of fitzba\, the local shopping APP. \n\nTopic: Removing the Hassle from Shopping Local! \nTickets are $5 per person\, but they are limited! \n\n\n\n\n\n\nLocation: Found Books & Shop – 208\, 1st Street W \nTime: Doors open at 6:30pm\, with the discussion starting at 7pm.
URL:https://urbancasual.ca/cochrane-event/community-innovators-speakers-series-save-the-date/
LOCATION:Found Book Shop\, 206 1st Street W\, Cochrane\, AB
CATEGORIES:Business,Community,Entertainment & Games,Learning,Networking
ATTACH;FMTTYPE=image/jpeg:https://urbancasual.ca/wp-content/uploads/2025/02/LEGENDARY-INNOVATION-DEC-11-24-6.jpg
END:VEVENT
BEGIN:VEVENT
DTSTART;TZID=America/Edmonton:20250204T070000
DTEND;TZID=America/Edmonton:20250204T090000
DTSTAMP:20260425T075553
CREATED:20250201T234857Z
LAST-MODIFIED:20250201T234857Z
UID:10044604-1738652400-1738659600@urbancasual.ca
SUMMARY:FOUNDERS COFFEE
DESCRIPTION:Join us for a morning of networking at our FOUNDERS COFFEE event on February 4th or 18th at SUNNY SIDE UP in Cochrane\, at 7am. This event is free\, but you buy your own breakfast or coffee. \nDates: Tuesday\, February 4th and Tuesday\, February 18th \nTime: 7am to 9am \n\n\n\n\n\nEVENTBRITE RSVP\n\n\n\n\n\nWhere: SUNNY SIDE UP COCHRANE\, 205 1st Street W. in Cochrane\, AB \nRSVP ON EVENTBRITE OR JUST SHOW UP!
URL:https://urbancasual.ca/cochrane-event/founders-coffee/2025-02-04/
CATEGORIES:Business,Community,Employment,Networking
ATTACH;FMTTYPE=image/png:https://urbancasual.ca/wp-content/uploads/2025/02/blue-back-com-ins-2.png
END:VEVENT
BEGIN:VEVENT
DTSTART;TZID=America/Edmonton:20250128T190000
DTEND;TZID=America/Edmonton:20250128T210000
DTSTAMP:20260425T075553
CREATED:20230518T210646Z
LAST-MODIFIED:20250512T220248Z
UID:10009633-1738090800-1738098000@urbancasual.ca
SUMMARY:Start Up Cochrane
DESCRIPTION:WHEN: Join us on the FOURTH Tuesday night of each month\, 7 PM – 9 PM at The Corner Coworking on Railway Street E in Cochrane\, AB.\n\nNOTE: EACH MONTH WE WILL UPDATE IF THERE WILL BE A TOPIC OR PRESENTER.\n\nCOST: Free\n\nWhat can I do? How do I get involved?\n\nFor these events to be a success\, and to grow the local #startup community\, we need entrepreneurs at all stages of the startup & launch phases.\n\n-Got a new idea?\n-Have a concept you are curious about?\n-Ready to pitch for funding?\n-Looking to grow an existing business?\nPLUS\n-Have you launched a new business already?\n-Are you an investor?\n-Been involved in startups before? (Successful & less successful)\n-Just plain curious?
URL:https://urbancasual.ca/cochrane-event/start-up-cochrane-4/2025-01-28/
LOCATION:The Corner Coworking\, 225 Railway Street E\, Cochrane
CATEGORIES:Business,Community,Learning,Networking
ATTACH;FMTTYPE=image/jpeg:https://urbancasual.ca/wp-content/uploads/2025/05/3-START-UP-1640-X-850.jpg
END:VEVENT
BEGIN:VEVENT
DTSTART;TZID=America/Edmonton:20250108T183000
DTEND;TZID=America/Edmonton:20250108T210000
DTSTAMP:20260425T075553
CREATED:20250103T183743Z
LAST-MODIFIED:20250104T224053Z
UID:10041324-1736361000-1736370000@urbancasual.ca
SUMMARY:YOUTUBE INNOVATION: Community Innovators Speakers Series
DESCRIPTION:Join us at Found Books & Shop for a rich\, interactive discussion with… Brody Boutcher of YouTube.\n\n\n\nTopic: YOUTUBE INNOVATION\n\n\n\nTickets are $5 per person\, but they are limited!\n\n\n\nLocation: Found Books & Shop – 208\, 1st Street W\n\n\n\nTime: Doors open at 6:30pm\, with the discussion starting at 7pm.
URL:https://urbancasual.ca/cochrane-event/youtube-innovation-community-innovators-speakers-series/
LOCATION:Found Book Shop\, 206 1st Street W\, Cochrane\, AB
CATEGORIES:Community,Downtown,Entertainment & Games,Learning,Networking
ATTACH;FMTTYPE=image/jpeg:https://urbancasual.ca/wp-content/uploads/2025/01/LEGENDARY-INNOVATION-DEC-11-24-4.jpg
END:VEVENT
BEGIN:VEVENT
DTSTART;TZID=America/Edmonton:20241126T190000
DTEND;TZID=America/Edmonton:20241126T210000
DTSTAMP:20260425T075553
CREATED:20230518T210646Z
LAST-MODIFIED:20250512T220248Z
UID:10009631-1732647600-1732654800@urbancasual.ca
SUMMARY:Start Up Cochrane
DESCRIPTION:WHEN: Join us on the FOURTH Tuesday night of each month\, 7 PM – 9 PM at The Corner Coworking on Railway Street E in Cochrane\, AB.\n\nNOTE: EACH MONTH WE WILL UPDATE IF THERE WILL BE A TOPIC OR PRESENTER.\n\nCOST: Free\n\nWhat can I do? How do I get involved?\n\nFor these events to be a success\, and to grow the local #startup community\, we need entrepreneurs at all stages of the startup & launch phases.\n\n-Got a new idea?\n-Have a concept you are curious about?\n-Ready to pitch for funding?\n-Looking to grow an existing business?\nPLUS\n-Have you launched a new business already?\n-Are you an investor?\n-Been involved in startups before? (Successful & less successful)\n-Just plain curious?
URL:https://urbancasual.ca/cochrane-event/start-up-cochrane-4/2024-11-26/
LOCATION:The Corner Coworking\, 225 Railway Street E\, Cochrane
CATEGORIES:Business,Community,Learning,Networking
ATTACH;FMTTYPE=image/jpeg:https://urbancasual.ca/wp-content/uploads/2025/05/3-START-UP-1640-X-850.jpg
END:VEVENT
BEGIN:VEVENT
DTSTART;TZID=America/Edmonton:20241022T190000
DTEND;TZID=America/Edmonton:20241022T210000
DTSTAMP:20260425T075553
CREATED:20230518T210646Z
LAST-MODIFIED:20250512T220248Z
UID:10009630-1729623600-1729630800@urbancasual.ca
SUMMARY:Start Up Cochrane
DESCRIPTION:WHEN: Join us on the FOURTH Tuesday night of each month\, 7 PM – 9 PM at The Corner Coworking on Railway Street E in Cochrane\, AB.\n\nNOTE: EACH MONTH WE WILL UPDATE IF THERE WILL BE A TOPIC OR PRESENTER.\n\nCOST: Free\n\nWhat can I do? How do I get involved?\n\nFor these events to be a success\, and to grow the local #startup community\, we need entrepreneurs at all stages of the startup & launch phases.\n\n-Got a new idea?\n-Have a concept you are curious about?\n-Ready to pitch for funding?\n-Looking to grow an existing business?\nPLUS\n-Have you launched a new business already?\n-Are you an investor?\n-Been involved in startups before? (Successful & less successful)\n-Just plain curious?
URL:https://urbancasual.ca/cochrane-event/start-up-cochrane-4/2024-10-22/
LOCATION:The Corner Coworking\, 225 Railway Street E\, Cochrane
CATEGORIES:Business,Community,Learning,Networking
ATTACH;FMTTYPE=image/jpeg:https://urbancasual.ca/wp-content/uploads/2025/05/3-START-UP-1640-X-850.jpg
END:VEVENT
BEGIN:VEVENT
DTSTART;TZID=America/Edmonton:20240924T190000
DTEND;TZID=America/Edmonton:20240924T210000
DTSTAMP:20260425T075553
CREATED:20230518T210646Z
LAST-MODIFIED:20250512T220248Z
UID:10009629-1727204400-1727211600@urbancasual.ca
SUMMARY:Start Up Cochrane
DESCRIPTION:WHEN: Join us on the FOURTH Tuesday night of each month\, 7 PM – 9 PM at The Corner Coworking on Railway Street E in Cochrane\, AB.\n\nNOTE: EACH MONTH WE WILL UPDATE IF THERE WILL BE A TOPIC OR PRESENTER.\n\nCOST: Free\n\nWhat can I do? How do I get involved?\n\nFor these events to be a success\, and to grow the local #startup community\, we need entrepreneurs at all stages of the startup & launch phases.\n\n-Got a new idea?\n-Have a concept you are curious about?\n-Ready to pitch for funding?\n-Looking to grow an existing business?\nPLUS\n-Have you launched a new business already?\n-Are you an investor?\n-Been involved in startups before? (Successful & less successful)\n-Just plain curious?
URL:https://urbancasual.ca/cochrane-event/start-up-cochrane-4/2024-09-24/
LOCATION:The Corner Coworking\, 225 Railway Street E\, Cochrane
CATEGORIES:Business,Community,Learning,Networking
ATTACH;FMTTYPE=image/jpeg:https://urbancasual.ca/wp-content/uploads/2025/05/3-START-UP-1640-X-850.jpg
END:VEVENT
END:VCALENDAR