BEGIN:VCALENDAR
VERSION:2.0
PRODID:-//Urbancasual.ca - ECPv6.15.20//NONSGML v1.0//EN
CALSCALE:GREGORIAN
METHOD:PUBLISH
X-WR-CALNAME:Urbancasual.ca
X-ORIGINAL-URL:https://urbancasual.ca
X-WR-CALDESC:Events for Urbancasual.ca
REFRESH-INTERVAL;VALUE=DURATION:PT1H
X-Robots-Tag:noindex
X-PUBLISHED-TTL:PT1H
BEGIN:VTIMEZONE
TZID:America/Edmonton
BEGIN:DAYLIGHT
TZOFFSETFROM:-0700
TZOFFSETTO:-0600
TZNAME:MDT
DTSTART:20240310T090000
END:DAYLIGHT
BEGIN:STANDARD
TZOFFSETFROM:-0600
TZOFFSETTO:-0700
TZNAME:MST
DTSTART:20241103T080000
END:STANDARD
BEGIN:DAYLIGHT
TZOFFSETFROM:-0700
TZOFFSETTO:-0600
TZNAME:MDT
DTSTART:20250309T090000
END:DAYLIGHT
BEGIN:STANDARD
TZOFFSETFROM:-0600
TZOFFSETTO:-0700
TZNAME:MST
DTSTART:20251102T080000
END:STANDARD
BEGIN:DAYLIGHT
TZOFFSETFROM:-0700
TZOFFSETTO:-0600
TZNAME:MDT
DTSTART:20260308T090000
END:DAYLIGHT
BEGIN:STANDARD
TZOFFSETFROM:-0600
TZOFFSETTO:-0700
TZNAME:MST
DTSTART:20261101T080000
END:STANDARD
BEGIN:DAYLIGHT
TZOFFSETFROM:-0700
TZOFFSETTO:-0600
TZNAME:MDT
DTSTART:20270314T090000
END:DAYLIGHT
BEGIN:STANDARD
TZOFFSETFROM:-0600
TZOFFSETTO:-0700
TZNAME:MST
DTSTART:20271107T080000
END:STANDARD
END:VTIMEZONE
BEGIN:VEVENT
DTSTART;TZID=America/Edmonton:20260404T090000
DTEND;TZID=America/Edmonton:20260404T124500
DTSTAMP:20260419T231646
CREATED:20260325T191700Z
LAST-MODIFIED:20260325T191700Z
UID:10057902-1775293200-1775306700@urbancasual.ca
SUMMARY:EggaPOOLooza at SLS Centre
DESCRIPTION:Make a splash this Easter at EggaPOOLooza\, SLS Centre’s unique twist on the classic egg hunt! \nDive into the Jayman BUILT Aquatic Centre to collect colorful floating eggs in the family friendly team competition. \nThis fun-filled event features multiple 45-minute sessions\, including a sensory-friendly option\, making it perfect for all ages. \nDon’t miss out—register early to secure your spot in this one-of-a-kind aquatic adventure!
URL:https://urbancasual.ca/cochrane-event/eggapoolooza-at-sls-centre/
LOCATION:SLS Centre\, 800 Griffin Rd E\, Cochrane\, Alberta\, T4C 2B8\, Canada
CATEGORIES:Community,Easter,Family Friendly,Learning,swimming,Youth
ATTACH;FMTTYPE=image/jpeg:https://urbancasual.ca/wp-content/uploads/2026/03/EggaPOOLooza-2026.jpg
END:VEVENT
BEGIN:VEVENT
DTSTART;TZID=America/Edmonton:20260318T090000
DTEND;TZID=America/Edmonton:20260318T150000
DTSTAMP:20260419T231646
CREATED:20260223T161410Z
LAST-MODIFIED:20260223T161421Z
UID:10054676-1773824400-1773846000@urbancasual.ca
SUMMARY:Cochrane Youth Summit
DESCRIPTION:Join us for a full day of meaningful conversations\, inspiring keynotes and hands on sessions built around themes identified by local youth. Together\, we will celebrate the leadership\, resilience and voices of young people in our community with: \nKeynote Speaker: Ryan Straschnitzki\n– Interactive workshop sessions led by community partners\n– A mobile escape room experience\n– Puppy visits from the Cochrane Humane Society \nFor youth grade 9-12 \nTo register and get more information: https://tinyurl.com/46twh5bh
URL:https://urbancasual.ca/cochrane-event/cochrane-youth-summit-2026/
LOCATION:Cochrane Ranchehouse\, 101 Ranchehouse Road\, Cochrane\, Alberta
CATEGORIES:Learning,Students,Town of Cochrane,Youth
ATTACH;FMTTYPE=image/jpeg:https://urbancasual.ca/wp-content/uploads/2026/02/Cochrane-Youth-Summit.jpg
ORGANIZER;CN="Family and Community Support Services":MAILTO:frn@cochrane.ca
END:VEVENT
BEGIN:VEVENT
DTSTART;TZID=America/Edmonton:20251127T110000
DTEND;TZID=America/Edmonton:20251127T163000
DTSTAMP:20260419T231646
CREATED:20251119T175617Z
LAST-MODIFIED:20251119T175617Z
UID:10051213-1764241200-1764261000@urbancasual.ca
SUMMARY:Youth Entrepreneur Market
DESCRIPTION:Come support homeschool entrepreneurs at our exciting market! \nDiscover handmade goods\, creative products\, and fresh ideas\n– all crafted by talented students. \nShop local\, be inspired\, and help encourage the next generation of innovators!
URL:https://urbancasual.ca/cochrane-event/youth-entrepreneur-market-2/
LOCATION:SLS Centre\, 800 Griffin Rd E\, Cochrane\, Alberta\, T4C 2B8\, Canada
CATEGORIES:Christmas Markets in Cochrane Alberta,HOLIDAY FUN,HOLIDAY MARKET 2025,Market,Shopping
ATTACH;FMTTYPE=image/jpeg:https://urbancasual.ca/wp-content/uploads/2025/11/IMG_0925.jpeg
ORGANIZER;CN="Cochrane Home Educators":MAILTO:Abcheinfo@gmail.com
END:VEVENT
BEGIN:VEVENT
DTSTART;TZID=America/Edmonton:20250427T140000
DTEND;TZID=America/Edmonton:20250427T160000
DTSTAMP:20260419T231646
CREATED:20250321T171939Z
LAST-MODIFIED:20250321T171939Z
UID:10045369-1745762400-1745769600@urbancasual.ca
SUMMARY:Come Try Ringette
DESCRIPTION:A free all ages event hosted by the Cochrane Ringette Association. It is a great opportunity to come learn about the game\, sharpen your skating skills and meet some of the current local coaches and players! \nAll skill levels welcome! Come see what it’s all about and have some fun. You bring your skates\, helmet and gloves and we’ll provide the sticks and rings.
URL:https://urbancasual.ca/cochrane-event/come-try-ringette/
LOCATION:Spray Lake Sawmill Family Sports Centre\, 800 Griffin Road\, Cochrane\, AB
CATEGORIES:Community,Sports,Youth
ATTACH;FMTTYPE=image/jpeg:https://urbancasual.ca/wp-content/uploads/2025/03/IMG_9800-1.jpeg
END:VEVENT
END:VCALENDAR