BEGIN:VCALENDAR
VERSION:2.0
PRODID:-//Urbancasual.ca - ECPv6.15.20//NONSGML v1.0//EN
CALSCALE:GREGORIAN
METHOD:PUBLISH
X-WR-CALNAME:Urbancasual.ca
X-ORIGINAL-URL:https://urbancasual.ca
X-WR-CALDESC:Events for Urbancasual.ca
REFRESH-INTERVAL;VALUE=DURATION:PT1H
X-Robots-Tag:noindex
X-PUBLISHED-TTL:PT1H
BEGIN:VTIMEZONE
TZID:America/Edmonton
BEGIN:DAYLIGHT
TZOFFSETFROM:-0700
TZOFFSETTO:-0600
TZNAME:MDT
DTSTART:20250309T090000
END:DAYLIGHT
BEGIN:STANDARD
TZOFFSETFROM:-0600
TZOFFSETTO:-0700
TZNAME:MST
DTSTART:20251102T080000
END:STANDARD
BEGIN:DAYLIGHT
TZOFFSETFROM:-0700
TZOFFSETTO:-0600
TZNAME:MDT
DTSTART:20260308T090000
END:DAYLIGHT
BEGIN:STANDARD
TZOFFSETFROM:-0600
TZOFFSETTO:-0700
TZNAME:MST
DTSTART:20261101T080000
END:STANDARD
BEGIN:DAYLIGHT
TZOFFSETFROM:-0700
TZOFFSETTO:-0600
TZNAME:MDT
DTSTART:20270314T090000
END:DAYLIGHT
BEGIN:STANDARD
TZOFFSETFROM:-0600
TZOFFSETTO:-0700
TZNAME:MST
DTSTART:20271107T080000
END:STANDARD
END:VTIMEZONE
BEGIN:VEVENT
DTSTART;TZID=America/Edmonton:20260131T120000
DTEND;TZID=America/Edmonton:20260131T193000
DTSTAMP:20260420T085224
CREATED:20260107T013327Z
LAST-MODIFIED:20260107T013327Z
UID:10053404-1769860800-1769887800@urbancasual.ca
SUMMARY:Bragg Creek's Winter in the Woods Festival
DESCRIPTION:❄ Winter in the Woods 2026 ❄ FREE Family Fun \n📅 Saturday\, January 31 | 🕛 12:00 – 7:30 PM \n📍 Bragg Creek Community Centre | 23 White Ave \nBundle up and join the community for a full day of winter fun! \n⛸ Public skating • 🏒 Junior & Senior hockey\n🍫 Hot chocolate & concession \n🧹 Human curling • 🎯 Chuck-a-Puck fundraiser & more \nSilent Auction and After Party at The Powderhorn Saloon | 7:30PM onwards \nCome skate\, sip\, play\, and celebrate winter in the woods in Bragg Creek.
URL:https://urbancasual.ca/cochrane-event/bragg-creeks-winter-in-the-woods-festival/
LOCATION:Bragg Creek Community Centre
CATEGORIES:Bragg Creek,Community,Family Friendly,Festival
ATTACH;FMTTYPE=image/jpeg:https://urbancasual.ca/wp-content/uploads/2026/01/WiW-2026.jpg
END:VEVENT
BEGIN:VEVENT
DTSTART;TZID=America/Edmonton:20260131T130000
DTEND;TZID=America/Edmonton:20260131T150000
DTSTAMP:20260420T085224
CREATED:20260128T165845Z
LAST-MODIFIED:20260128T170046Z
UID:10054217-1769864400-1769871600@urbancasual.ca
SUMMARY:Have a warm treat and visit Douglas Homes Showhome in Southbow Landing
DESCRIPTION:Warm Hearts\, Hot Cocoa & New Beginnings! \nLooking for the perfect Saturday plans? Come discover the charm of South Bow Landing this weekend. \nWe’re opening the doors to one of our most beautiful homes and serving up a full Hot Chocolate Bar with all the fixings! Whether you like yours loaded with marshmallows\, drizzled in caramel\, or topped with sprinkles\, we’ve got you covered. \n• When: This Saturday\, Jan 31st 2026\n• Time: 1:00 PM – 3:00 PM\n• Where: 115 Southborough Crescent \, South Bow Landing \nTour the home\, grab a hot treat\, and see what life could look like in this stunning new community. We can’t wait to see you there! \nSouthbow isn’t just a neighborhood. It’s a place to stop by and land. \nWebsite: www.douglashomes.net
URL:https://urbancasual.ca/cochrane-event/have-a-warm-treat-and-visit-douglas-homes-showhome-in-southbow-landing/
LOCATION:115 Southborough crescent cochrane alberta\, 115 Southborough Crescent\, Cochrane\, alberta\, T4c2S6\, Canada
CATEGORIES:Community,Family Friendly,Southbow,Southbow Landing
ATTACH;FMTTYPE=image/jpeg:https://urbancasual.ca/wp-content/uploads/2026/01/Southbowlanding-hotchocolate-event.jpg
END:VEVENT
END:VCALENDAR