BEGIN:VCALENDAR
VERSION:2.0
PRODID:-//Urbancasual.ca - ECPv6.15.20//NONSGML v1.0//EN
CALSCALE:GREGORIAN
METHOD:PUBLISH
X-WR-CALNAME:Urbancasual.ca
X-ORIGINAL-URL:https://urbancasual.ca
X-WR-CALDESC:Events for Urbancasual.ca
REFRESH-INTERVAL;VALUE=DURATION:PT1H
X-Robots-Tag:noindex
X-PUBLISHED-TTL:PT1H
BEGIN:VTIMEZONE
TZID:America/Edmonton
BEGIN:DAYLIGHT
TZOFFSETFROM:-0700
TZOFFSETTO:-0600
TZNAME:MDT
DTSTART:20230312T090000
END:DAYLIGHT
BEGIN:STANDARD
TZOFFSETFROM:-0600
TZOFFSETTO:-0700
TZNAME:MST
DTSTART:20231105T080000
END:STANDARD
BEGIN:DAYLIGHT
TZOFFSETFROM:-0700
TZOFFSETTO:-0600
TZNAME:MDT
DTSTART:20240310T090000
END:DAYLIGHT
BEGIN:STANDARD
TZOFFSETFROM:-0600
TZOFFSETTO:-0700
TZNAME:MST
DTSTART:20241103T080000
END:STANDARD
BEGIN:DAYLIGHT
TZOFFSETFROM:-0700
TZOFFSETTO:-0600
TZNAME:MDT
DTSTART:20250309T090000
END:DAYLIGHT
BEGIN:STANDARD
TZOFFSETFROM:-0600
TZOFFSETTO:-0700
TZNAME:MST
DTSTART:20251102T080000
END:STANDARD
BEGIN:DAYLIGHT
TZOFFSETFROM:-0700
TZOFFSETTO:-0600
TZNAME:MDT
DTSTART:20260308T090000
END:DAYLIGHT
BEGIN:STANDARD
TZOFFSETFROM:-0600
TZOFFSETTO:-0700
TZNAME:MST
DTSTART:20261101T080000
END:STANDARD
BEGIN:DAYLIGHT
TZOFFSETFROM:-0700
TZOFFSETTO:-0600
TZNAME:MDT
DTSTART:20270314T090000
END:DAYLIGHT
BEGIN:STANDARD
TZOFFSETFROM:-0600
TZOFFSETTO:-0700
TZNAME:MST
DTSTART:20271107T080000
END:STANDARD
END:VTIMEZONE
BEGIN:VEVENT
DTSTART;TZID=America/Edmonton:20260417T190000
DTEND;TZID=America/Edmonton:20260417T203000
DTSTAMP:20260424T183925
CREATED:20260205T180111Z
LAST-MODIFIED:20260205T180111Z
UID:10054474-1776452400-1776457800@urbancasual.ca
SUMMARY:Sip and Sculpt Fridays!
DESCRIPTION:Sip and Sculpt Fridays! \nJoin Michael Emery for a hands-on soapstone carving workshop. Enjoy some refreshments from our cash bar while you learn the fundamentals of shaping stone and creating a finished sculptural piece! \nParticipants will learn basic carving techniques\, safe material handling\, and simple hand-sanding methods using water to reduce dust. With the ability to choose from a small set of pre-selected shapes and designs\, participants will be able to create a finished sculptural piece. The emphasis is on process\, experimentation\, and creative confidence rather than artistic perfection. \nNo prior experience is required\, and each participant will leave with a completed stone carving they created themselves. \nWhen:\n– February 20\, 2026 | 7:00 pm – 8:30 pm\n– March 20\, 2026 | 7:00 pm – 8:30 pm\n– April 17\, 2026 | 7:00 pm – 8:30 pm \nWhere: Route 22 Artist Collective Gallery\, Cochrane AB \nCost:\n– $50\, + GST | Fees \nFor more information and to register:\n– Scan the QR code to get registered now!\n– OR\, visit our website @ route22gallery.com under events for more information!
URL:https://urbancasual.ca/cochrane-event/sip-and-sculpt-fridays/2026-04-17/
LOCATION:Route 22 Artist Collective Gallery\, 208 1st Street W.\, Cochrane\, Alberta\, Canada
CATEGORIES:Art,Crafts,Learning,Workshop
ATTACH;FMTTYPE=image/jpeg:https://urbancasual.ca/wp-content/uploads/2026/02/Sip-and-Sculpt-Fridays-Soapstone-Workshop.jpg
ORGANIZER;CN="Route 22 Artist Collective Gallery":MAILTO:INFO@ROUTE22GALLERY.COM
END:VEVENT
BEGIN:VEVENT
DTSTART;TZID=America/Edmonton:20260320T190000
DTEND;TZID=America/Edmonton:20260320T203000
DTSTAMP:20260424T183925
CREATED:20260205T180111Z
LAST-MODIFIED:20260205T180111Z
UID:10054473-1774033200-1774038600@urbancasual.ca
SUMMARY:Sip and Sculpt Fridays!
DESCRIPTION:Sip and Sculpt Fridays! \nJoin Michael Emery for a hands-on soapstone carving workshop. Enjoy some refreshments from our cash bar while you learn the fundamentals of shaping stone and creating a finished sculptural piece! \nParticipants will learn basic carving techniques\, safe material handling\, and simple hand-sanding methods using water to reduce dust. With the ability to choose from a small set of pre-selected shapes and designs\, participants will be able to create a finished sculptural piece. The emphasis is on process\, experimentation\, and creative confidence rather than artistic perfection. \nNo prior experience is required\, and each participant will leave with a completed stone carving they created themselves. \nWhen:\n– February 20\, 2026 | 7:00 pm – 8:30 pm\n– March 20\, 2026 | 7:00 pm – 8:30 pm\n– April 17\, 2026 | 7:00 pm – 8:30 pm \nWhere: Route 22 Artist Collective Gallery\, Cochrane AB \nCost:\n– $50\, + GST | Fees \nFor more information and to register:\n– Scan the QR code to get registered now!\n– OR\, visit our website @ route22gallery.com under events for more information!
URL:https://urbancasual.ca/cochrane-event/sip-and-sculpt-fridays/2026-03-20/
LOCATION:Route 22 Artist Collective Gallery\, 208 1st Street W.\, Cochrane\, Alberta\, Canada
CATEGORIES:Art,Crafts,Learning,Workshop
ATTACH;FMTTYPE=image/jpeg:https://urbancasual.ca/wp-content/uploads/2026/02/Sip-and-Sculpt-Fridays-Soapstone-Workshop.jpg
ORGANIZER;CN="Route 22 Artist Collective Gallery":MAILTO:INFO@ROUTE22GALLERY.COM
END:VEVENT
BEGIN:VEVENT
DTSTART;TZID=America/Edmonton:20260220T190000
DTEND;TZID=America/Edmonton:20260220T203000
DTSTAMP:20260424T183925
CREATED:20260205T180111Z
LAST-MODIFIED:20260205T180111Z
UID:10054472-1771614000-1771619400@urbancasual.ca
SUMMARY:Sip and Sculpt Fridays!
DESCRIPTION:Sip and Sculpt Fridays! \nJoin Michael Emery for a hands-on soapstone carving workshop. Enjoy some refreshments from our cash bar while you learn the fundamentals of shaping stone and creating a finished sculptural piece! \nParticipants will learn basic carving techniques\, safe material handling\, and simple hand-sanding methods using water to reduce dust. With the ability to choose from a small set of pre-selected shapes and designs\, participants will be able to create a finished sculptural piece. The emphasis is on process\, experimentation\, and creative confidence rather than artistic perfection. \nNo prior experience is required\, and each participant will leave with a completed stone carving they created themselves. \nWhen:\n– February 20\, 2026 | 7:00 pm – 8:30 pm\n– March 20\, 2026 | 7:00 pm – 8:30 pm\n– April 17\, 2026 | 7:00 pm – 8:30 pm \nWhere: Route 22 Artist Collective Gallery\, Cochrane AB \nCost:\n– $50\, + GST | Fees \nFor more information and to register:\n– Scan the QR code to get registered now!\n– OR\, visit our website @ route22gallery.com under events for more information!
URL:https://urbancasual.ca/cochrane-event/sip-and-sculpt-fridays/2026-02-20/
LOCATION:Route 22 Artist Collective Gallery\, 208 1st Street W.\, Cochrane\, Alberta\, Canada
CATEGORIES:Art,Crafts,Learning,Workshop
ATTACH;FMTTYPE=image/jpeg:https://urbancasual.ca/wp-content/uploads/2026/02/Sip-and-Sculpt-Fridays-Soapstone-Workshop.jpg
ORGANIZER;CN="Route 22 Artist Collective Gallery":MAILTO:INFO@ROUTE22GALLERY.COM
END:VEVENT
BEGIN:VEVENT
DTSTART;TZID=America/Edmonton:20260205T183000
DTEND;TZID=America/Edmonton:20260205T203000
DTSTAMP:20260424T183925
CREATED:20260115T001542Z
LAST-MODIFIED:20260130T025431Z
UID:10054002-1770316200-1770323400@urbancasual.ca
SUMMARY:Valentines Cookie Decorating Class
DESCRIPTION:Come join the fun and learn the art of cookie decorating.\nNo experience needed.\nI share loads of tips and tricks.\nYou leave with 6 beautiful cookies and recipes!
URL:https://urbancasual.ca/cochrane-event/valentines-cookie-decorating-class/
LOCATION:Cochrane Baking Company\, 101 Sunset Dr #4101\, Cochrane\, AB\, T4C0W7\, Canada
CATEGORIES:Crafts,Food,Parents & Caregivers,VALENTINE'S DAY,Youth
ATTACH;FMTTYPE=image/jpeg:https://urbancasual.ca/wp-content/uploads/2026/01/Valentines-day.jpg
ORGANIZER;CN="CraftyThings":MAILTO:Charlotteburger@icloud.com
END:VEVENT
BEGIN:VEVENT
DTSTART;TZID=America/Edmonton:20251207T130000
DTEND;TZID=America/Edmonton:20251207T150000
DTSTAMP:20260424T183925
CREATED:20251103T212743Z
LAST-MODIFIED:20251103T212743Z
UID:10051131-1765112400-1765119600@urbancasual.ca
SUMMARY:Seal Skin Brooch Workshop!
DESCRIPTION:Seal Skin Brooch Workshop! \nEnter into Route 22 Gallery’s festive makerspace and join local Inuit artisan Denise Bryan for this relaxed social holiday workshop and learn more about Inuit culture while making a beautiful authentic seal fur brooch! \nMaterials Provided:\n– With a value of $50\, materials are sourced ethically and traditionally from Canada’s far north! \nDate:\n– Sunday\, December 7 \nTime:\n– 1:00 pm – 3:00 pm \nAges: 16+ \nLocation: Route 22 Artist Collective Gallery \nFees:\n– Full cost of workshop\, including materials: $100 +GST | Fees \nVisit our website’s events calendar to learn more about local Inuit artist Denise Bryan’s story and for further details! \nFor more information and registration:\n– Scan the QR code to get registered now!\n– Or\, visit our website @ route22gallery.com under events for more information!
URL:https://urbancasual.ca/cochrane-event/seal-skin-brooch-workshop/
LOCATION:Route 22 Artist Collective Gallery\, 208 1st Street W.\, Cochrane\, Alberta\, Canada
CATEGORIES:Art,Crafts,Learning,Networking,Workshop
ATTACH;FMTTYPE=image/jpeg:https://urbancasual.ca/wp-content/uploads/2025/11/Inuit-Seal-Skin-Brooch-Workshop-Denise-Bryan-Dec-7.jpg
ORGANIZER;CN="Route 22 Artist Collective Gallery":MAILTO:INFO@ROUTE22GALLERY.COM
END:VEVENT
BEGIN:VEVENT
DTSTART;TZID=America/Edmonton:20251127T110000
DTEND;TZID=America/Edmonton:20251127T163000
DTSTAMP:20260424T183925
CREATED:20251119T175617Z
LAST-MODIFIED:20251119T175617Z
UID:10051213-1764241200-1764261000@urbancasual.ca
SUMMARY:Youth Entrepreneur Market
DESCRIPTION:Come support homeschool entrepreneurs at our exciting market! \nDiscover handmade goods\, creative products\, and fresh ideas\n– all crafted by talented students. \nShop local\, be inspired\, and help encourage the next generation of innovators!
URL:https://urbancasual.ca/cochrane-event/youth-entrepreneur-market-2/
LOCATION:SLS Centre\, 800 Griffin Rd E\, Cochrane\, Alberta\, T4C 2B8\, Canada
CATEGORIES:Christmas Markets in Cochrane Alberta,HOLIDAY FUN,HOLIDAY MARKET 2025,Market,Shopping
ATTACH;FMTTYPE=image/jpeg:https://urbancasual.ca/wp-content/uploads/2025/11/IMG_0925.jpeg
ORGANIZER;CN="Cochrane Home Educators":MAILTO:Abcheinfo@gmail.com
END:VEVENT
BEGIN:VEVENT
DTSTART;TZID=America/Edmonton:20241114T180000
DTEND;TZID=America/Edmonton:20241114T203000
DTSTAMP:20260424T183926
CREATED:20241020T200615Z
LAST-MODIFIED:20241020T200615Z
UID:10036859-1731607200-1731616200@urbancasual.ca
SUMMARY:Lemon Chamomile Soap Making Workshop (Cold Process)
DESCRIPTION:Learn to make soap at The Refillery in Cochrane with Calgary’s famous adventure soap company for a unique soap making event. \nLearn the basics of traditional cold process soap making\, while learning new ways to be sustainable!\nTake home approximately 1lbs of soap / to complete curing process at home. \nSafety materials will be provided *PPE\, safety glasses\, gloves. \n*must be minimum 18 years old to participate.
URL:https://urbancasual.ca/cochrane-event/lemon-chamomile-soap-making-workshop-cold-process/
LOCATION:The Refillery\, 80 Railway Street E\, Cochrane
CATEGORIES:Business,Learning,Workshop
ATTACH;FMTTYPE=image/jpeg:https://urbancasual.ca/wp-content/uploads/2024/10/soap-making.jpg
ORGANIZER;CN="Bowness Soapworks":MAILTO:therefillery@proton.me
END:VEVENT
BEGIN:VEVENT
DTSTART;TZID=America/Edmonton:20241104T180000
DTEND;TZID=America/Edmonton:20241104T203000
DTSTAMP:20260424T183926
CREATED:20241024T213459Z
LAST-MODIFIED:20241024T213459Z
UID:10036861-1730743200-1730752200@urbancasual.ca
SUMMARY:Ceramic Tree Making Workshop
DESCRIPTION:Beginner Hand building Workshop \nLearn to pottery hand building with local Bowness potter Melba Seto! Guests will learn techniques involved with detailed clay forming and techniques. \nPottery is therapeutic in so many ways\, it teaches us how to let go and deal with loss and failure and that is something so many of us struggle with. \nWhen you learn pottery from Melba\, it’s more than just playing with clay- it’s a chance to get to know yourself better and explore those parts that need a little TLC.
URL:https://urbancasual.ca/cochrane-event/ceramic-tree-making-workshop/
LOCATION:The Refillery\, 80 Railway Street E\, Cochrane
CATEGORIES:Business,Crafts,Workshop
ATTACH;FMTTYPE=image/jpeg:https://urbancasual.ca/wp-content/uploads/2024/10/ceramic-tree-1.jpg
ORGANIZER;CN="The Refillery":MAILTO:therefillery@proton.me
END:VEVENT
END:VCALENDAR