BEGIN:VCALENDAR
VERSION:2.0
PRODID:-//Urbancasual.ca - ECPv6.15.20//NONSGML v1.0//EN
CALSCALE:GREGORIAN
METHOD:PUBLISH
X-WR-CALNAME:Urbancasual.ca
X-ORIGINAL-URL:https://urbancasual.ca
X-WR-CALDESC:Events for Urbancasual.ca
REFRESH-INTERVAL;VALUE=DURATION:PT1H
X-Robots-Tag:noindex
X-PUBLISHED-TTL:PT1H
BEGIN:VTIMEZONE
TZID:America/Edmonton
BEGIN:DAYLIGHT
TZOFFSETFROM:-0700
TZOFFSETTO:-0600
TZNAME:MDT
DTSTART:20260308T090000
END:DAYLIGHT
BEGIN:STANDARD
TZOFFSETFROM:-0600
TZOFFSETTO:-0700
TZNAME:MST
DTSTART:20261101T080000
END:STANDARD
BEGIN:DAYLIGHT
TZOFFSETFROM:-0700
TZOFFSETTO:-0600
TZNAME:MDT
DTSTART:20270314T090000
END:DAYLIGHT
BEGIN:STANDARD
TZOFFSETFROM:-0600
TZOFFSETTO:-0700
TZNAME:MST
DTSTART:20271107T080000
END:STANDARD
BEGIN:DAYLIGHT
TZOFFSETFROM:-0700
TZOFFSETTO:-0600
TZNAME:MDT
DTSTART:20280312T090000
END:DAYLIGHT
BEGIN:STANDARD
TZOFFSETFROM:-0600
TZOFFSETTO:-0700
TZNAME:MST
DTSTART:20281105T080000
END:STANDARD
BEGIN:DAYLIGHT
TZOFFSETFROM:-0700
TZOFFSETTO:-0600
TZNAME:MDT
DTSTART:20290311T090000
END:DAYLIGHT
BEGIN:STANDARD
TZOFFSETFROM:-0600
TZOFFSETTO:-0700
TZNAME:MST
DTSTART:20291104T080000
END:STANDARD
END:VTIMEZONE
BEGIN:VEVENT
DTSTART;TZID=America/Edmonton:20270620T160000
DTEND;TZID=America/Edmonton:20270620T200000
DTSTAMP:20260423T191652
CREATED:20240911T005142Z
LAST-MODIFIED:20240911T005142Z
UID:10035839-1813507200-1813521600@urbancasual.ca
SUMMARY:SUNDAY JAM AT THE VENUE
DESCRIPTION:The Sunday Jam is back at the Venue starting October 6th! \nFeaturing Allen Christie. \nWINGS $10 OFF \nHAPPY HOUR 2PM TO 8PM \n  \n 
URL:https://urbancasual.ca/cochrane-event/sunday-jam-at-the-venue/2027-06-20/
LOCATION:VENUE SPORTSBAR AND GRILL
CATEGORIES:Entertainment & Games,Music
ATTACH;FMTTYPE=image/jpeg:https://urbancasual.ca/wp-content/uploads/2024/09/inbound1307443098528191419.jpg
END:VEVENT
BEGIN:VEVENT
DTSTART;TZID=America/Edmonton:20270627T160000
DTEND;TZID=America/Edmonton:20270627T200000
DTSTAMP:20260423T191653
CREATED:20240911T005142Z
LAST-MODIFIED:20240911T005142Z
UID:10035840-1814112000-1814126400@urbancasual.ca
SUMMARY:SUNDAY JAM AT THE VENUE
DESCRIPTION:The Sunday Jam is back at the Venue starting October 6th! \nFeaturing Allen Christie. \nWINGS $10 OFF \nHAPPY HOUR 2PM TO 8PM \n  \n 
URL:https://urbancasual.ca/cochrane-event/sunday-jam-at-the-venue/2027-06-27/
LOCATION:VENUE SPORTSBAR AND GRILL
CATEGORIES:Entertainment & Games,Music
ATTACH;FMTTYPE=image/jpeg:https://urbancasual.ca/wp-content/uploads/2024/09/inbound1307443098528191419.jpg
END:VEVENT
BEGIN:VEVENT
DTSTART;TZID=America/Edmonton:20270704T160000
DTEND;TZID=America/Edmonton:20270704T200000
DTSTAMP:20260423T191653
CREATED:20240911T005142Z
LAST-MODIFIED:20240911T005142Z
UID:10035841-1814716800-1814731200@urbancasual.ca
SUMMARY:SUNDAY JAM AT THE VENUE
DESCRIPTION:The Sunday Jam is back at the Venue starting October 6th! \nFeaturing Allen Christie. \nWINGS $10 OFF \nHAPPY HOUR 2PM TO 8PM \n  \n 
URL:https://urbancasual.ca/cochrane-event/sunday-jam-at-the-venue/2027-07-04/
LOCATION:VENUE SPORTSBAR AND GRILL
CATEGORIES:Entertainment & Games,Music
ATTACH;FMTTYPE=image/jpeg:https://urbancasual.ca/wp-content/uploads/2024/09/inbound1307443098528191419.jpg
END:VEVENT
BEGIN:VEVENT
DTSTART;TZID=America/Edmonton:20270711T160000
DTEND;TZID=America/Edmonton:20270711T200000
DTSTAMP:20260423T191653
CREATED:20240911T005142Z
LAST-MODIFIED:20240911T005142Z
UID:10035842-1815321600-1815336000@urbancasual.ca
SUMMARY:SUNDAY JAM AT THE VENUE
DESCRIPTION:The Sunday Jam is back at the Venue starting October 6th! \nFeaturing Allen Christie. \nWINGS $10 OFF \nHAPPY HOUR 2PM TO 8PM \n  \n 
URL:https://urbancasual.ca/cochrane-event/sunday-jam-at-the-venue/2027-07-11/
LOCATION:VENUE SPORTSBAR AND GRILL
CATEGORIES:Entertainment & Games,Music
ATTACH;FMTTYPE=image/jpeg:https://urbancasual.ca/wp-content/uploads/2024/09/inbound1307443098528191419.jpg
END:VEVENT
BEGIN:VEVENT
DTSTART;TZID=America/Edmonton:20270718T160000
DTEND;TZID=America/Edmonton:20270718T200000
DTSTAMP:20260423T191653
CREATED:20240911T005142Z
LAST-MODIFIED:20240911T005142Z
UID:10035843-1815926400-1815940800@urbancasual.ca
SUMMARY:SUNDAY JAM AT THE VENUE
DESCRIPTION:The Sunday Jam is back at the Venue starting October 6th! \nFeaturing Allen Christie. \nWINGS $10 OFF \nHAPPY HOUR 2PM TO 8PM \n  \n 
URL:https://urbancasual.ca/cochrane-event/sunday-jam-at-the-venue/2027-07-18/
LOCATION:VENUE SPORTSBAR AND GRILL
CATEGORIES:Entertainment & Games,Music
ATTACH;FMTTYPE=image/jpeg:https://urbancasual.ca/wp-content/uploads/2024/09/inbound1307443098528191419.jpg
END:VEVENT
BEGIN:VEVENT
DTSTART;TZID=America/Edmonton:20270725T160000
DTEND;TZID=America/Edmonton:20270725T200000
DTSTAMP:20260423T191653
CREATED:20240911T005142Z
LAST-MODIFIED:20240911T005142Z
UID:10035844-1816531200-1816545600@urbancasual.ca
SUMMARY:SUNDAY JAM AT THE VENUE
DESCRIPTION:The Sunday Jam is back at the Venue starting October 6th! \nFeaturing Allen Christie. \nWINGS $10 OFF \nHAPPY HOUR 2PM TO 8PM \n  \n 
URL:https://urbancasual.ca/cochrane-event/sunday-jam-at-the-venue/2027-07-25/
LOCATION:VENUE SPORTSBAR AND GRILL
CATEGORIES:Entertainment & Games,Music
ATTACH;FMTTYPE=image/jpeg:https://urbancasual.ca/wp-content/uploads/2024/09/inbound1307443098528191419.jpg
END:VEVENT
BEGIN:VEVENT
DTSTART;TZID=America/Edmonton:20270801T160000
DTEND;TZID=America/Edmonton:20270801T200000
DTSTAMP:20260423T191653
CREATED:20240911T005142Z
LAST-MODIFIED:20240911T005142Z
UID:10035845-1817136000-1817150400@urbancasual.ca
SUMMARY:SUNDAY JAM AT THE VENUE
DESCRIPTION:The Sunday Jam is back at the Venue starting October 6th! \nFeaturing Allen Christie. \nWINGS $10 OFF \nHAPPY HOUR 2PM TO 8PM \n  \n 
URL:https://urbancasual.ca/cochrane-event/sunday-jam-at-the-venue/2027-08-01/
LOCATION:VENUE SPORTSBAR AND GRILL
CATEGORIES:Entertainment & Games,Music
ATTACH;FMTTYPE=image/jpeg:https://urbancasual.ca/wp-content/uploads/2024/09/inbound1307443098528191419.jpg
END:VEVENT
BEGIN:VEVENT
DTSTART;TZID=America/Edmonton:20270808T160000
DTEND;TZID=America/Edmonton:20270808T200000
DTSTAMP:20260423T191653
CREATED:20240911T005142Z
LAST-MODIFIED:20240911T005142Z
UID:10035846-1817740800-1817755200@urbancasual.ca
SUMMARY:SUNDAY JAM AT THE VENUE
DESCRIPTION:The Sunday Jam is back at the Venue starting October 6th! \nFeaturing Allen Christie. \nWINGS $10 OFF \nHAPPY HOUR 2PM TO 8PM \n  \n 
URL:https://urbancasual.ca/cochrane-event/sunday-jam-at-the-venue/2027-08-08/
LOCATION:VENUE SPORTSBAR AND GRILL
CATEGORIES:Entertainment & Games,Music
ATTACH;FMTTYPE=image/jpeg:https://urbancasual.ca/wp-content/uploads/2024/09/inbound1307443098528191419.jpg
END:VEVENT
BEGIN:VEVENT
DTSTART;TZID=America/Edmonton:20270815T160000
DTEND;TZID=America/Edmonton:20270815T200000
DTSTAMP:20260423T191653
CREATED:20240911T005142Z
LAST-MODIFIED:20240911T005142Z
UID:10035847-1818345600-1818360000@urbancasual.ca
SUMMARY:SUNDAY JAM AT THE VENUE
DESCRIPTION:The Sunday Jam is back at the Venue starting October 6th! \nFeaturing Allen Christie. \nWINGS $10 OFF \nHAPPY HOUR 2PM TO 8PM \n  \n 
URL:https://urbancasual.ca/cochrane-event/sunday-jam-at-the-venue/2027-08-15/
LOCATION:VENUE SPORTSBAR AND GRILL
CATEGORIES:Entertainment & Games,Music
ATTACH;FMTTYPE=image/jpeg:https://urbancasual.ca/wp-content/uploads/2024/09/inbound1307443098528191419.jpg
END:VEVENT
BEGIN:VEVENT
DTSTART;TZID=America/Edmonton:20270822T160000
DTEND;TZID=America/Edmonton:20270822T200000
DTSTAMP:20260423T191653
CREATED:20240911T005142Z
LAST-MODIFIED:20240911T005142Z
UID:10035848-1818950400-1818964800@urbancasual.ca
SUMMARY:SUNDAY JAM AT THE VENUE
DESCRIPTION:The Sunday Jam is back at the Venue starting October 6th! \nFeaturing Allen Christie. \nWINGS $10 OFF \nHAPPY HOUR 2PM TO 8PM \n  \n 
URL:https://urbancasual.ca/cochrane-event/sunday-jam-at-the-venue/2027-08-22/
LOCATION:VENUE SPORTSBAR AND GRILL
CATEGORIES:Entertainment & Games,Music
ATTACH;FMTTYPE=image/jpeg:https://urbancasual.ca/wp-content/uploads/2024/09/inbound1307443098528191419.jpg
END:VEVENT
BEGIN:VEVENT
DTSTART;TZID=America/Edmonton:20270829T160000
DTEND;TZID=America/Edmonton:20270829T200000
DTSTAMP:20260423T191653
CREATED:20240911T005142Z
LAST-MODIFIED:20240911T005142Z
UID:10035849-1819555200-1819569600@urbancasual.ca
SUMMARY:SUNDAY JAM AT THE VENUE
DESCRIPTION:The Sunday Jam is back at the Venue starting October 6th! \nFeaturing Allen Christie. \nWINGS $10 OFF \nHAPPY HOUR 2PM TO 8PM \n  \n 
URL:https://urbancasual.ca/cochrane-event/sunday-jam-at-the-venue/2027-08-29/
LOCATION:VENUE SPORTSBAR AND GRILL
CATEGORIES:Entertainment & Games,Music
ATTACH;FMTTYPE=image/jpeg:https://urbancasual.ca/wp-content/uploads/2024/09/inbound1307443098528191419.jpg
END:VEVENT
BEGIN:VEVENT
DTSTART;TZID=America/Edmonton:20270905T160000
DTEND;TZID=America/Edmonton:20270905T200000
DTSTAMP:20260423T191653
CREATED:20240911T005142Z
LAST-MODIFIED:20240911T005142Z
UID:10035850-1820160000-1820174400@urbancasual.ca
SUMMARY:SUNDAY JAM AT THE VENUE
DESCRIPTION:The Sunday Jam is back at the Venue starting October 6th! \nFeaturing Allen Christie. \nWINGS $10 OFF \nHAPPY HOUR 2PM TO 8PM \n  \n 
URL:https://urbancasual.ca/cochrane-event/sunday-jam-at-the-venue/2027-09-05/
LOCATION:VENUE SPORTSBAR AND GRILL
CATEGORIES:Entertainment & Games,Music
ATTACH;FMTTYPE=image/jpeg:https://urbancasual.ca/wp-content/uploads/2024/09/inbound1307443098528191419.jpg
END:VEVENT
BEGIN:VEVENT
DTSTART;TZID=America/Edmonton:20270912T160000
DTEND;TZID=America/Edmonton:20270912T200000
DTSTAMP:20260423T191653
CREATED:20240911T005142Z
LAST-MODIFIED:20240911T005142Z
UID:10035851-1820764800-1820779200@urbancasual.ca
SUMMARY:SUNDAY JAM AT THE VENUE
DESCRIPTION:The Sunday Jam is back at the Venue starting October 6th! \nFeaturing Allen Christie. \nWINGS $10 OFF \nHAPPY HOUR 2PM TO 8PM \n  \n 
URL:https://urbancasual.ca/cochrane-event/sunday-jam-at-the-venue/2027-09-12/
LOCATION:VENUE SPORTSBAR AND GRILL
CATEGORIES:Entertainment & Games,Music
ATTACH;FMTTYPE=image/jpeg:https://urbancasual.ca/wp-content/uploads/2024/09/inbound1307443098528191419.jpg
END:VEVENT
BEGIN:VEVENT
DTSTART;TZID=America/Edmonton:20270919T160000
DTEND;TZID=America/Edmonton:20270919T200000
DTSTAMP:20260423T191653
CREATED:20240911T005142Z
LAST-MODIFIED:20240911T005142Z
UID:10035852-1821369600-1821384000@urbancasual.ca
SUMMARY:SUNDAY JAM AT THE VENUE
DESCRIPTION:The Sunday Jam is back at the Venue starting October 6th! \nFeaturing Allen Christie. \nWINGS $10 OFF \nHAPPY HOUR 2PM TO 8PM \n  \n 
URL:https://urbancasual.ca/cochrane-event/sunday-jam-at-the-venue/2027-09-19/
LOCATION:VENUE SPORTSBAR AND GRILL
CATEGORIES:Entertainment & Games,Music
ATTACH;FMTTYPE=image/jpeg:https://urbancasual.ca/wp-content/uploads/2024/09/inbound1307443098528191419.jpg
END:VEVENT
BEGIN:VEVENT
DTSTART;TZID=America/Edmonton:20270926T160000
DTEND;TZID=America/Edmonton:20270926T200000
DTSTAMP:20260423T191653
CREATED:20240911T005142Z
LAST-MODIFIED:20240911T005142Z
UID:10035853-1821974400-1821988800@urbancasual.ca
SUMMARY:SUNDAY JAM AT THE VENUE
DESCRIPTION:The Sunday Jam is back at the Venue starting October 6th! \nFeaturing Allen Christie. \nWINGS $10 OFF \nHAPPY HOUR 2PM TO 8PM \n  \n 
URL:https://urbancasual.ca/cochrane-event/sunday-jam-at-the-venue/2027-09-26/
LOCATION:VENUE SPORTSBAR AND GRILL
CATEGORIES:Entertainment & Games,Music
ATTACH;FMTTYPE=image/jpeg:https://urbancasual.ca/wp-content/uploads/2024/09/inbound1307443098528191419.jpg
END:VEVENT
BEGIN:VEVENT
DTSTART;TZID=America/Edmonton:20271003T160000
DTEND;TZID=America/Edmonton:20271003T200000
DTSTAMP:20260423T191653
CREATED:20240911T005142Z
LAST-MODIFIED:20240911T005142Z
UID:10035854-1822579200-1822593600@urbancasual.ca
SUMMARY:SUNDAY JAM AT THE VENUE
DESCRIPTION:The Sunday Jam is back at the Venue starting October 6th! \nFeaturing Allen Christie. \nWINGS $10 OFF \nHAPPY HOUR 2PM TO 8PM \n  \n 
URL:https://urbancasual.ca/cochrane-event/sunday-jam-at-the-venue/2027-10-03/
LOCATION:VENUE SPORTSBAR AND GRILL
CATEGORIES:Entertainment & Games,Music
ATTACH;FMTTYPE=image/jpeg:https://urbancasual.ca/wp-content/uploads/2024/09/inbound1307443098528191419.jpg
END:VEVENT
BEGIN:VEVENT
DTSTART;TZID=America/Edmonton:20271010T160000
DTEND;TZID=America/Edmonton:20271010T200000
DTSTAMP:20260423T191653
CREATED:20240911T005142Z
LAST-MODIFIED:20240911T005142Z
UID:10035855-1823184000-1823198400@urbancasual.ca
SUMMARY:SUNDAY JAM AT THE VENUE
DESCRIPTION:The Sunday Jam is back at the Venue starting October 6th! \nFeaturing Allen Christie. \nWINGS $10 OFF \nHAPPY HOUR 2PM TO 8PM \n  \n 
URL:https://urbancasual.ca/cochrane-event/sunday-jam-at-the-venue/2027-10-10/
LOCATION:VENUE SPORTSBAR AND GRILL
CATEGORIES:Entertainment & Games,Music
ATTACH;FMTTYPE=image/jpeg:https://urbancasual.ca/wp-content/uploads/2024/09/inbound1307443098528191419.jpg
END:VEVENT
BEGIN:VEVENT
DTSTART;TZID=America/Edmonton:20271017T160000
DTEND;TZID=America/Edmonton:20271017T200000
DTSTAMP:20260423T191653
CREATED:20240911T005142Z
LAST-MODIFIED:20240911T005142Z
UID:10035856-1823788800-1823803200@urbancasual.ca
SUMMARY:SUNDAY JAM AT THE VENUE
DESCRIPTION:The Sunday Jam is back at the Venue starting October 6th! \nFeaturing Allen Christie. \nWINGS $10 OFF \nHAPPY HOUR 2PM TO 8PM \n  \n 
URL:https://urbancasual.ca/cochrane-event/sunday-jam-at-the-venue/2027-10-17/
LOCATION:VENUE SPORTSBAR AND GRILL
CATEGORIES:Entertainment & Games,Music
ATTACH;FMTTYPE=image/jpeg:https://urbancasual.ca/wp-content/uploads/2024/09/inbound1307443098528191419.jpg
END:VEVENT
BEGIN:VEVENT
DTSTART;TZID=America/Edmonton:20271024T160000
DTEND;TZID=America/Edmonton:20271024T200000
DTSTAMP:20260423T191653
CREATED:20240911T005142Z
LAST-MODIFIED:20240911T005142Z
UID:10035857-1824393600-1824408000@urbancasual.ca
SUMMARY:SUNDAY JAM AT THE VENUE
DESCRIPTION:The Sunday Jam is back at the Venue starting October 6th! \nFeaturing Allen Christie. \nWINGS $10 OFF \nHAPPY HOUR 2PM TO 8PM \n  \n 
URL:https://urbancasual.ca/cochrane-event/sunday-jam-at-the-venue/2027-10-24/
LOCATION:VENUE SPORTSBAR AND GRILL
CATEGORIES:Entertainment & Games,Music
ATTACH;FMTTYPE=image/jpeg:https://urbancasual.ca/wp-content/uploads/2024/09/inbound1307443098528191419.jpg
END:VEVENT
BEGIN:VEVENT
DTSTART;TZID=America/Edmonton:20271031T160000
DTEND;TZID=America/Edmonton:20271031T200000
DTSTAMP:20260423T191653
CREATED:20240911T005142Z
LAST-MODIFIED:20240911T005142Z
UID:10035858-1824998400-1825012800@urbancasual.ca
SUMMARY:SUNDAY JAM AT THE VENUE
DESCRIPTION:The Sunday Jam is back at the Venue starting October 6th! \nFeaturing Allen Christie. \nWINGS $10 OFF \nHAPPY HOUR 2PM TO 8PM \n  \n 
URL:https://urbancasual.ca/cochrane-event/sunday-jam-at-the-venue/2027-10-31/
LOCATION:VENUE SPORTSBAR AND GRILL
CATEGORIES:Entertainment & Games,Music
ATTACH;FMTTYPE=image/jpeg:https://urbancasual.ca/wp-content/uploads/2024/09/inbound1307443098528191419.jpg
END:VEVENT
BEGIN:VEVENT
DTSTART;TZID=America/Edmonton:20271107T160000
DTEND;TZID=America/Edmonton:20271107T200000
DTSTAMP:20260423T191653
CREATED:20240911T005142Z
LAST-MODIFIED:20240911T005142Z
UID:10035859-1825603200-1825617600@urbancasual.ca
SUMMARY:SUNDAY JAM AT THE VENUE
DESCRIPTION:The Sunday Jam is back at the Venue starting October 6th! \nFeaturing Allen Christie. \nWINGS $10 OFF \nHAPPY HOUR 2PM TO 8PM \n  \n 
URL:https://urbancasual.ca/cochrane-event/sunday-jam-at-the-venue/2027-11-07/
LOCATION:VENUE SPORTSBAR AND GRILL
CATEGORIES:Entertainment & Games,Music
ATTACH;FMTTYPE=image/jpeg:https://urbancasual.ca/wp-content/uploads/2024/09/inbound1307443098528191419.jpg
END:VEVENT
BEGIN:VEVENT
DTSTART;TZID=America/Edmonton:20271114T160000
DTEND;TZID=America/Edmonton:20271114T200000
DTSTAMP:20260423T191653
CREATED:20240911T005142Z
LAST-MODIFIED:20240911T005142Z
UID:10035860-1826208000-1826222400@urbancasual.ca
SUMMARY:SUNDAY JAM AT THE VENUE
DESCRIPTION:The Sunday Jam is back at the Venue starting October 6th! \nFeaturing Allen Christie. \nWINGS $10 OFF \nHAPPY HOUR 2PM TO 8PM \n  \n 
URL:https://urbancasual.ca/cochrane-event/sunday-jam-at-the-venue/2027-11-14/
LOCATION:VENUE SPORTSBAR AND GRILL
CATEGORIES:Entertainment & Games,Music
ATTACH;FMTTYPE=image/jpeg:https://urbancasual.ca/wp-content/uploads/2024/09/inbound1307443098528191419.jpg
END:VEVENT
BEGIN:VEVENT
DTSTART;TZID=America/Edmonton:20271121T160000
DTEND;TZID=America/Edmonton:20271121T200000
DTSTAMP:20260423T191653
CREATED:20240911T005142Z
LAST-MODIFIED:20240911T005142Z
UID:10035861-1826812800-1826827200@urbancasual.ca
SUMMARY:SUNDAY JAM AT THE VENUE
DESCRIPTION:The Sunday Jam is back at the Venue starting October 6th! \nFeaturing Allen Christie. \nWINGS $10 OFF \nHAPPY HOUR 2PM TO 8PM \n  \n 
URL:https://urbancasual.ca/cochrane-event/sunday-jam-at-the-venue/2027-11-21/
LOCATION:VENUE SPORTSBAR AND GRILL
CATEGORIES:Entertainment & Games,Music
ATTACH;FMTTYPE=image/jpeg:https://urbancasual.ca/wp-content/uploads/2024/09/inbound1307443098528191419.jpg
END:VEVENT
BEGIN:VEVENT
DTSTART;TZID=America/Edmonton:20271128T160000
DTEND;TZID=America/Edmonton:20271128T200000
DTSTAMP:20260423T191653
CREATED:20240911T005142Z
LAST-MODIFIED:20240911T005142Z
UID:10035862-1827417600-1827432000@urbancasual.ca
SUMMARY:SUNDAY JAM AT THE VENUE
DESCRIPTION:The Sunday Jam is back at the Venue starting October 6th! \nFeaturing Allen Christie. \nWINGS $10 OFF \nHAPPY HOUR 2PM TO 8PM \n  \n 
URL:https://urbancasual.ca/cochrane-event/sunday-jam-at-the-venue/2027-11-28/
LOCATION:VENUE SPORTSBAR AND GRILL
CATEGORIES:Entertainment & Games,Music
ATTACH;FMTTYPE=image/jpeg:https://urbancasual.ca/wp-content/uploads/2024/09/inbound1307443098528191419.jpg
END:VEVENT
BEGIN:VEVENT
DTSTART;TZID=America/Edmonton:20271205T160000
DTEND;TZID=America/Edmonton:20271205T200000
DTSTAMP:20260423T191653
CREATED:20240911T005142Z
LAST-MODIFIED:20240911T005142Z
UID:10035863-1828022400-1828036800@urbancasual.ca
SUMMARY:SUNDAY JAM AT THE VENUE
DESCRIPTION:The Sunday Jam is back at the Venue starting October 6th! \nFeaturing Allen Christie. \nWINGS $10 OFF \nHAPPY HOUR 2PM TO 8PM \n  \n 
URL:https://urbancasual.ca/cochrane-event/sunday-jam-at-the-venue/2027-12-05/
LOCATION:VENUE SPORTSBAR AND GRILL
CATEGORIES:Entertainment & Games,Music
ATTACH;FMTTYPE=image/jpeg:https://urbancasual.ca/wp-content/uploads/2024/09/inbound1307443098528191419.jpg
END:VEVENT
BEGIN:VEVENT
DTSTART;TZID=America/Edmonton:20271212T160000
DTEND;TZID=America/Edmonton:20271212T200000
DTSTAMP:20260423T191653
CREATED:20240911T005142Z
LAST-MODIFIED:20240911T005142Z
UID:10035864-1828627200-1828641600@urbancasual.ca
SUMMARY:SUNDAY JAM AT THE VENUE
DESCRIPTION:The Sunday Jam is back at the Venue starting October 6th! \nFeaturing Allen Christie. \nWINGS $10 OFF \nHAPPY HOUR 2PM TO 8PM \n  \n 
URL:https://urbancasual.ca/cochrane-event/sunday-jam-at-the-venue/2027-12-12/
LOCATION:VENUE SPORTSBAR AND GRILL
CATEGORIES:Entertainment & Games,Music
ATTACH;FMTTYPE=image/jpeg:https://urbancasual.ca/wp-content/uploads/2024/09/inbound1307443098528191419.jpg
END:VEVENT
BEGIN:VEVENT
DTSTART;TZID=America/Edmonton:20271219T160000
DTEND;TZID=America/Edmonton:20271219T200000
DTSTAMP:20260423T191653
CREATED:20240911T005142Z
LAST-MODIFIED:20240911T005142Z
UID:10035865-1829232000-1829246400@urbancasual.ca
SUMMARY:SUNDAY JAM AT THE VENUE
DESCRIPTION:The Sunday Jam is back at the Venue starting October 6th! \nFeaturing Allen Christie. \nWINGS $10 OFF \nHAPPY HOUR 2PM TO 8PM \n  \n 
URL:https://urbancasual.ca/cochrane-event/sunday-jam-at-the-venue/2027-12-19/
LOCATION:VENUE SPORTSBAR AND GRILL
CATEGORIES:Entertainment & Games,Music
ATTACH;FMTTYPE=image/jpeg:https://urbancasual.ca/wp-content/uploads/2024/09/inbound1307443098528191419.jpg
END:VEVENT
BEGIN:VEVENT
DTSTART;TZID=America/Edmonton:20271226T160000
DTEND;TZID=America/Edmonton:20271226T200000
DTSTAMP:20260423T191653
CREATED:20240911T005142Z
LAST-MODIFIED:20240911T005142Z
UID:10035866-1829836800-1829851200@urbancasual.ca
SUMMARY:SUNDAY JAM AT THE VENUE
DESCRIPTION:The Sunday Jam is back at the Venue starting October 6th! \nFeaturing Allen Christie. \nWINGS $10 OFF \nHAPPY HOUR 2PM TO 8PM \n  \n 
URL:https://urbancasual.ca/cochrane-event/sunday-jam-at-the-venue/2027-12-26/
LOCATION:VENUE SPORTSBAR AND GRILL
CATEGORIES:Entertainment & Games,Music
ATTACH;FMTTYPE=image/jpeg:https://urbancasual.ca/wp-content/uploads/2024/09/inbound1307443098528191419.jpg
END:VEVENT
BEGIN:VEVENT
DTSTART;TZID=America/Edmonton:20280102T160000
DTEND;TZID=America/Edmonton:20280102T200000
DTSTAMP:20260423T191653
CREATED:20240911T005142Z
LAST-MODIFIED:20240911T005142Z
UID:10035867-1830441600-1830456000@urbancasual.ca
SUMMARY:SUNDAY JAM AT THE VENUE
DESCRIPTION:The Sunday Jam is back at the Venue starting October 6th! \nFeaturing Allen Christie. \nWINGS $10 OFF \nHAPPY HOUR 2PM TO 8PM \n  \n 
URL:https://urbancasual.ca/cochrane-event/sunday-jam-at-the-venue/2028-01-02/
LOCATION:VENUE SPORTSBAR AND GRILL
CATEGORIES:Entertainment & Games,Music
ATTACH;FMTTYPE=image/jpeg:https://urbancasual.ca/wp-content/uploads/2024/09/inbound1307443098528191419.jpg
END:VEVENT
BEGIN:VEVENT
DTSTART;TZID=America/Edmonton:20280109T160000
DTEND;TZID=America/Edmonton:20280109T200000
DTSTAMP:20260423T191653
CREATED:20240911T005142Z
LAST-MODIFIED:20240911T005142Z
UID:10035868-1831046400-1831060800@urbancasual.ca
SUMMARY:SUNDAY JAM AT THE VENUE
DESCRIPTION:The Sunday Jam is back at the Venue starting October 6th! \nFeaturing Allen Christie. \nWINGS $10 OFF \nHAPPY HOUR 2PM TO 8PM \n  \n 
URL:https://urbancasual.ca/cochrane-event/sunday-jam-at-the-venue/2028-01-09/
LOCATION:VENUE SPORTSBAR AND GRILL
CATEGORIES:Entertainment & Games,Music
ATTACH;FMTTYPE=image/jpeg:https://urbancasual.ca/wp-content/uploads/2024/09/inbound1307443098528191419.jpg
END:VEVENT
END:VCALENDAR