BEGIN:VCALENDAR
VERSION:2.0
PRODID:-//Urbancasual.ca - ECPv6.15.20//NONSGML v1.0//EN
CALSCALE:GREGORIAN
METHOD:PUBLISH
X-WR-CALNAME:Urbancasual.ca
X-ORIGINAL-URL:https://urbancasual.ca
X-WR-CALDESC:Events for Urbancasual.ca
REFRESH-INTERVAL;VALUE=DURATION:PT1H
X-Robots-Tag:noindex
X-PUBLISHED-TTL:PT1H
BEGIN:VTIMEZONE
TZID:America/Edmonton
BEGIN:DAYLIGHT
TZOFFSETFROM:-0700
TZOFFSETTO:-0600
TZNAME:MDT
DTSTART:20250309T090000
END:DAYLIGHT
BEGIN:STANDARD
TZOFFSETFROM:-0600
TZOFFSETTO:-0700
TZNAME:MST
DTSTART:20251102T080000
END:STANDARD
BEGIN:DAYLIGHT
TZOFFSETFROM:-0700
TZOFFSETTO:-0600
TZNAME:MDT
DTSTART:20260308T090000
END:DAYLIGHT
BEGIN:STANDARD
TZOFFSETFROM:-0600
TZOFFSETTO:-0700
TZNAME:MST
DTSTART:20261101T080000
END:STANDARD
BEGIN:DAYLIGHT
TZOFFSETFROM:-0700
TZOFFSETTO:-0600
TZNAME:MDT
DTSTART:20270314T090000
END:DAYLIGHT
BEGIN:STANDARD
TZOFFSETFROM:-0600
TZOFFSETTO:-0700
TZNAME:MST
DTSTART:20271107T080000
END:STANDARD
BEGIN:DAYLIGHT
TZOFFSETFROM:-0700
TZOFFSETTO:-0600
TZNAME:MDT
DTSTART:20280312T090000
END:DAYLIGHT
BEGIN:STANDARD
TZOFFSETFROM:-0600
TZOFFSETTO:-0700
TZNAME:MST
DTSTART:20281105T080000
END:STANDARD
END:VTIMEZONE
BEGIN:VEVENT
DTSTART;TZID=America/Edmonton:20260809T160000
DTEND;TZID=America/Edmonton:20260809T200000
DTSTAMP:20260423T054340
CREATED:20240911T005142Z
LAST-MODIFIED:20240911T005142Z
UID:10035794-1786291200-1786305600@urbancasual.ca
SUMMARY:SUNDAY JAM AT THE VENUE
DESCRIPTION:The Sunday Jam is back at the Venue starting October 6th! \nFeaturing Allen Christie. \nWINGS $10 OFF \nHAPPY HOUR 2PM TO 8PM \n  \n 
URL:https://urbancasual.ca/cochrane-event/sunday-jam-at-the-venue/2026-08-09/
LOCATION:VENUE SPORTSBAR AND GRILL
CATEGORIES:Entertainment & Games,Music
ATTACH;FMTTYPE=image/jpeg:https://urbancasual.ca/wp-content/uploads/2024/09/inbound1307443098528191419.jpg
END:VEVENT
BEGIN:VEVENT
DTSTART;TZID=America/Edmonton:20260816T160000
DTEND;TZID=America/Edmonton:20260816T200000
DTSTAMP:20260423T054340
CREATED:20240911T005142Z
LAST-MODIFIED:20240911T005142Z
UID:10035795-1786896000-1786910400@urbancasual.ca
SUMMARY:SUNDAY JAM AT THE VENUE
DESCRIPTION:The Sunday Jam is back at the Venue starting October 6th! \nFeaturing Allen Christie. \nWINGS $10 OFF \nHAPPY HOUR 2PM TO 8PM \n  \n 
URL:https://urbancasual.ca/cochrane-event/sunday-jam-at-the-venue/2026-08-16/
LOCATION:VENUE SPORTSBAR AND GRILL
CATEGORIES:Entertainment & Games,Music
ATTACH;FMTTYPE=image/jpeg:https://urbancasual.ca/wp-content/uploads/2024/09/inbound1307443098528191419.jpg
END:VEVENT
BEGIN:VEVENT
DTSTART;TZID=America/Edmonton:20260823T160000
DTEND;TZID=America/Edmonton:20260823T200000
DTSTAMP:20260423T054340
CREATED:20240911T005142Z
LAST-MODIFIED:20240911T005142Z
UID:10035796-1787500800-1787515200@urbancasual.ca
SUMMARY:SUNDAY JAM AT THE VENUE
DESCRIPTION:The Sunday Jam is back at the Venue starting October 6th! \nFeaturing Allen Christie. \nWINGS $10 OFF \nHAPPY HOUR 2PM TO 8PM \n  \n 
URL:https://urbancasual.ca/cochrane-event/sunday-jam-at-the-venue/2026-08-23/
LOCATION:VENUE SPORTSBAR AND GRILL
CATEGORIES:Entertainment & Games,Music
ATTACH;FMTTYPE=image/jpeg:https://urbancasual.ca/wp-content/uploads/2024/09/inbound1307443098528191419.jpg
END:VEVENT
BEGIN:VEVENT
DTSTART;TZID=America/Edmonton:20260830T160000
DTEND;TZID=America/Edmonton:20260830T200000
DTSTAMP:20260423T054340
CREATED:20240911T005142Z
LAST-MODIFIED:20240911T005142Z
UID:10035797-1788105600-1788120000@urbancasual.ca
SUMMARY:SUNDAY JAM AT THE VENUE
DESCRIPTION:The Sunday Jam is back at the Venue starting October 6th! \nFeaturing Allen Christie. \nWINGS $10 OFF \nHAPPY HOUR 2PM TO 8PM \n  \n 
URL:https://urbancasual.ca/cochrane-event/sunday-jam-at-the-venue/2026-08-30/
LOCATION:VENUE SPORTSBAR AND GRILL
CATEGORIES:Entertainment & Games,Music
ATTACH;FMTTYPE=image/jpeg:https://urbancasual.ca/wp-content/uploads/2024/09/inbound1307443098528191419.jpg
END:VEVENT
BEGIN:VEVENT
DTSTART;TZID=America/Edmonton:20260906T160000
DTEND;TZID=America/Edmonton:20260906T200000
DTSTAMP:20260423T054340
CREATED:20240911T005142Z
LAST-MODIFIED:20240911T005142Z
UID:10035798-1788710400-1788724800@urbancasual.ca
SUMMARY:SUNDAY JAM AT THE VENUE
DESCRIPTION:The Sunday Jam is back at the Venue starting October 6th! \nFeaturing Allen Christie. \nWINGS $10 OFF \nHAPPY HOUR 2PM TO 8PM \n  \n 
URL:https://urbancasual.ca/cochrane-event/sunday-jam-at-the-venue/2026-09-06/
LOCATION:VENUE SPORTSBAR AND GRILL
CATEGORIES:Entertainment & Games,Music
ATTACH;FMTTYPE=image/jpeg:https://urbancasual.ca/wp-content/uploads/2024/09/inbound1307443098528191419.jpg
END:VEVENT
BEGIN:VEVENT
DTSTART;TZID=America/Edmonton:20260913T160000
DTEND;TZID=America/Edmonton:20260913T200000
DTSTAMP:20260423T054340
CREATED:20240911T005142Z
LAST-MODIFIED:20240911T005142Z
UID:10035799-1789315200-1789329600@urbancasual.ca
SUMMARY:SUNDAY JAM AT THE VENUE
DESCRIPTION:The Sunday Jam is back at the Venue starting October 6th! \nFeaturing Allen Christie. \nWINGS $10 OFF \nHAPPY HOUR 2PM TO 8PM \n  \n 
URL:https://urbancasual.ca/cochrane-event/sunday-jam-at-the-venue/2026-09-13/
LOCATION:VENUE SPORTSBAR AND GRILL
CATEGORIES:Entertainment & Games,Music
ATTACH;FMTTYPE=image/jpeg:https://urbancasual.ca/wp-content/uploads/2024/09/inbound1307443098528191419.jpg
END:VEVENT
BEGIN:VEVENT
DTSTART;TZID=America/Edmonton:20260920T160000
DTEND;TZID=America/Edmonton:20260920T200000
DTSTAMP:20260423T054340
CREATED:20240911T005142Z
LAST-MODIFIED:20240911T005142Z
UID:10035800-1789920000-1789934400@urbancasual.ca
SUMMARY:SUNDAY JAM AT THE VENUE
DESCRIPTION:The Sunday Jam is back at the Venue starting October 6th! \nFeaturing Allen Christie. \nWINGS $10 OFF \nHAPPY HOUR 2PM TO 8PM \n  \n 
URL:https://urbancasual.ca/cochrane-event/sunday-jam-at-the-venue/2026-09-20/
LOCATION:VENUE SPORTSBAR AND GRILL
CATEGORIES:Entertainment & Games,Music
ATTACH;FMTTYPE=image/jpeg:https://urbancasual.ca/wp-content/uploads/2024/09/inbound1307443098528191419.jpg
END:VEVENT
BEGIN:VEVENT
DTSTART;TZID=America/Edmonton:20260927T160000
DTEND;TZID=America/Edmonton:20260927T200000
DTSTAMP:20260423T054340
CREATED:20240911T005142Z
LAST-MODIFIED:20240911T005142Z
UID:10035801-1790524800-1790539200@urbancasual.ca
SUMMARY:SUNDAY JAM AT THE VENUE
DESCRIPTION:The Sunday Jam is back at the Venue starting October 6th! \nFeaturing Allen Christie. \nWINGS $10 OFF \nHAPPY HOUR 2PM TO 8PM \n  \n 
URL:https://urbancasual.ca/cochrane-event/sunday-jam-at-the-venue/2026-09-27/
LOCATION:VENUE SPORTSBAR AND GRILL
CATEGORIES:Entertainment & Games,Music
ATTACH;FMTTYPE=image/jpeg:https://urbancasual.ca/wp-content/uploads/2024/09/inbound1307443098528191419.jpg
END:VEVENT
BEGIN:VEVENT
DTSTART;TZID=America/Edmonton:20261004T160000
DTEND;TZID=America/Edmonton:20261004T200000
DTSTAMP:20260423T054340
CREATED:20240911T005142Z
LAST-MODIFIED:20240911T005142Z
UID:10035802-1791129600-1791144000@urbancasual.ca
SUMMARY:SUNDAY JAM AT THE VENUE
DESCRIPTION:The Sunday Jam is back at the Venue starting October 6th! \nFeaturing Allen Christie. \nWINGS $10 OFF \nHAPPY HOUR 2PM TO 8PM \n  \n 
URL:https://urbancasual.ca/cochrane-event/sunday-jam-at-the-venue/2026-10-04/
LOCATION:VENUE SPORTSBAR AND GRILL
CATEGORIES:Entertainment & Games,Music
ATTACH;FMTTYPE=image/jpeg:https://urbancasual.ca/wp-content/uploads/2024/09/inbound1307443098528191419.jpg
END:VEVENT
BEGIN:VEVENT
DTSTART;TZID=America/Edmonton:20261011T160000
DTEND;TZID=America/Edmonton:20261011T200000
DTSTAMP:20260423T054340
CREATED:20240911T005142Z
LAST-MODIFIED:20240911T005142Z
UID:10035803-1791734400-1791748800@urbancasual.ca
SUMMARY:SUNDAY JAM AT THE VENUE
DESCRIPTION:The Sunday Jam is back at the Venue starting October 6th! \nFeaturing Allen Christie. \nWINGS $10 OFF \nHAPPY HOUR 2PM TO 8PM \n  \n 
URL:https://urbancasual.ca/cochrane-event/sunday-jam-at-the-venue/2026-10-11/
LOCATION:VENUE SPORTSBAR AND GRILL
CATEGORIES:Entertainment & Games,Music
ATTACH;FMTTYPE=image/jpeg:https://urbancasual.ca/wp-content/uploads/2024/09/inbound1307443098528191419.jpg
END:VEVENT
BEGIN:VEVENT
DTSTART;TZID=America/Edmonton:20261018T160000
DTEND;TZID=America/Edmonton:20261018T200000
DTSTAMP:20260423T054340
CREATED:20240911T005142Z
LAST-MODIFIED:20240911T005142Z
UID:10035804-1792339200-1792353600@urbancasual.ca
SUMMARY:SUNDAY JAM AT THE VENUE
DESCRIPTION:The Sunday Jam is back at the Venue starting October 6th! \nFeaturing Allen Christie. \nWINGS $10 OFF \nHAPPY HOUR 2PM TO 8PM \n  \n 
URL:https://urbancasual.ca/cochrane-event/sunday-jam-at-the-venue/2026-10-18/
LOCATION:VENUE SPORTSBAR AND GRILL
CATEGORIES:Entertainment & Games,Music
ATTACH;FMTTYPE=image/jpeg:https://urbancasual.ca/wp-content/uploads/2024/09/inbound1307443098528191419.jpg
END:VEVENT
BEGIN:VEVENT
DTSTART;TZID=America/Edmonton:20261025T160000
DTEND;TZID=America/Edmonton:20261025T200000
DTSTAMP:20260423T054340
CREATED:20240911T005142Z
LAST-MODIFIED:20240911T005142Z
UID:10035805-1792944000-1792958400@urbancasual.ca
SUMMARY:SUNDAY JAM AT THE VENUE
DESCRIPTION:The Sunday Jam is back at the Venue starting October 6th! \nFeaturing Allen Christie. \nWINGS $10 OFF \nHAPPY HOUR 2PM TO 8PM \n  \n 
URL:https://urbancasual.ca/cochrane-event/sunday-jam-at-the-venue/2026-10-25/
LOCATION:VENUE SPORTSBAR AND GRILL
CATEGORIES:Entertainment & Games,Music
ATTACH;FMTTYPE=image/jpeg:https://urbancasual.ca/wp-content/uploads/2024/09/inbound1307443098528191419.jpg
END:VEVENT
BEGIN:VEVENT
DTSTART;TZID=America/Edmonton:20261101T160000
DTEND;TZID=America/Edmonton:20261101T200000
DTSTAMP:20260423T054340
CREATED:20240911T005142Z
LAST-MODIFIED:20240911T005142Z
UID:10035806-1793548800-1793563200@urbancasual.ca
SUMMARY:SUNDAY JAM AT THE VENUE
DESCRIPTION:The Sunday Jam is back at the Venue starting October 6th! \nFeaturing Allen Christie. \nWINGS $10 OFF \nHAPPY HOUR 2PM TO 8PM \n  \n 
URL:https://urbancasual.ca/cochrane-event/sunday-jam-at-the-venue/2026-11-01/
LOCATION:VENUE SPORTSBAR AND GRILL
CATEGORIES:Entertainment & Games,Music
ATTACH;FMTTYPE=image/jpeg:https://urbancasual.ca/wp-content/uploads/2024/09/inbound1307443098528191419.jpg
END:VEVENT
BEGIN:VEVENT
DTSTART;TZID=America/Edmonton:20261108T160000
DTEND;TZID=America/Edmonton:20261108T200000
DTSTAMP:20260423T054340
CREATED:20240911T005142Z
LAST-MODIFIED:20240911T005142Z
UID:10035807-1794153600-1794168000@urbancasual.ca
SUMMARY:SUNDAY JAM AT THE VENUE
DESCRIPTION:The Sunday Jam is back at the Venue starting October 6th! \nFeaturing Allen Christie. \nWINGS $10 OFF \nHAPPY HOUR 2PM TO 8PM \n  \n 
URL:https://urbancasual.ca/cochrane-event/sunday-jam-at-the-venue/2026-11-08/
LOCATION:VENUE SPORTSBAR AND GRILL
CATEGORIES:Entertainment & Games,Music
ATTACH;FMTTYPE=image/jpeg:https://urbancasual.ca/wp-content/uploads/2024/09/inbound1307443098528191419.jpg
END:VEVENT
BEGIN:VEVENT
DTSTART;TZID=America/Edmonton:20261115T160000
DTEND;TZID=America/Edmonton:20261115T200000
DTSTAMP:20260423T054340
CREATED:20240911T005142Z
LAST-MODIFIED:20240911T005142Z
UID:10035808-1794758400-1794772800@urbancasual.ca
SUMMARY:SUNDAY JAM AT THE VENUE
DESCRIPTION:The Sunday Jam is back at the Venue starting October 6th! \nFeaturing Allen Christie. \nWINGS $10 OFF \nHAPPY HOUR 2PM TO 8PM \n  \n 
URL:https://urbancasual.ca/cochrane-event/sunday-jam-at-the-venue/2026-11-15/
LOCATION:VENUE SPORTSBAR AND GRILL
CATEGORIES:Entertainment & Games,Music
ATTACH;FMTTYPE=image/jpeg:https://urbancasual.ca/wp-content/uploads/2024/09/inbound1307443098528191419.jpg
END:VEVENT
BEGIN:VEVENT
DTSTART;TZID=America/Edmonton:20261122T160000
DTEND;TZID=America/Edmonton:20261122T200000
DTSTAMP:20260423T054340
CREATED:20240911T005142Z
LAST-MODIFIED:20240911T005142Z
UID:10035809-1795363200-1795377600@urbancasual.ca
SUMMARY:SUNDAY JAM AT THE VENUE
DESCRIPTION:The Sunday Jam is back at the Venue starting October 6th! \nFeaturing Allen Christie. \nWINGS $10 OFF \nHAPPY HOUR 2PM TO 8PM \n  \n 
URL:https://urbancasual.ca/cochrane-event/sunday-jam-at-the-venue/2026-11-22/
LOCATION:VENUE SPORTSBAR AND GRILL
CATEGORIES:Entertainment & Games,Music
ATTACH;FMTTYPE=image/jpeg:https://urbancasual.ca/wp-content/uploads/2024/09/inbound1307443098528191419.jpg
END:VEVENT
BEGIN:VEVENT
DTSTART;TZID=America/Edmonton:20261129T160000
DTEND;TZID=America/Edmonton:20261129T200000
DTSTAMP:20260423T054340
CREATED:20240911T005142Z
LAST-MODIFIED:20240911T005142Z
UID:10035810-1795968000-1795982400@urbancasual.ca
SUMMARY:SUNDAY JAM AT THE VENUE
DESCRIPTION:The Sunday Jam is back at the Venue starting October 6th! \nFeaturing Allen Christie. \nWINGS $10 OFF \nHAPPY HOUR 2PM TO 8PM \n  \n 
URL:https://urbancasual.ca/cochrane-event/sunday-jam-at-the-venue/2026-11-29/
LOCATION:VENUE SPORTSBAR AND GRILL
CATEGORIES:Entertainment & Games,Music
ATTACH;FMTTYPE=image/jpeg:https://urbancasual.ca/wp-content/uploads/2024/09/inbound1307443098528191419.jpg
END:VEVENT
BEGIN:VEVENT
DTSTART;TZID=America/Edmonton:20261206T160000
DTEND;TZID=America/Edmonton:20261206T200000
DTSTAMP:20260423T054340
CREATED:20240911T005142Z
LAST-MODIFIED:20240911T005142Z
UID:10035811-1796572800-1796587200@urbancasual.ca
SUMMARY:SUNDAY JAM AT THE VENUE
DESCRIPTION:The Sunday Jam is back at the Venue starting October 6th! \nFeaturing Allen Christie. \nWINGS $10 OFF \nHAPPY HOUR 2PM TO 8PM \n  \n 
URL:https://urbancasual.ca/cochrane-event/sunday-jam-at-the-venue/2026-12-06/
LOCATION:VENUE SPORTSBAR AND GRILL
CATEGORIES:Entertainment & Games,Music
ATTACH;FMTTYPE=image/jpeg:https://urbancasual.ca/wp-content/uploads/2024/09/inbound1307443098528191419.jpg
END:VEVENT
BEGIN:VEVENT
DTSTART;TZID=America/Edmonton:20261213T160000
DTEND;TZID=America/Edmonton:20261213T200000
DTSTAMP:20260423T054340
CREATED:20240911T005142Z
LAST-MODIFIED:20240911T005142Z
UID:10035812-1797177600-1797192000@urbancasual.ca
SUMMARY:SUNDAY JAM AT THE VENUE
DESCRIPTION:The Sunday Jam is back at the Venue starting October 6th! \nFeaturing Allen Christie. \nWINGS $10 OFF \nHAPPY HOUR 2PM TO 8PM \n  \n 
URL:https://urbancasual.ca/cochrane-event/sunday-jam-at-the-venue/2026-12-13/
LOCATION:VENUE SPORTSBAR AND GRILL
CATEGORIES:Entertainment & Games,Music
ATTACH;FMTTYPE=image/jpeg:https://urbancasual.ca/wp-content/uploads/2024/09/inbound1307443098528191419.jpg
END:VEVENT
BEGIN:VEVENT
DTSTART;TZID=America/Edmonton:20261220T160000
DTEND;TZID=America/Edmonton:20261220T200000
DTSTAMP:20260423T054340
CREATED:20240911T005142Z
LAST-MODIFIED:20240911T005142Z
UID:10035813-1797782400-1797796800@urbancasual.ca
SUMMARY:SUNDAY JAM AT THE VENUE
DESCRIPTION:The Sunday Jam is back at the Venue starting October 6th! \nFeaturing Allen Christie. \nWINGS $10 OFF \nHAPPY HOUR 2PM TO 8PM \n  \n 
URL:https://urbancasual.ca/cochrane-event/sunday-jam-at-the-venue/2026-12-20/
LOCATION:VENUE SPORTSBAR AND GRILL
CATEGORIES:Entertainment & Games,Music
ATTACH;FMTTYPE=image/jpeg:https://urbancasual.ca/wp-content/uploads/2024/09/inbound1307443098528191419.jpg
END:VEVENT
BEGIN:VEVENT
DTSTART;TZID=America/Edmonton:20261227T160000
DTEND;TZID=America/Edmonton:20261227T200000
DTSTAMP:20260423T054340
CREATED:20240911T005142Z
LAST-MODIFIED:20240911T005142Z
UID:10035814-1798387200-1798401600@urbancasual.ca
SUMMARY:SUNDAY JAM AT THE VENUE
DESCRIPTION:The Sunday Jam is back at the Venue starting October 6th! \nFeaturing Allen Christie. \nWINGS $10 OFF \nHAPPY HOUR 2PM TO 8PM \n  \n 
URL:https://urbancasual.ca/cochrane-event/sunday-jam-at-the-venue/2026-12-27/
LOCATION:VENUE SPORTSBAR AND GRILL
CATEGORIES:Entertainment & Games,Music
ATTACH;FMTTYPE=image/jpeg:https://urbancasual.ca/wp-content/uploads/2024/09/inbound1307443098528191419.jpg
END:VEVENT
BEGIN:VEVENT
DTSTART;TZID=America/Edmonton:20270103T160000
DTEND;TZID=America/Edmonton:20270103T200000
DTSTAMP:20260423T054340
CREATED:20240911T005142Z
LAST-MODIFIED:20240911T005142Z
UID:10035815-1798992000-1799006400@urbancasual.ca
SUMMARY:SUNDAY JAM AT THE VENUE
DESCRIPTION:The Sunday Jam is back at the Venue starting October 6th! \nFeaturing Allen Christie. \nWINGS $10 OFF \nHAPPY HOUR 2PM TO 8PM \n  \n 
URL:https://urbancasual.ca/cochrane-event/sunday-jam-at-the-venue/2027-01-03/
LOCATION:VENUE SPORTSBAR AND GRILL
CATEGORIES:Entertainment & Games,Music
ATTACH;FMTTYPE=image/jpeg:https://urbancasual.ca/wp-content/uploads/2024/09/inbound1307443098528191419.jpg
END:VEVENT
BEGIN:VEVENT
DTSTART;TZID=America/Edmonton:20270110T160000
DTEND;TZID=America/Edmonton:20270110T200000
DTSTAMP:20260423T054340
CREATED:20240911T005142Z
LAST-MODIFIED:20240911T005142Z
UID:10035816-1799596800-1799611200@urbancasual.ca
SUMMARY:SUNDAY JAM AT THE VENUE
DESCRIPTION:The Sunday Jam is back at the Venue starting October 6th! \nFeaturing Allen Christie. \nWINGS $10 OFF \nHAPPY HOUR 2PM TO 8PM \n  \n 
URL:https://urbancasual.ca/cochrane-event/sunday-jam-at-the-venue/2027-01-10/
LOCATION:VENUE SPORTSBAR AND GRILL
CATEGORIES:Entertainment & Games,Music
ATTACH;FMTTYPE=image/jpeg:https://urbancasual.ca/wp-content/uploads/2024/09/inbound1307443098528191419.jpg
END:VEVENT
BEGIN:VEVENT
DTSTART;TZID=America/Edmonton:20270117T160000
DTEND;TZID=America/Edmonton:20270117T200000
DTSTAMP:20260423T054340
CREATED:20240911T005142Z
LAST-MODIFIED:20240911T005142Z
UID:10035817-1800201600-1800216000@urbancasual.ca
SUMMARY:SUNDAY JAM AT THE VENUE
DESCRIPTION:The Sunday Jam is back at the Venue starting October 6th! \nFeaturing Allen Christie. \nWINGS $10 OFF \nHAPPY HOUR 2PM TO 8PM \n  \n 
URL:https://urbancasual.ca/cochrane-event/sunday-jam-at-the-venue/2027-01-17/
LOCATION:VENUE SPORTSBAR AND GRILL
CATEGORIES:Entertainment & Games,Music
ATTACH;FMTTYPE=image/jpeg:https://urbancasual.ca/wp-content/uploads/2024/09/inbound1307443098528191419.jpg
END:VEVENT
BEGIN:VEVENT
DTSTART;TZID=America/Edmonton:20270124T160000
DTEND;TZID=America/Edmonton:20270124T200000
DTSTAMP:20260423T054340
CREATED:20240911T005142Z
LAST-MODIFIED:20240911T005142Z
UID:10035818-1800806400-1800820800@urbancasual.ca
SUMMARY:SUNDAY JAM AT THE VENUE
DESCRIPTION:The Sunday Jam is back at the Venue starting October 6th! \nFeaturing Allen Christie. \nWINGS $10 OFF \nHAPPY HOUR 2PM TO 8PM \n  \n 
URL:https://urbancasual.ca/cochrane-event/sunday-jam-at-the-venue/2027-01-24/
LOCATION:VENUE SPORTSBAR AND GRILL
CATEGORIES:Entertainment & Games,Music
ATTACH;FMTTYPE=image/jpeg:https://urbancasual.ca/wp-content/uploads/2024/09/inbound1307443098528191419.jpg
END:VEVENT
BEGIN:VEVENT
DTSTART;TZID=America/Edmonton:20270131T160000
DTEND;TZID=America/Edmonton:20270131T200000
DTSTAMP:20260423T054340
CREATED:20240911T005142Z
LAST-MODIFIED:20240911T005142Z
UID:10035819-1801411200-1801425600@urbancasual.ca
SUMMARY:SUNDAY JAM AT THE VENUE
DESCRIPTION:The Sunday Jam is back at the Venue starting October 6th! \nFeaturing Allen Christie. \nWINGS $10 OFF \nHAPPY HOUR 2PM TO 8PM \n  \n 
URL:https://urbancasual.ca/cochrane-event/sunday-jam-at-the-venue/2027-01-31/
LOCATION:VENUE SPORTSBAR AND GRILL
CATEGORIES:Entertainment & Games,Music
ATTACH;FMTTYPE=image/jpeg:https://urbancasual.ca/wp-content/uploads/2024/09/inbound1307443098528191419.jpg
END:VEVENT
BEGIN:VEVENT
DTSTART;TZID=America/Edmonton:20270207T160000
DTEND;TZID=America/Edmonton:20270207T200000
DTSTAMP:20260423T054340
CREATED:20240911T005142Z
LAST-MODIFIED:20240911T005142Z
UID:10035820-1802016000-1802030400@urbancasual.ca
SUMMARY:SUNDAY JAM AT THE VENUE
DESCRIPTION:The Sunday Jam is back at the Venue starting October 6th! \nFeaturing Allen Christie. \nWINGS $10 OFF \nHAPPY HOUR 2PM TO 8PM \n  \n 
URL:https://urbancasual.ca/cochrane-event/sunday-jam-at-the-venue/2027-02-07/
LOCATION:VENUE SPORTSBAR AND GRILL
CATEGORIES:Entertainment & Games,Music
ATTACH;FMTTYPE=image/jpeg:https://urbancasual.ca/wp-content/uploads/2024/09/inbound1307443098528191419.jpg
END:VEVENT
BEGIN:VEVENT
DTSTART;TZID=America/Edmonton:20270214T160000
DTEND;TZID=America/Edmonton:20270214T200000
DTSTAMP:20260423T054340
CREATED:20240911T005142Z
LAST-MODIFIED:20240911T005142Z
UID:10035821-1802620800-1802635200@urbancasual.ca
SUMMARY:SUNDAY JAM AT THE VENUE
DESCRIPTION:The Sunday Jam is back at the Venue starting October 6th! \nFeaturing Allen Christie. \nWINGS $10 OFF \nHAPPY HOUR 2PM TO 8PM \n  \n 
URL:https://urbancasual.ca/cochrane-event/sunday-jam-at-the-venue/2027-02-14/
LOCATION:VENUE SPORTSBAR AND GRILL
CATEGORIES:Entertainment & Games,Music
ATTACH;FMTTYPE=image/jpeg:https://urbancasual.ca/wp-content/uploads/2024/09/inbound1307443098528191419.jpg
END:VEVENT
BEGIN:VEVENT
DTSTART;TZID=America/Edmonton:20270221T160000
DTEND;TZID=America/Edmonton:20270221T200000
DTSTAMP:20260423T054340
CREATED:20240911T005142Z
LAST-MODIFIED:20240911T005142Z
UID:10035822-1803225600-1803240000@urbancasual.ca
SUMMARY:SUNDAY JAM AT THE VENUE
DESCRIPTION:The Sunday Jam is back at the Venue starting October 6th! \nFeaturing Allen Christie. \nWINGS $10 OFF \nHAPPY HOUR 2PM TO 8PM \n  \n 
URL:https://urbancasual.ca/cochrane-event/sunday-jam-at-the-venue/2027-02-21/
LOCATION:VENUE SPORTSBAR AND GRILL
CATEGORIES:Entertainment & Games,Music
ATTACH;FMTTYPE=image/jpeg:https://urbancasual.ca/wp-content/uploads/2024/09/inbound1307443098528191419.jpg
END:VEVENT
BEGIN:VEVENT
DTSTART;TZID=America/Edmonton:20270228T160000
DTEND;TZID=America/Edmonton:20270228T200000
DTSTAMP:20260423T054340
CREATED:20240911T005142Z
LAST-MODIFIED:20240911T005142Z
UID:10035823-1803830400-1803844800@urbancasual.ca
SUMMARY:SUNDAY JAM AT THE VENUE
DESCRIPTION:The Sunday Jam is back at the Venue starting October 6th! \nFeaturing Allen Christie. \nWINGS $10 OFF \nHAPPY HOUR 2PM TO 8PM \n  \n 
URL:https://urbancasual.ca/cochrane-event/sunday-jam-at-the-venue/2027-02-28/
LOCATION:VENUE SPORTSBAR AND GRILL
CATEGORIES:Entertainment & Games,Music
ATTACH;FMTTYPE=image/jpeg:https://urbancasual.ca/wp-content/uploads/2024/09/inbound1307443098528191419.jpg
END:VEVENT
END:VCALENDAR