BEGIN:VCALENDAR
VERSION:2.0
PRODID:-//Urbancasual.ca - ECPv6.15.20//NONSGML v1.0//EN
CALSCALE:GREGORIAN
METHOD:PUBLISH
X-ORIGINAL-URL:https://urbancasual.ca
X-WR-CALDESC:Events for Urbancasual.ca
REFRESH-INTERVAL;VALUE=DURATION:PT1H
X-Robots-Tag:noindex
X-PUBLISHED-TTL:PT1H
BEGIN:VTIMEZONE
TZID:America/Edmonton
BEGIN:DAYLIGHT
TZOFFSETFROM:-0700
TZOFFSETTO:-0600
TZNAME:MDT
DTSTART:20270314T090000
END:DAYLIGHT
BEGIN:STANDARD
TZOFFSETFROM:-0600
TZOFFSETTO:-0700
TZNAME:MST
DTSTART:20271107T080000
END:STANDARD
BEGIN:DAYLIGHT
TZOFFSETFROM:-0700
TZOFFSETTO:-0600
TZNAME:MDT
DTSTART:20280312T090000
END:DAYLIGHT
BEGIN:STANDARD
TZOFFSETFROM:-0600
TZOFFSETTO:-0700
TZNAME:MST
DTSTART:20281105T080000
END:STANDARD
BEGIN:DAYLIGHT
TZOFFSETFROM:-0700
TZOFFSETTO:-0600
TZNAME:MDT
DTSTART:20290311T090000
END:DAYLIGHT
BEGIN:STANDARD
TZOFFSETFROM:-0600
TZOFFSETTO:-0700
TZNAME:MST
DTSTART:20291104T080000
END:STANDARD
BEGIN:DAYLIGHT
TZOFFSETFROM:-0700
TZOFFSETTO:-0600
TZNAME:MDT
DTSTART:20300310T090000
END:DAYLIGHT
BEGIN:STANDARD
TZOFFSETFROM:-0600
TZOFFSETTO:-0700
TZNAME:MST
DTSTART:20301103T080000
END:STANDARD
END:VTIMEZONE
BEGIN:VEVENT
DTSTART;TZID=America/Edmonton:20281126T160000
DTEND;TZID=America/Edmonton:20281126T200000
DTSTAMP:20260425T184351
CREATED:20240911T005142Z
LAST-MODIFIED:20240911T005142Z
UID:10035914-1858867200-1858881600@urbancasual.ca
SUMMARY:SUNDAY JAM AT THE VENUE
DESCRIPTION:The Sunday Jam is back at the Venue starting October 6th! \nFeaturing Allen Christie. \nWINGS $10 OFF \nHAPPY HOUR 2PM TO 8PM \n  \n 
URL:https://urbancasual.ca/cochrane-event/sunday-jam-at-the-venue/2028-11-26/
LOCATION:VENUE SPORTSBAR AND GRILL
CATEGORIES:Entertainment & Games,Music
ATTACH;FMTTYPE=image/jpeg:https://urbancasual.ca/wp-content/uploads/2024/09/inbound1307443098528191419.jpg
END:VEVENT
BEGIN:VEVENT
DTSTART;TZID=America/Edmonton:20281203T160000
DTEND;TZID=America/Edmonton:20281203T200000
DTSTAMP:20260425T184351
CREATED:20240911T005142Z
LAST-MODIFIED:20240911T005142Z
UID:10035915-1859472000-1859486400@urbancasual.ca
SUMMARY:SUNDAY JAM AT THE VENUE
DESCRIPTION:The Sunday Jam is back at the Venue starting October 6th! \nFeaturing Allen Christie. \nWINGS $10 OFF \nHAPPY HOUR 2PM TO 8PM \n  \n 
URL:https://urbancasual.ca/cochrane-event/sunday-jam-at-the-venue/2028-12-03/
LOCATION:VENUE SPORTSBAR AND GRILL
CATEGORIES:Entertainment & Games,Music
ATTACH;FMTTYPE=image/jpeg:https://urbancasual.ca/wp-content/uploads/2024/09/inbound1307443098528191419.jpg
END:VEVENT
BEGIN:VEVENT
DTSTART;TZID=America/Edmonton:20281210T160000
DTEND;TZID=America/Edmonton:20281210T200000
DTSTAMP:20260425T184351
CREATED:20240911T005142Z
LAST-MODIFIED:20240911T005142Z
UID:10035916-1860076800-1860091200@urbancasual.ca
SUMMARY:SUNDAY JAM AT THE VENUE
DESCRIPTION:The Sunday Jam is back at the Venue starting October 6th! \nFeaturing Allen Christie. \nWINGS $10 OFF \nHAPPY HOUR 2PM TO 8PM \n  \n 
URL:https://urbancasual.ca/cochrane-event/sunday-jam-at-the-venue/2028-12-10/
LOCATION:VENUE SPORTSBAR AND GRILL
CATEGORIES:Entertainment & Games,Music
ATTACH;FMTTYPE=image/jpeg:https://urbancasual.ca/wp-content/uploads/2024/09/inbound1307443098528191419.jpg
END:VEVENT
BEGIN:VEVENT
DTSTART;TZID=America/Edmonton:20281217T160000
DTEND;TZID=America/Edmonton:20281217T200000
DTSTAMP:20260425T184351
CREATED:20240911T005142Z
LAST-MODIFIED:20240911T005142Z
UID:10035917-1860681600-1860696000@urbancasual.ca
SUMMARY:SUNDAY JAM AT THE VENUE
DESCRIPTION:The Sunday Jam is back at the Venue starting October 6th! \nFeaturing Allen Christie. \nWINGS $10 OFF \nHAPPY HOUR 2PM TO 8PM \n  \n 
URL:https://urbancasual.ca/cochrane-event/sunday-jam-at-the-venue/2028-12-17/
LOCATION:VENUE SPORTSBAR AND GRILL
CATEGORIES:Entertainment & Games,Music
ATTACH;FMTTYPE=image/jpeg:https://urbancasual.ca/wp-content/uploads/2024/09/inbound1307443098528191419.jpg
END:VEVENT
BEGIN:VEVENT
DTSTART;TZID=America/Edmonton:20281224T160000
DTEND;TZID=America/Edmonton:20281224T200000
DTSTAMP:20260425T184351
CREATED:20240911T005142Z
LAST-MODIFIED:20240911T005142Z
UID:10035918-1861286400-1861300800@urbancasual.ca
SUMMARY:SUNDAY JAM AT THE VENUE
DESCRIPTION:The Sunday Jam is back at the Venue starting October 6th! \nFeaturing Allen Christie. \nWINGS $10 OFF \nHAPPY HOUR 2PM TO 8PM \n  \n 
URL:https://urbancasual.ca/cochrane-event/sunday-jam-at-the-venue/2028-12-24/
LOCATION:VENUE SPORTSBAR AND GRILL
CATEGORIES:Entertainment & Games,Music
ATTACH;FMTTYPE=image/jpeg:https://urbancasual.ca/wp-content/uploads/2024/09/inbound1307443098528191419.jpg
END:VEVENT
BEGIN:VEVENT
DTSTART;TZID=America/Edmonton:20281231T160000
DTEND;TZID=America/Edmonton:20281231T200000
DTSTAMP:20260425T184351
CREATED:20240911T005142Z
LAST-MODIFIED:20240911T005142Z
UID:10035919-1861891200-1861905600@urbancasual.ca
SUMMARY:SUNDAY JAM AT THE VENUE
DESCRIPTION:The Sunday Jam is back at the Venue starting October 6th! \nFeaturing Allen Christie. \nWINGS $10 OFF \nHAPPY HOUR 2PM TO 8PM \n  \n 
URL:https://urbancasual.ca/cochrane-event/sunday-jam-at-the-venue/2028-12-31/
LOCATION:VENUE SPORTSBAR AND GRILL
CATEGORIES:Entertainment & Games,Music
ATTACH;FMTTYPE=image/jpeg:https://urbancasual.ca/wp-content/uploads/2024/09/inbound1307443098528191419.jpg
END:VEVENT
BEGIN:VEVENT
DTSTART;TZID=America/Edmonton:20290107T160000
DTEND;TZID=America/Edmonton:20290107T200000
DTSTAMP:20260425T184351
CREATED:20240911T005142Z
LAST-MODIFIED:20240911T005142Z
UID:10035920-1862496000-1862510400@urbancasual.ca
SUMMARY:SUNDAY JAM AT THE VENUE
DESCRIPTION:The Sunday Jam is back at the Venue starting October 6th! \nFeaturing Allen Christie. \nWINGS $10 OFF \nHAPPY HOUR 2PM TO 8PM \n  \n 
URL:https://urbancasual.ca/cochrane-event/sunday-jam-at-the-venue/2029-01-07/
LOCATION:VENUE SPORTSBAR AND GRILL
CATEGORIES:Entertainment & Games,Music
ATTACH;FMTTYPE=image/jpeg:https://urbancasual.ca/wp-content/uploads/2024/09/inbound1307443098528191419.jpg
END:VEVENT
BEGIN:VEVENT
DTSTART;TZID=America/Edmonton:20290114T160000
DTEND;TZID=America/Edmonton:20290114T200000
DTSTAMP:20260425T184351
CREATED:20240911T005142Z
LAST-MODIFIED:20240911T005142Z
UID:10035921-1863100800-1863115200@urbancasual.ca
SUMMARY:SUNDAY JAM AT THE VENUE
DESCRIPTION:The Sunday Jam is back at the Venue starting October 6th! \nFeaturing Allen Christie. \nWINGS $10 OFF \nHAPPY HOUR 2PM TO 8PM \n  \n 
URL:https://urbancasual.ca/cochrane-event/sunday-jam-at-the-venue/2029-01-14/
LOCATION:VENUE SPORTSBAR AND GRILL
CATEGORIES:Entertainment & Games,Music
ATTACH;FMTTYPE=image/jpeg:https://urbancasual.ca/wp-content/uploads/2024/09/inbound1307443098528191419.jpg
END:VEVENT
BEGIN:VEVENT
DTSTART;TZID=America/Edmonton:20290121T160000
DTEND;TZID=America/Edmonton:20290121T200000
DTSTAMP:20260425T184351
CREATED:20240911T005142Z
LAST-MODIFIED:20240911T005142Z
UID:10035922-1863705600-1863720000@urbancasual.ca
SUMMARY:SUNDAY JAM AT THE VENUE
DESCRIPTION:The Sunday Jam is back at the Venue starting October 6th! \nFeaturing Allen Christie. \nWINGS $10 OFF \nHAPPY HOUR 2PM TO 8PM \n  \n 
URL:https://urbancasual.ca/cochrane-event/sunday-jam-at-the-venue/2029-01-21/
LOCATION:VENUE SPORTSBAR AND GRILL
CATEGORIES:Entertainment & Games,Music
ATTACH;FMTTYPE=image/jpeg:https://urbancasual.ca/wp-content/uploads/2024/09/inbound1307443098528191419.jpg
END:VEVENT
BEGIN:VEVENT
DTSTART;TZID=America/Edmonton:20290128T160000
DTEND;TZID=America/Edmonton:20290128T200000
DTSTAMP:20260425T184351
CREATED:20240911T005142Z
LAST-MODIFIED:20240911T005142Z
UID:10035923-1864310400-1864324800@urbancasual.ca
SUMMARY:SUNDAY JAM AT THE VENUE
DESCRIPTION:The Sunday Jam is back at the Venue starting October 6th! \nFeaturing Allen Christie. \nWINGS $10 OFF \nHAPPY HOUR 2PM TO 8PM \n  \n 
URL:https://urbancasual.ca/cochrane-event/sunday-jam-at-the-venue/2029-01-28/
LOCATION:VENUE SPORTSBAR AND GRILL
CATEGORIES:Entertainment & Games,Music
ATTACH;FMTTYPE=image/jpeg:https://urbancasual.ca/wp-content/uploads/2024/09/inbound1307443098528191419.jpg
END:VEVENT
BEGIN:VEVENT
DTSTART;TZID=America/Edmonton:20290204T160000
DTEND;TZID=America/Edmonton:20290204T200000
DTSTAMP:20260425T184351
CREATED:20240911T005142Z
LAST-MODIFIED:20240911T005142Z
UID:10035924-1864915200-1864929600@urbancasual.ca
SUMMARY:SUNDAY JAM AT THE VENUE
DESCRIPTION:The Sunday Jam is back at the Venue starting October 6th! \nFeaturing Allen Christie. \nWINGS $10 OFF \nHAPPY HOUR 2PM TO 8PM \n  \n 
URL:https://urbancasual.ca/cochrane-event/sunday-jam-at-the-venue/2029-02-04/
LOCATION:VENUE SPORTSBAR AND GRILL
CATEGORIES:Entertainment & Games,Music
ATTACH;FMTTYPE=image/jpeg:https://urbancasual.ca/wp-content/uploads/2024/09/inbound1307443098528191419.jpg
END:VEVENT
BEGIN:VEVENT
DTSTART;TZID=America/Edmonton:20290211T160000
DTEND;TZID=America/Edmonton:20290211T200000
DTSTAMP:20260425T184351
CREATED:20240911T005142Z
LAST-MODIFIED:20240911T005142Z
UID:10035925-1865520000-1865534400@urbancasual.ca
SUMMARY:SUNDAY JAM AT THE VENUE
DESCRIPTION:The Sunday Jam is back at the Venue starting October 6th! \nFeaturing Allen Christie. \nWINGS $10 OFF \nHAPPY HOUR 2PM TO 8PM \n  \n 
URL:https://urbancasual.ca/cochrane-event/sunday-jam-at-the-venue/2029-02-11/
LOCATION:VENUE SPORTSBAR AND GRILL
CATEGORIES:Entertainment & Games,Music
ATTACH;FMTTYPE=image/jpeg:https://urbancasual.ca/wp-content/uploads/2024/09/inbound1307443098528191419.jpg
END:VEVENT
BEGIN:VEVENT
DTSTART;TZID=America/Edmonton:20290218T160000
DTEND;TZID=America/Edmonton:20290218T200000
DTSTAMP:20260425T184351
CREATED:20240911T005142Z
LAST-MODIFIED:20240911T005142Z
UID:10035926-1866124800-1866139200@urbancasual.ca
SUMMARY:SUNDAY JAM AT THE VENUE
DESCRIPTION:The Sunday Jam is back at the Venue starting October 6th! \nFeaturing Allen Christie. \nWINGS $10 OFF \nHAPPY HOUR 2PM TO 8PM \n  \n 
URL:https://urbancasual.ca/cochrane-event/sunday-jam-at-the-venue/2029-02-18/
LOCATION:VENUE SPORTSBAR AND GRILL
CATEGORIES:Entertainment & Games,Music
ATTACH;FMTTYPE=image/jpeg:https://urbancasual.ca/wp-content/uploads/2024/09/inbound1307443098528191419.jpg
END:VEVENT
BEGIN:VEVENT
DTSTART;TZID=America/Edmonton:20290225T160000
DTEND;TZID=America/Edmonton:20290225T200000
DTSTAMP:20260425T184351
CREATED:20240911T005142Z
LAST-MODIFIED:20240911T005142Z
UID:10035927-1866729600-1866744000@urbancasual.ca
SUMMARY:SUNDAY JAM AT THE VENUE
DESCRIPTION:The Sunday Jam is back at the Venue starting October 6th! \nFeaturing Allen Christie. \nWINGS $10 OFF \nHAPPY HOUR 2PM TO 8PM \n  \n 
URL:https://urbancasual.ca/cochrane-event/sunday-jam-at-the-venue/2029-02-25/
LOCATION:VENUE SPORTSBAR AND GRILL
CATEGORIES:Entertainment & Games,Music
ATTACH;FMTTYPE=image/jpeg:https://urbancasual.ca/wp-content/uploads/2024/09/inbound1307443098528191419.jpg
END:VEVENT
BEGIN:VEVENT
DTSTART;TZID=America/Edmonton:20290304T160000
DTEND;TZID=America/Edmonton:20290304T200000
DTSTAMP:20260425T184351
CREATED:20240911T005142Z
LAST-MODIFIED:20240911T005142Z
UID:10035928-1867334400-1867348800@urbancasual.ca
SUMMARY:SUNDAY JAM AT THE VENUE
DESCRIPTION:The Sunday Jam is back at the Venue starting October 6th! \nFeaturing Allen Christie. \nWINGS $10 OFF \nHAPPY HOUR 2PM TO 8PM \n  \n 
URL:https://urbancasual.ca/cochrane-event/sunday-jam-at-the-venue/2029-03-04/
LOCATION:VENUE SPORTSBAR AND GRILL
CATEGORIES:Entertainment & Games,Music
ATTACH;FMTTYPE=image/jpeg:https://urbancasual.ca/wp-content/uploads/2024/09/inbound1307443098528191419.jpg
END:VEVENT
BEGIN:VEVENT
DTSTART;TZID=America/Edmonton:20290311T160000
DTEND;TZID=America/Edmonton:20290311T200000
DTSTAMP:20260425T184351
CREATED:20240911T005142Z
LAST-MODIFIED:20240911T005142Z
UID:10035929-1867939200-1867953600@urbancasual.ca
SUMMARY:SUNDAY JAM AT THE VENUE
DESCRIPTION:The Sunday Jam is back at the Venue starting October 6th! \nFeaturing Allen Christie. \nWINGS $10 OFF \nHAPPY HOUR 2PM TO 8PM \n  \n 
URL:https://urbancasual.ca/cochrane-event/sunday-jam-at-the-venue/2029-03-11/
LOCATION:VENUE SPORTSBAR AND GRILL
CATEGORIES:Entertainment & Games,Music
ATTACH;FMTTYPE=image/jpeg:https://urbancasual.ca/wp-content/uploads/2024/09/inbound1307443098528191419.jpg
END:VEVENT
BEGIN:VEVENT
DTSTART;TZID=America/Edmonton:20290318T160000
DTEND;TZID=America/Edmonton:20290318T200000
DTSTAMP:20260425T184351
CREATED:20240911T005142Z
LAST-MODIFIED:20240911T005142Z
UID:10035930-1868544000-1868558400@urbancasual.ca
SUMMARY:SUNDAY JAM AT THE VENUE
DESCRIPTION:The Sunday Jam is back at the Venue starting October 6th! \nFeaturing Allen Christie. \nWINGS $10 OFF \nHAPPY HOUR 2PM TO 8PM \n  \n 
URL:https://urbancasual.ca/cochrane-event/sunday-jam-at-the-venue/2029-03-18/
LOCATION:VENUE SPORTSBAR AND GRILL
CATEGORIES:Entertainment & Games,Music
ATTACH;FMTTYPE=image/jpeg:https://urbancasual.ca/wp-content/uploads/2024/09/inbound1307443098528191419.jpg
END:VEVENT
BEGIN:VEVENT
DTSTART;TZID=America/Edmonton:20290325T160000
DTEND;TZID=America/Edmonton:20290325T200000
DTSTAMP:20260425T184351
CREATED:20240911T005142Z
LAST-MODIFIED:20240911T005142Z
UID:10035931-1869148800-1869163200@urbancasual.ca
SUMMARY:SUNDAY JAM AT THE VENUE
DESCRIPTION:The Sunday Jam is back at the Venue starting October 6th! \nFeaturing Allen Christie. \nWINGS $10 OFF \nHAPPY HOUR 2PM TO 8PM \n  \n 
URL:https://urbancasual.ca/cochrane-event/sunday-jam-at-the-venue/2029-03-25/
LOCATION:VENUE SPORTSBAR AND GRILL
CATEGORIES:Entertainment & Games,Music
ATTACH;FMTTYPE=image/jpeg:https://urbancasual.ca/wp-content/uploads/2024/09/inbound1307443098528191419.jpg
END:VEVENT
BEGIN:VEVENT
DTSTART;TZID=America/Edmonton:20290401T160000
DTEND;TZID=America/Edmonton:20290401T200000
DTSTAMP:20260425T184351
CREATED:20240911T005142Z
LAST-MODIFIED:20240911T005142Z
UID:10035932-1869753600-1869768000@urbancasual.ca
SUMMARY:SUNDAY JAM AT THE VENUE
DESCRIPTION:The Sunday Jam is back at the Venue starting October 6th! \nFeaturing Allen Christie. \nWINGS $10 OFF \nHAPPY HOUR 2PM TO 8PM \n  \n 
URL:https://urbancasual.ca/cochrane-event/sunday-jam-at-the-venue/2029-04-01/
LOCATION:VENUE SPORTSBAR AND GRILL
CATEGORIES:Entertainment & Games,Music
ATTACH;FMTTYPE=image/jpeg:https://urbancasual.ca/wp-content/uploads/2024/09/inbound1307443098528191419.jpg
END:VEVENT
BEGIN:VEVENT
DTSTART;TZID=America/Edmonton:20290408T160000
DTEND;TZID=America/Edmonton:20290408T200000
DTSTAMP:20260425T184351
CREATED:20240911T005142Z
LAST-MODIFIED:20240911T005142Z
UID:10035933-1870358400-1870372800@urbancasual.ca
SUMMARY:SUNDAY JAM AT THE VENUE
DESCRIPTION:The Sunday Jam is back at the Venue starting October 6th! \nFeaturing Allen Christie. \nWINGS $10 OFF \nHAPPY HOUR 2PM TO 8PM \n  \n 
URL:https://urbancasual.ca/cochrane-event/sunday-jam-at-the-venue/2029-04-08/
LOCATION:VENUE SPORTSBAR AND GRILL
CATEGORIES:Entertainment & Games,Music
ATTACH;FMTTYPE=image/jpeg:https://urbancasual.ca/wp-content/uploads/2024/09/inbound1307443098528191419.jpg
END:VEVENT
BEGIN:VEVENT
DTSTART;TZID=America/Edmonton:20290415T160000
DTEND;TZID=America/Edmonton:20290415T200000
DTSTAMP:20260425T184351
CREATED:20240911T005142Z
LAST-MODIFIED:20240911T005142Z
UID:10035934-1870963200-1870977600@urbancasual.ca
SUMMARY:SUNDAY JAM AT THE VENUE
DESCRIPTION:The Sunday Jam is back at the Venue starting October 6th! \nFeaturing Allen Christie. \nWINGS $10 OFF \nHAPPY HOUR 2PM TO 8PM \n  \n 
URL:https://urbancasual.ca/cochrane-event/sunday-jam-at-the-venue/2029-04-15/
LOCATION:VENUE SPORTSBAR AND GRILL
CATEGORIES:Entertainment & Games,Music
ATTACH;FMTTYPE=image/jpeg:https://urbancasual.ca/wp-content/uploads/2024/09/inbound1307443098528191419.jpg
END:VEVENT
BEGIN:VEVENT
DTSTART;TZID=America/Edmonton:20290422T160000
DTEND;TZID=America/Edmonton:20290422T200000
DTSTAMP:20260425T184351
CREATED:20240911T005142Z
LAST-MODIFIED:20240911T005142Z
UID:10035935-1871568000-1871582400@urbancasual.ca
SUMMARY:SUNDAY JAM AT THE VENUE
DESCRIPTION:The Sunday Jam is back at the Venue starting October 6th! \nFeaturing Allen Christie. \nWINGS $10 OFF \nHAPPY HOUR 2PM TO 8PM \n  \n 
URL:https://urbancasual.ca/cochrane-event/sunday-jam-at-the-venue/2029-04-22/
LOCATION:VENUE SPORTSBAR AND GRILL
CATEGORIES:Entertainment & Games,Music
ATTACH;FMTTYPE=image/jpeg:https://urbancasual.ca/wp-content/uploads/2024/09/inbound1307443098528191419.jpg
END:VEVENT
BEGIN:VEVENT
DTSTART;TZID=America/Edmonton:20290429T160000
DTEND;TZID=America/Edmonton:20290429T200000
DTSTAMP:20260425T184351
CREATED:20240911T005142Z
LAST-MODIFIED:20240911T005142Z
UID:10035936-1872172800-1872187200@urbancasual.ca
SUMMARY:SUNDAY JAM AT THE VENUE
DESCRIPTION:The Sunday Jam is back at the Venue starting October 6th! \nFeaturing Allen Christie. \nWINGS $10 OFF \nHAPPY HOUR 2PM TO 8PM \n  \n 
URL:https://urbancasual.ca/cochrane-event/sunday-jam-at-the-venue/2029-04-29/
LOCATION:VENUE SPORTSBAR AND GRILL
CATEGORIES:Entertainment & Games,Music
ATTACH;FMTTYPE=image/jpeg:https://urbancasual.ca/wp-content/uploads/2024/09/inbound1307443098528191419.jpg
END:VEVENT
BEGIN:VEVENT
DTSTART;TZID=America/Edmonton:20290506T160000
DTEND;TZID=America/Edmonton:20290506T200000
DTSTAMP:20260425T184351
CREATED:20240911T005142Z
LAST-MODIFIED:20240911T005142Z
UID:10035937-1872777600-1872792000@urbancasual.ca
SUMMARY:SUNDAY JAM AT THE VENUE
DESCRIPTION:The Sunday Jam is back at the Venue starting October 6th! \nFeaturing Allen Christie. \nWINGS $10 OFF \nHAPPY HOUR 2PM TO 8PM \n  \n 
URL:https://urbancasual.ca/cochrane-event/sunday-jam-at-the-venue/2029-05-06/
LOCATION:VENUE SPORTSBAR AND GRILL
CATEGORIES:Entertainment & Games,Music
ATTACH;FMTTYPE=image/jpeg:https://urbancasual.ca/wp-content/uploads/2024/09/inbound1307443098528191419.jpg
END:VEVENT
BEGIN:VEVENT
DTSTART;TZID=America/Edmonton:20290513T160000
DTEND;TZID=America/Edmonton:20290513T200000
DTSTAMP:20260425T184351
CREATED:20240911T005142Z
LAST-MODIFIED:20240911T005142Z
UID:10035938-1873382400-1873396800@urbancasual.ca
SUMMARY:SUNDAY JAM AT THE VENUE
DESCRIPTION:The Sunday Jam is back at the Venue starting October 6th! \nFeaturing Allen Christie. \nWINGS $10 OFF \nHAPPY HOUR 2PM TO 8PM \n  \n 
URL:https://urbancasual.ca/cochrane-event/sunday-jam-at-the-venue/2029-05-13/
LOCATION:VENUE SPORTSBAR AND GRILL
CATEGORIES:Entertainment & Games,Music
ATTACH;FMTTYPE=image/jpeg:https://urbancasual.ca/wp-content/uploads/2024/09/inbound1307443098528191419.jpg
END:VEVENT
BEGIN:VEVENT
DTSTART;TZID=America/Edmonton:20290520T160000
DTEND;TZID=America/Edmonton:20290520T200000
DTSTAMP:20260425T184351
CREATED:20240911T005142Z
LAST-MODIFIED:20240911T005142Z
UID:10035939-1873987200-1874001600@urbancasual.ca
SUMMARY:SUNDAY JAM AT THE VENUE
DESCRIPTION:The Sunday Jam is back at the Venue starting October 6th! \nFeaturing Allen Christie. \nWINGS $10 OFF \nHAPPY HOUR 2PM TO 8PM \n  \n 
URL:https://urbancasual.ca/cochrane-event/sunday-jam-at-the-venue/2029-05-20/
LOCATION:VENUE SPORTSBAR AND GRILL
CATEGORIES:Entertainment & Games,Music
ATTACH;FMTTYPE=image/jpeg:https://urbancasual.ca/wp-content/uploads/2024/09/inbound1307443098528191419.jpg
END:VEVENT
BEGIN:VEVENT
DTSTART;TZID=America/Edmonton:20290527T160000
DTEND;TZID=America/Edmonton:20290527T200000
DTSTAMP:20260425T184351
CREATED:20240911T005142Z
LAST-MODIFIED:20240911T005142Z
UID:10035940-1874592000-1874606400@urbancasual.ca
SUMMARY:SUNDAY JAM AT THE VENUE
DESCRIPTION:The Sunday Jam is back at the Venue starting October 6th! \nFeaturing Allen Christie. \nWINGS $10 OFF \nHAPPY HOUR 2PM TO 8PM \n  \n 
URL:https://urbancasual.ca/cochrane-event/sunday-jam-at-the-venue/2029-05-27/
LOCATION:VENUE SPORTSBAR AND GRILL
CATEGORIES:Entertainment & Games,Music
ATTACH;FMTTYPE=image/jpeg:https://urbancasual.ca/wp-content/uploads/2024/09/inbound1307443098528191419.jpg
END:VEVENT
BEGIN:VEVENT
DTSTART;TZID=America/Edmonton:20290603T160000
DTEND;TZID=America/Edmonton:20290603T200000
DTSTAMP:20260425T184351
CREATED:20240911T005142Z
LAST-MODIFIED:20240911T005142Z
UID:10035941-1875196800-1875211200@urbancasual.ca
SUMMARY:SUNDAY JAM AT THE VENUE
DESCRIPTION:The Sunday Jam is back at the Venue starting October 6th! \nFeaturing Allen Christie. \nWINGS $10 OFF \nHAPPY HOUR 2PM TO 8PM \n  \n 
URL:https://urbancasual.ca/cochrane-event/sunday-jam-at-the-venue/2029-06-03/
LOCATION:VENUE SPORTSBAR AND GRILL
CATEGORIES:Entertainment & Games,Music
ATTACH;FMTTYPE=image/jpeg:https://urbancasual.ca/wp-content/uploads/2024/09/inbound1307443098528191419.jpg
END:VEVENT
BEGIN:VEVENT
DTSTART;TZID=America/Edmonton:20290610T160000
DTEND;TZID=America/Edmonton:20290610T200000
DTSTAMP:20260425T184351
CREATED:20240911T005142Z
LAST-MODIFIED:20240911T005142Z
UID:10035942-1875801600-1875816000@urbancasual.ca
SUMMARY:SUNDAY JAM AT THE VENUE
DESCRIPTION:The Sunday Jam is back at the Venue starting October 6th! \nFeaturing Allen Christie. \nWINGS $10 OFF \nHAPPY HOUR 2PM TO 8PM \n  \n 
URL:https://urbancasual.ca/cochrane-event/sunday-jam-at-the-venue/2029-06-10/
LOCATION:VENUE SPORTSBAR AND GRILL
CATEGORIES:Entertainment & Games,Music
ATTACH;FMTTYPE=image/jpeg:https://urbancasual.ca/wp-content/uploads/2024/09/inbound1307443098528191419.jpg
END:VEVENT
BEGIN:VEVENT
DTSTART;TZID=America/Edmonton:20290617T160000
DTEND;TZID=America/Edmonton:20290617T200000
DTSTAMP:20260425T184351
CREATED:20240911T005142Z
LAST-MODIFIED:20240911T005142Z
UID:10035943-1876406400-1876420800@urbancasual.ca
SUMMARY:SUNDAY JAM AT THE VENUE
DESCRIPTION:The Sunday Jam is back at the Venue starting October 6th! \nFeaturing Allen Christie. \nWINGS $10 OFF \nHAPPY HOUR 2PM TO 8PM \n  \n 
URL:https://urbancasual.ca/cochrane-event/sunday-jam-at-the-venue/2029-06-17/
LOCATION:VENUE SPORTSBAR AND GRILL
CATEGORIES:Entertainment & Games,Music
ATTACH;FMTTYPE=image/jpeg:https://urbancasual.ca/wp-content/uploads/2024/09/inbound1307443098528191419.jpg
END:VEVENT
END:VCALENDAR