BEGIN:VCALENDAR
VERSION:2.0
PRODID:-//Urbancasual.ca - ECPv6.15.20//NONSGML v1.0//EN
CALSCALE:GREGORIAN
METHOD:PUBLISH
X-WR-CALNAME:Urbancasual.ca
X-ORIGINAL-URL:https://urbancasual.ca
X-WR-CALDESC:Events for Urbancasual.ca
REFRESH-INTERVAL;VALUE=DURATION:PT1H
X-Robots-Tag:noindex
X-PUBLISHED-TTL:PT1H
BEGIN:VTIMEZONE
TZID:America/Edmonton
BEGIN:DAYLIGHT
TZOFFSETFROM:-0700
TZOFFSETTO:-0600
TZNAME:MDT
DTSTART:20250309T090000
END:DAYLIGHT
BEGIN:STANDARD
TZOFFSETFROM:-0600
TZOFFSETTO:-0700
TZNAME:MST
DTSTART:20251102T080000
END:STANDARD
BEGIN:DAYLIGHT
TZOFFSETFROM:-0700
TZOFFSETTO:-0600
TZNAME:MDT
DTSTART:20260308T090000
END:DAYLIGHT
BEGIN:STANDARD
TZOFFSETFROM:-0600
TZOFFSETTO:-0700
TZNAME:MST
DTSTART:20261101T080000
END:STANDARD
BEGIN:DAYLIGHT
TZOFFSETFROM:-0700
TZOFFSETTO:-0600
TZNAME:MDT
DTSTART:20270314T090000
END:DAYLIGHT
BEGIN:STANDARD
TZOFFSETFROM:-0600
TZOFFSETTO:-0700
TZNAME:MST
DTSTART:20271107T080000
END:STANDARD
END:VTIMEZONE
BEGIN:VEVENT
DTSTART;TZID=America/Edmonton:20260522T140000
DTEND;TZID=America/Edmonton:20260522T180000
DTSTAMP:20260424T091619
CREATED:20260421T224057Z
LAST-MODIFIED:20260421T224057Z
UID:10059697-1779458400-1779472800@urbancasual.ca
SUMMARY:GARAGE SALE - KIWANIS
DESCRIPTION:Kiwanis Garage Sale is coming \n\n\nClear some space in your schedule and come find great deals while supporting local kids.\n\n\n\n May 22 from 2 PM to 6 PM\n May 23 from 10 AM to 3 PM\n\n 1 Glenbrook Bay\n\n\n\nEvery dollar raised goes directly back into projects that support kids in Cochrane and area.\n\n\n\nYou will find hidden treasures\, everyday items\, and plenty of bargains.\n\n\n\nWe are also accepting donations.\n\n\n\n Want details or have items to donate\n\nCheck out our event page\nhttps://cochranekiwanis.com/events/\n\n\n\nBring a friend. Come early. The best finds do not last long.\n\n\nSupport local. Support kids. Make an impact.
URL:https://urbancasual.ca/cochrane-event/garage-sale-kiwanis/2026-05-22/
CATEGORIES:Community,Fundraiser,Garage Sales
ATTACH;FMTTYPE=image/jpeg:https://urbancasual.ca/wp-content/uploads/2026/04/inbound7516755900088056645.jpg
END:VEVENT
BEGIN:VEVENT
DTSTART;TZID=America/Edmonton:20260523T100000
DTEND;TZID=America/Edmonton:20260523T150000
DTSTAMP:20260424T091619
CREATED:20260421T224057Z
LAST-MODIFIED:20260421T224057Z
UID:10059698-1779530400-1779548400@urbancasual.ca
SUMMARY:GARAGE SALE - KIWANIS
DESCRIPTION:Kiwanis Garage Sale is coming \n\n\nClear some space in your schedule and come find great deals while supporting local kids.\n\n\n\n May 22 from 2 PM to 6 PM\n May 23 from 10 AM to 3 PM\n\n 1 Glenbrook Bay\n\n\n\nEvery dollar raised goes directly back into projects that support kids in Cochrane and area.\n\n\n\nYou will find hidden treasures\, everyday items\, and plenty of bargains.\n\n\n\nWe are also accepting donations.\n\n\n\n Want details or have items to donate\n\nCheck out our event page\nhttps://cochranekiwanis.com/events/\n\n\n\nBring a friend. Come early. The best finds do not last long.\n\n\nSupport local. Support kids. Make an impact.
URL:https://urbancasual.ca/cochrane-event/garage-sale-kiwanis/2026-05-23/
CATEGORIES:Community,Fundraiser,Garage Sales
ATTACH;FMTTYPE=image/jpeg:https://urbancasual.ca/wp-content/uploads/2026/04/inbound7516755900088056645.jpg
END:VEVENT
END:VCALENDAR