BEGIN:VCALENDAR
VERSION:2.0
PRODID:-//Urbancasual.ca - ECPv6.15.20//NONSGML v1.0//EN
CALSCALE:GREGORIAN
METHOD:PUBLISH
X-WR-CALNAME:Urbancasual.ca
X-ORIGINAL-URL:https://urbancasual.ca
X-WR-CALDESC:Events for Urbancasual.ca
REFRESH-INTERVAL;VALUE=DURATION:PT1H
X-Robots-Tag:noindex
X-PUBLISHED-TTL:PT1H
BEGIN:VTIMEZONE
TZID:America/Edmonton
BEGIN:DAYLIGHT
TZOFFSETFROM:-0700
TZOFFSETTO:-0600
TZNAME:MDT
DTSTART:20250309T090000
END:DAYLIGHT
BEGIN:STANDARD
TZOFFSETFROM:-0600
TZOFFSETTO:-0700
TZNAME:MST
DTSTART:20251102T080000
END:STANDARD
BEGIN:DAYLIGHT
TZOFFSETFROM:-0700
TZOFFSETTO:-0600
TZNAME:MDT
DTSTART:20260308T090000
END:DAYLIGHT
BEGIN:STANDARD
TZOFFSETFROM:-0600
TZOFFSETTO:-0700
TZNAME:MST
DTSTART:20261101T080000
END:STANDARD
BEGIN:DAYLIGHT
TZOFFSETFROM:-0700
TZOFFSETTO:-0600
TZNAME:MDT
DTSTART:20270314T090000
END:DAYLIGHT
BEGIN:STANDARD
TZOFFSETFROM:-0600
TZOFFSETTO:-0700
TZNAME:MST
DTSTART:20271107T080000
END:STANDARD
END:VTIMEZONE
BEGIN:VEVENT
DTSTART;TZID=America/Edmonton:20260501T160000
DTEND;TZID=America/Edmonton:20260501T200000
DTSTAMP:20260425T050043
CREATED:20260421T211341Z
LAST-MODIFIED:20260421T211341Z
UID:10059617-1777651200-1777665600@urbancasual.ca
SUMMARY:CAST at The Common Works in Cochrane
DESCRIPTION:We’re pleased to share that The Common Works is a Community Sponsor for CAST 2026\, the Calgary Artists Studio Tour!\n\nCAST is a self guided art weekend that invites the public to explore artists’ studios across Calgary and surrounding areas\, meet artists in person\, learn about their creative process\, and purchase original work directly from them.\n\nThis year\, a wonderful group of Cochrane and area artists has chosen the Makespace at The Common Works as their temporary studio for the weekend. We are especially proud to see such a strong number of Cochrane artists participating this year. This is sure to be a stop on the tour not to be missed.\n\nWe’ll be opening our doors to art lovers\, collectors\, and visitors to come meet the artists\, experience their work up close\, and be part of this vibrant celebration of local art.\n\nJoin us May 1 to 3\, 2026\nFriday 4 PM to 8 PMSaturday 12 PM to 5 PMSunday 12 PM to 5 PM
URL:https://urbancasual.ca/cochrane-event/cast-at-the-common-works-in-cochrane/2026-05-01/
CATEGORIES:Art,Business,Community,Gallery
ATTACH;FMTTYPE=image/jpeg:https://urbancasual.ca/wp-content/uploads/2026/04/661631796_122150887322987411_9114317517847005235_n.jpg
END:VEVENT
BEGIN:VEVENT
DTSTART;TZID=America/Edmonton:20260502T120000
DTEND;TZID=America/Edmonton:20260502T170000
DTSTAMP:20260425T050043
CREATED:20260421T211341Z
LAST-MODIFIED:20260421T211341Z
UID:10059618-1777723200-1777741200@urbancasual.ca
SUMMARY:CAST at The Common Works in Cochrane
DESCRIPTION:We’re pleased to share that The Common Works is a Community Sponsor for CAST 2026\, the Calgary Artists Studio Tour!\n\nCAST is a self guided art weekend that invites the public to explore artists’ studios across Calgary and surrounding areas\, meet artists in person\, learn about their creative process\, and purchase original work directly from them.\n\nThis year\, a wonderful group of Cochrane and area artists has chosen the Makespace at The Common Works as their temporary studio for the weekend. We are especially proud to see such a strong number of Cochrane artists participating this year. This is sure to be a stop on the tour not to be missed.\n\nWe’ll be opening our doors to art lovers\, collectors\, and visitors to come meet the artists\, experience their work up close\, and be part of this vibrant celebration of local art.\n\nJoin us May 1 to 3\, 2026\nFriday 4 PM to 8 PMSaturday 12 PM to 5 PMSunday 12 PM to 5 PM
URL:https://urbancasual.ca/cochrane-event/cast-at-the-common-works-in-cochrane/2026-05-02/
CATEGORIES:Art,Business,Community,Gallery
ATTACH;FMTTYPE=image/jpeg:https://urbancasual.ca/wp-content/uploads/2026/04/661631796_122150887322987411_9114317517847005235_n.jpg
END:VEVENT
BEGIN:VEVENT
DTSTART;TZID=America/Edmonton:20260503T120000
DTEND;TZID=America/Edmonton:20260503T170000
DTSTAMP:20260425T050043
CREATED:20260421T211341Z
LAST-MODIFIED:20260421T211341Z
UID:10059619-1777809600-1777827600@urbancasual.ca
SUMMARY:CAST at The Common Works in Cochrane
DESCRIPTION:We’re pleased to share that The Common Works is a Community Sponsor for CAST 2026\, the Calgary Artists Studio Tour!\n\nCAST is a self guided art weekend that invites the public to explore artists’ studios across Calgary and surrounding areas\, meet artists in person\, learn about their creative process\, and purchase original work directly from them.\n\nThis year\, a wonderful group of Cochrane and area artists has chosen the Makespace at The Common Works as their temporary studio for the weekend. We are especially proud to see such a strong number of Cochrane artists participating this year. This is sure to be a stop on the tour not to be missed.\n\nWe’ll be opening our doors to art lovers\, collectors\, and visitors to come meet the artists\, experience their work up close\, and be part of this vibrant celebration of local art.\n\nJoin us May 1 to 3\, 2026\nFriday 4 PM to 8 PMSaturday 12 PM to 5 PMSunday 12 PM to 5 PM
URL:https://urbancasual.ca/cochrane-event/cast-at-the-common-works-in-cochrane/2026-05-03/
CATEGORIES:Art,Business,Community,Gallery
ATTACH;FMTTYPE=image/jpeg:https://urbancasual.ca/wp-content/uploads/2026/04/661631796_122150887322987411_9114317517847005235_n.jpg
END:VEVENT
END:VCALENDAR