BEGIN:VCALENDAR
VERSION:2.0
PRODID:-//Urbancasual.ca - ECPv6.15.20//NONSGML v1.0//EN
CALSCALE:GREGORIAN
METHOD:PUBLISH
X-WR-CALNAME:Urbancasual.ca
X-ORIGINAL-URL:https://urbancasual.ca
X-WR-CALDESC:Events for Urbancasual.ca
REFRESH-INTERVAL;VALUE=DURATION:PT1H
X-Robots-Tag:noindex
X-PUBLISHED-TTL:PT1H
BEGIN:VTIMEZONE
TZID:America/Edmonton
BEGIN:DAYLIGHT
TZOFFSETFROM:-0700
TZOFFSETTO:-0600
TZNAME:MDT
DTSTART:20240310T090000
END:DAYLIGHT
BEGIN:STANDARD
TZOFFSETFROM:-0600
TZOFFSETTO:-0700
TZNAME:MST
DTSTART:20241103T080000
END:STANDARD
BEGIN:DAYLIGHT
TZOFFSETFROM:-0700
TZOFFSETTO:-0600
TZNAME:MDT
DTSTART:20250309T090000
END:DAYLIGHT
BEGIN:STANDARD
TZOFFSETFROM:-0600
TZOFFSETTO:-0700
TZNAME:MST
DTSTART:20251102T080000
END:STANDARD
BEGIN:DAYLIGHT
TZOFFSETFROM:-0700
TZOFFSETTO:-0600
TZNAME:MDT
DTSTART:20260308T090000
END:DAYLIGHT
BEGIN:STANDARD
TZOFFSETFROM:-0600
TZOFFSETTO:-0700
TZNAME:MST
DTSTART:20261101T080000
END:STANDARD
END:VTIMEZONE
BEGIN:VEVENT
DTSTART;TZID=America/Edmonton:20251118T190000
DTEND;TZID=America/Edmonton:20251118T210000
DTSTAMP:20260419T074045
CREATED:20251103T210820Z
LAST-MODIFIED:20251103T210820Z
UID:10051143-1763492400-1763499600@urbancasual.ca
SUMMARY:JAM & DRAW
DESCRIPTION:A welcoming space for musicians and artists at any skill level; play non-stop music with each other in an open circle\, “living room” setting! If you don’t play\, we will have a variety of art supplies available. \nThis space offers a chance to jam with friends and meet new people in your community. All instruments & genres (even spoken word/emcees) are welcome. This is a queer-friendly space. \nCover by donation: RSVP HERE
URL:https://urbancasual.ca/cochrane-event/jam-draw/
LOCATION:Found Book Shop\, 206 1st Street W\, Cochrane\, AB
CATEGORIES:Business,Community,Downtown,Entertainment & Games,Music,Networking,OPEN MIC,Pub/Bar Event,Youth
ATTACH;FMTTYPE=image/jpeg:https://urbancasual.ca/wp-content/uploads/2025/11/jam_and_draw_square_blue.jpg
END:VEVENT
BEGIN:VEVENT
DTSTART;TZID=America/Edmonton:20251120T180000
DTEND;TZID=America/Edmonton:20251120T193000
DTSTAMP:20260419T074045
CREATED:20251119T180113Z
LAST-MODIFIED:20251119T180113Z
UID:10051193-1763661600-1763667000@urbancasual.ca
SUMMARY:OUT-OF-PROVINCE UNIVERSITY FAIR
DESCRIPTION:🎉Cochrane Public Event!🎉 \nAre you located in the surrounding Cochrane area? Come visit the Alberta Out-Of-Province University Fair featuring 40+ post-secondary institutions from across Canada to learn more about programs\, admissions\, how to apply and more! \n📅 Thursday\, November 20\, 2025 from 6:00 p.m. – 7:30 p.m.\n📍Cochrane High SchooL \nWe hope to see you there! \n#CanadianUniversities #StudyInCanada #OutOfProvinceUniversityFairs #OutOfProvince #AlbertaOOP #AlbertaOOP2025 #StudyAcrossCanada
URL:https://urbancasual.ca/cochrane-event/out-of-province-university-fair/
LOCATION:Alberta
CATEGORIES:Community,Learning,Parents & Caregivers,School,Students,Youth
ATTACH;FMTTYPE=image/jpeg:https://urbancasual.ca/wp-content/uploads/2025/11/inbound3016209465969689525.jpg
END:VEVENT
BEGIN:VEVENT
DTSTART;TZID=America/Edmonton:20251120T183000
DTEND;TZID=America/Edmonton:20251120T200000
DTSTAMP:20260419T074045
CREATED:20251118T220653Z
LAST-MODIFIED:20251118T220653Z
UID:10051192-1763663400-1763668800@urbancasual.ca
SUMMARY:Parenting Neurodivergent Kids Without Losing Yourself Workshop
DESCRIPTION:Support your child’s ADHD\, autism\, or anxiety while protecting your own energy and well-being.
URL:https://urbancasual.ca/cochrane-event/parenting-neurodivergent-kids-without-losing-yourself-workshop/
LOCATION:The CLUB for Teens\, 204 Fifth Avenue\, Cochrane\, Alberta
CATEGORIES:Parents & Caregivers,Youth
ATTACH;FMTTYPE=image/jpeg:https://urbancasual.ca/wp-content/uploads/2025/11/IMG_6258.jpeg
ORGANIZER;CN="Village of Play":MAILTO:hello@villageofplay.com
END:VEVENT
END:VCALENDAR