BEGIN:VCALENDAR
VERSION:2.0
PRODID:-//Urbancasual.ca - ECPv6.15.20//NONSGML v1.0//EN
CALSCALE:GREGORIAN
METHOD:PUBLISH
X-ORIGINAL-URL:https://urbancasual.ca
X-WR-CALDESC:Events for Urbancasual.ca
REFRESH-INTERVAL;VALUE=DURATION:PT1H
X-Robots-Tag:noindex
X-PUBLISHED-TTL:PT1H
BEGIN:VTIMEZONE
TZID:America/Edmonton
BEGIN:DAYLIGHT
TZOFFSETFROM:-0700
TZOFFSETTO:-0600
TZNAME:MDT
DTSTART:20250309T090000
END:DAYLIGHT
BEGIN:STANDARD
TZOFFSETFROM:-0600
TZOFFSETTO:-0700
TZNAME:MST
DTSTART:20251102T080000
END:STANDARD
BEGIN:DAYLIGHT
TZOFFSETFROM:-0700
TZOFFSETTO:-0600
TZNAME:MDT
DTSTART:20260308T090000
END:DAYLIGHT
BEGIN:STANDARD
TZOFFSETFROM:-0600
TZOFFSETTO:-0700
TZNAME:MST
DTSTART:20261101T080000
END:STANDARD
BEGIN:DAYLIGHT
TZOFFSETFROM:-0700
TZOFFSETTO:-0600
TZNAME:MDT
DTSTART:20270314T090000
END:DAYLIGHT
BEGIN:STANDARD
TZOFFSETFROM:-0600
TZOFFSETTO:-0700
TZNAME:MST
DTSTART:20271107T080000
END:STANDARD
END:VTIMEZONE
BEGIN:VEVENT
DTSTART;TZID=America/Edmonton:20260411T190000
DTEND;TZID=America/Edmonton:20260411T210000
DTSTAMP:20260424T050034
CREATED:20260410T021005Z
LAST-MODIFIED:20260410T021021Z
UID:10059294-1775934000-1775941200@urbancasual.ca
SUMMARY:Free Public Swim
DESCRIPTION:Make a splash with us this Saturday\, April 11! \nCochrane Home Treasures is proud to sponsor a FREE Public Swim at the SLS Centre from 7:00 PM to 9:00 PM. \nAdmission is free\, but registration is required to reserve your spot. \nhttps://anc.ca.apm.activecommunities.com/slsc/activity/search?onlineSiteId=0&activity_select_param=2&activity_keyword=FREE%20Public%20Swim%20Sponsored%20by%20Cochrane%20Home%20Treasures&viewMode=list
URL:https://urbancasual.ca/cochrane-event/free-public-swim-april-11/
LOCATION:Spray Lake Sawmill Family Sports Centre\, 800 Griffin Road\, Cochrane\, AB
CATEGORIES:Community,Family Friendly,Fitness,Free,Health & Wellness,Parents & Caregivers,Spray Lakes Sawmill Rec Centre,swimming
ATTACH;FMTTYPE=image/jpeg:https://urbancasual.ca/wp-content/uploads/2026/04/669613533_1575627534564983_2591546550023656253_n.jpg
END:VEVENT
END:VCALENDAR