BEGIN:VCALENDAR
VERSION:2.0
PRODID:-//Urbancasual.ca - ECPv6.15.20//NONSGML v1.0//EN
CALSCALE:GREGORIAN
METHOD:PUBLISH
X-WR-CALNAME:Urbancasual.ca
X-ORIGINAL-URL:https://urbancasual.ca
X-WR-CALDESC:Events for Urbancasual.ca
REFRESH-INTERVAL;VALUE=DURATION:PT1H
X-Robots-Tag:noindex
X-PUBLISHED-TTL:PT1H
BEGIN:VTIMEZONE
TZID:America/Edmonton
BEGIN:DAYLIGHT
TZOFFSETFROM:-0700
TZOFFSETTO:-0600
TZNAME:MDT
DTSTART:20250309T090000
END:DAYLIGHT
BEGIN:STANDARD
TZOFFSETFROM:-0600
TZOFFSETTO:-0700
TZNAME:MST
DTSTART:20251102T080000
END:STANDARD
BEGIN:DAYLIGHT
TZOFFSETFROM:-0700
TZOFFSETTO:-0600
TZNAME:MDT
DTSTART:20260308T090000
END:DAYLIGHT
BEGIN:STANDARD
TZOFFSETFROM:-0600
TZOFFSETTO:-0700
TZNAME:MST
DTSTART:20261101T080000
END:STANDARD
BEGIN:DAYLIGHT
TZOFFSETFROM:-0700
TZOFFSETTO:-0600
TZNAME:MDT
DTSTART:20270314T090000
END:DAYLIGHT
BEGIN:STANDARD
TZOFFSETFROM:-0600
TZOFFSETTO:-0700
TZNAME:MST
DTSTART:20271107T080000
END:STANDARD
END:VTIMEZONE
BEGIN:VEVENT
DTSTART;VALUE=DATE:20260313
DTEND;VALUE=DATE:20260319
DTSTAMP:20260421T044119
CREATED:20260310T190553Z
LAST-MODIFIED:20260310T190605Z
UID:10056613-1773370800-1773802799@urbancasual.ca
SUMMARY:ST. PATRICK'S DAY AT HALF HITCH
DESCRIPTION:Join us at Half Hitch Brewing Company as we celebrate St. Patrick’s Day all weekend long — March 13–17! \nWe’re bringing back some Irish favourites with a special feature menu\, including: • The famous Spice Bag • Lamb Stew • Curry Chips n’ Cheese • Garlic Chips • Potato Pies \nOf course there will be green beer flowing\, plenty of good cheer\, and live music from The Drowsy Maggies:  \nSaturday | 6–9 PM  \nSunday | 12–2 PM Gather your crew\, wear your green\, and celebrate with us for a proper Irish good time. Sláinte! 
URL:https://urbancasual.ca/cochrane-event/st-patricks-day-at-half-hitch-2026/
LOCATION:Half Hitch Brewery
CATEGORIES:Entertainment & Games,Food,Pub/Bar Event,Restaurant,ST. PATRICK'S DAY
ATTACH;FMTTYPE=image/jpeg:https://urbancasual.ca/wp-content/uploads/2026/03/HALF-ST-PADDY.jpg
END:VEVENT
BEGIN:VEVENT
DTSTART;TZID=America/Edmonton:20260314T163000
DTEND;TZID=America/Edmonton:20260314T220000
DTSTAMP:20260421T044119
CREATED:20260225T200011Z
LAST-MODIFIED:20260310T191136Z
UID:10056268-1773505800-1773525600@urbancasual.ca
SUMMARY:St. Paddy's Day at The Legion
DESCRIPTION:Tickets available at the bar\nReserve your table today
URL:https://urbancasual.ca/cochrane-event/st-paddys-day-at-the-legion-2026/
LOCATION:The Legion\, 114 Fifth Ave\, Cochrane\, Canada
CATEGORIES:Adults Only,Community,Dance,Entertainment & Games,Legion,Music,Seniors,ST. PATRICK'S DAY
ATTACH;FMTTYPE=image/jpeg:https://urbancasual.ca/wp-content/uploads/2026/02/inbound3568248308958534680.jpg
END:VEVENT
BEGIN:VEVENT
DTSTART;TZID=America/Edmonton:20260314T210000
DTEND;TZID=America/Edmonton:20260315T010000
DTSTAMP:20260421T044119
CREATED:20260303T225547Z
LAST-MODIFIED:20260303T225947Z
UID:10056303-1773522000-1773536400@urbancasual.ca
SUMMARY:LIVE MUSIC AT THE VENUE
DESCRIPTION: COCHRANE’S BEST LIVE MUSIC – NO COVER ALL MONTH! March is PACKED at The Venue and we’re not charging a single cover. Just good vibes\, cold drinks\, and the best bands in town  March 7 – Siren’s GateRock\, pop\, dance & country party hits March 14 – The Contraband (St. Patrick’s Party!)Rock • Pop • Blues • Funk March 21 – KC & The Krew80’s to today’s pop\, dance\, R&B & rock March 28 – Black LightR&B • Pop • Rock & RollNo cover.No excuses.Just unforgettable nights at The Venue  79 Railway St E\, Cochrane European beers | Full kitchen | Late night energy
URL:https://urbancasual.ca/cochrane-event/venue-sportsbar-live-music-march-2026/2026-03-14/
LOCATION:VENUE SPORTSBAR AND GRILL
CATEGORIES:Entertainment & Games,Music,Pub/Bar Event,Restaurant,ST. PATRICK'S DAY
ATTACH;FMTTYPE=image/jpeg:https://urbancasual.ca/wp-content/uploads/2026/03/640063988_17962418187019573_1375149471078898680_n.jpg
END:VEVENT
END:VCALENDAR