BEGIN:VCALENDAR
VERSION:2.0
PRODID:-//Urbancasual.ca - ECPv6.15.20//NONSGML v1.0//EN
CALSCALE:GREGORIAN
METHOD:PUBLISH
X-WR-CALNAME:Urbancasual.ca
X-ORIGINAL-URL:https://urbancasual.ca
X-WR-CALDESC:Events for Urbancasual.ca
REFRESH-INTERVAL;VALUE=DURATION:PT1H
X-Robots-Tag:noindex
X-PUBLISHED-TTL:PT1H
BEGIN:VTIMEZONE
TZID:America/Edmonton
BEGIN:DAYLIGHT
TZOFFSETFROM:-0700
TZOFFSETTO:-0600
TZNAME:MDT
DTSTART:20250309T090000
END:DAYLIGHT
BEGIN:STANDARD
TZOFFSETFROM:-0600
TZOFFSETTO:-0700
TZNAME:MST
DTSTART:20251102T080000
END:STANDARD
BEGIN:DAYLIGHT
TZOFFSETFROM:-0700
TZOFFSETTO:-0600
TZNAME:MDT
DTSTART:20260308T090000
END:DAYLIGHT
BEGIN:STANDARD
TZOFFSETFROM:-0600
TZOFFSETTO:-0700
TZNAME:MST
DTSTART:20261101T080000
END:STANDARD
BEGIN:DAYLIGHT
TZOFFSETFROM:-0700
TZOFFSETTO:-0600
TZNAME:MDT
DTSTART:20270314T090000
END:DAYLIGHT
BEGIN:STANDARD
TZOFFSETFROM:-0600
TZOFFSETTO:-0700
TZNAME:MST
DTSTART:20271107T080000
END:STANDARD
END:VTIMEZONE
BEGIN:VEVENT
DTSTART;TZID=America/Edmonton:20260307T210000
DTEND;TZID=America/Edmonton:20260308T010000
DTSTAMP:20260421T015725
CREATED:20260303T225547Z
LAST-MODIFIED:20260303T225947Z
UID:10056302-1772917200-1772931600@urbancasual.ca
SUMMARY:LIVE MUSIC AT THE VENUE
DESCRIPTION: COCHRANE’S BEST LIVE MUSIC – NO COVER ALL MONTH! March is PACKED at The Venue and we’re not charging a single cover. Just good vibes\, cold drinks\, and the best bands in town  March 7 – Siren’s GateRock\, pop\, dance & country party hits March 14 – The Contraband (St. Patrick’s Party!)Rock • Pop • Blues • Funk March 21 – KC & The Krew80’s to today’s pop\, dance\, R&B & rock March 28 – Black LightR&B • Pop • Rock & RollNo cover.No excuses.Just unforgettable nights at The Venue  79 Railway St E\, Cochrane European beers | Full kitchen | Late night energy
URL:https://urbancasual.ca/cochrane-event/venue-sportsbar-live-music-march-2026/2026-03-07/
LOCATION:VENUE SPORTSBAR AND GRILL
CATEGORIES:Entertainment & Games,Music,Pub/Bar Event,Restaurant,ST. PATRICK'S DAY
ATTACH;FMTTYPE=image/jpeg:https://urbancasual.ca/wp-content/uploads/2026/03/640063988_17962418187019573_1375149471078898680_n.jpg
END:VEVENT
END:VCALENDAR