BEGIN:VCALENDAR
VERSION:2.0
PRODID:-//Urbancasual.ca - ECPv6.15.20//NONSGML v1.0//EN
CALSCALE:GREGORIAN
METHOD:PUBLISH
X-WR-CALNAME:Urbancasual.ca
X-ORIGINAL-URL:https://urbancasual.ca
X-WR-CALDESC:Events for Urbancasual.ca
REFRESH-INTERVAL;VALUE=DURATION:PT1H
X-Robots-Tag:noindex
X-PUBLISHED-TTL:PT1H
BEGIN:VTIMEZONE
TZID:America/Edmonton
BEGIN:DAYLIGHT
TZOFFSETFROM:-0700
TZOFFSETTO:-0600
TZNAME:MDT
DTSTART:20230312T090000
END:DAYLIGHT
BEGIN:STANDARD
TZOFFSETFROM:-0600
TZOFFSETTO:-0700
TZNAME:MST
DTSTART:20231105T080000
END:STANDARD
BEGIN:DAYLIGHT
TZOFFSETFROM:-0700
TZOFFSETTO:-0600
TZNAME:MDT
DTSTART:20240310T090000
END:DAYLIGHT
BEGIN:STANDARD
TZOFFSETFROM:-0600
TZOFFSETTO:-0700
TZNAME:MST
DTSTART:20241103T080000
END:STANDARD
BEGIN:DAYLIGHT
TZOFFSETFROM:-0700
TZOFFSETTO:-0600
TZNAME:MDT
DTSTART:20250309T090000
END:DAYLIGHT
BEGIN:STANDARD
TZOFFSETFROM:-0600
TZOFFSETTO:-0700
TZNAME:MST
DTSTART:20251102T080000
END:STANDARD
END:VTIMEZONE
BEGIN:VEVENT
DTSTART;VALUE=DATE:20241031
DTEND;VALUE=DATE:20241102
DTSTAMP:20260424T155717
CREATED:20241029T193310Z
LAST-MODIFIED:20241029T193310Z
UID:10037262-1730343600-1730429999@urbancasual.ca
SUMMARY:Seniors on the Bow Week at a Glance
DESCRIPTION:
URL:https://urbancasual.ca/cochrane-event/seniors-on-the-bow-week-at-a-glance/2024-10-31/
LOCATION:Seniors on the Bow\, 800 Griffin Road E.\, Cochrane\, AB\, Canada
CATEGORIES:Seniors,Spray Lakes Sawmill Rec Centre
ATTACH;FMTTYPE=image/jpeg:https://urbancasual.ca/wp-content/uploads/2024/10/464226935_864983349153080_2494967380440431654_n.jpg
END:VEVENT
BEGIN:VEVENT
DTSTART;VALUE=DATE:20241030
DTEND;VALUE=DATE:20241101
DTSTAMP:20260424T155717
CREATED:20241029T193310Z
LAST-MODIFIED:20241029T193310Z
UID:10037261-1730257200-1730343599@urbancasual.ca
SUMMARY:Seniors on the Bow Week at a Glance
DESCRIPTION:
URL:https://urbancasual.ca/cochrane-event/seniors-on-the-bow-week-at-a-glance/2024-10-30/
LOCATION:Seniors on the Bow\, 800 Griffin Road E.\, Cochrane\, AB\, Canada
CATEGORIES:Seniors,Spray Lakes Sawmill Rec Centre
ATTACH;FMTTYPE=image/jpeg:https://urbancasual.ca/wp-content/uploads/2024/10/464226935_864983349153080_2494967380440431654_n.jpg
END:VEVENT
BEGIN:VEVENT
DTSTART;VALUE=DATE:20241029
DTEND;VALUE=DATE:20241031
DTSTAMP:20260424T155717
CREATED:20241029T193310Z
LAST-MODIFIED:20241029T193310Z
UID:10037260-1730170800-1730257199@urbancasual.ca
SUMMARY:Seniors on the Bow Week at a Glance
DESCRIPTION:
URL:https://urbancasual.ca/cochrane-event/seniors-on-the-bow-week-at-a-glance/2024-10-29/
LOCATION:Seniors on the Bow\, 800 Griffin Road E.\, Cochrane\, AB\, Canada
CATEGORIES:Seniors,Spray Lakes Sawmill Rec Centre
ATTACH;FMTTYPE=image/jpeg:https://urbancasual.ca/wp-content/uploads/2024/10/464226935_864983349153080_2494967380440431654_n.jpg
END:VEVENT
BEGIN:VEVENT
DTSTART;VALUE=DATE:20241028
DTEND;VALUE=DATE:20241030
DTSTAMP:20260424T155717
CREATED:20241029T193310Z
LAST-MODIFIED:20241029T193310Z
UID:10037259-1730084400-1730170799@urbancasual.ca
SUMMARY:Seniors on the Bow Week at a Glance
DESCRIPTION:
URL:https://urbancasual.ca/cochrane-event/seniors-on-the-bow-week-at-a-glance/2024-10-28/
LOCATION:Seniors on the Bow\, 800 Griffin Road E.\, Cochrane\, AB\, Canada
CATEGORIES:Seniors,Spray Lakes Sawmill Rec Centre
ATTACH;FMTTYPE=image/jpeg:https://urbancasual.ca/wp-content/uploads/2024/10/464226935_864983349153080_2494967380440431654_n.jpg
END:VEVENT
BEGIN:VEVENT
DTSTART;TZID=America/Edmonton:20241026T201500
DTEND;TZID=America/Edmonton:20241026T223000
DTSTAMP:20260424T155717
CREATED:20240729T233018Z
LAST-MODIFIED:20241007T211155Z
UID:10035319-1729973700-1729981800@urbancasual.ca
SUMMARY:COCHRANE GENERALS AT HOME - OCTOBER
DESCRIPTION:FOR ALL THE COCHRANE GENERALS GAME INFO\, PLEASE VISIT OUR FEATURE. \nALL HOME GAMES ARE TO BE PLAYED AT THE SPRAY LAKES SAWMILL FAMILY REC CENTRE. \n  \nThe Cochrane Generals play their first regular game of the season at home on Friday\, October 11th against the High River Flyers at 8pm in the SLS Centre. Enjoy a Tailgate BBQ in the SLS Curling Parking Lot. BBQ served by Patsy’s Place. \nTicket information for the 2024/25 season is in the photo below + they are available at the front entrance of the SLS Centre for every home game. \n  \n 
URL:https://urbancasual.ca/cochrane-event/cochrane-generals-at-home-october-2024/2024-10-26/
LOCATION:Spray Lake Sawmill Family Sports Centre\, 800 Griffin Road\, Cochrane\, AB
CATEGORIES:Cochrane Generals,Community,Entertainment & Games,Family Friendly,Parents & Caregivers,Sports,Spray Lakes Sawmill Rec Centre
ATTACH;FMTTYPE=image/png:https://urbancasual.ca/wp-content/uploads/2024/07/OCT-GENS-2024-1.png
END:VEVENT
BEGIN:VEVENT
DTSTART;TZID=America/Edmonton:20241026T170000
DTEND;TZID=America/Edmonton:20241026T200000
DTSTAMP:20260424T155717
CREATED:20240930T223617Z
LAST-MODIFIED:20240930T223617Z
UID:10036207-1729962000-1729972800@urbancasual.ca
SUMMARY:TRUNK OR TREAT AT SLS CENTRE
DESCRIPTION:Join us at SLS Centre for our First Annual Trunk or Treat event!  Instead of going door to door\, families and little ones will visit spookily-decorated cars for fun activities\, games\, and of course—candy!  This event offers a safe\, fun\, and exciting Halloween experience for all. Learn more: slscentre.com/trunk-or-treat
URL:https://urbancasual.ca/cochrane-event/trunk-or-treat-at-sls-centre/
LOCATION:Spray Lake Sawmill Family Sports Centre\, 800 Griffin Road\, Cochrane\, AB
CATEGORIES:Community,Entertainment & Games,Family Friendly,HALLOWEEN 2024,Parents & Caregivers,Spray Lakes Sawmill Rec Centre
ATTACH;FMTTYPE=image/jpeg:https://urbancasual.ca/wp-content/uploads/2024/09/461488969_934011545414308_1908405569570252292_n.jpg
END:VEVENT
BEGIN:VEVENT
DTSTART;TZID=America/Edmonton:20241020T143000
DTEND;TZID=America/Edmonton:20241020T170000
DTSTAMP:20260424T155717
CREATED:20240729T233018Z
LAST-MODIFIED:20241007T211155Z
UID:10035318-1729434600-1729443600@urbancasual.ca
SUMMARY:COCHRANE GENERALS AT HOME - OCTOBER
DESCRIPTION:FOR ALL THE COCHRANE GENERALS GAME INFO\, PLEASE VISIT OUR FEATURE. \nALL HOME GAMES ARE TO BE PLAYED AT THE SPRAY LAKES SAWMILL FAMILY REC CENTRE. \n  \nThe Cochrane Generals play their first regular game of the season at home on Friday\, October 11th against the High River Flyers at 8pm in the SLS Centre. Enjoy a Tailgate BBQ in the SLS Curling Parking Lot. BBQ served by Patsy’s Place. \nTicket information for the 2024/25 season is in the photo below + they are available at the front entrance of the SLS Centre for every home game. \n  \n 
URL:https://urbancasual.ca/cochrane-event/cochrane-generals-at-home-october-2024/2024-10-20/
LOCATION:Spray Lake Sawmill Family Sports Centre\, 800 Griffin Road\, Cochrane\, AB
CATEGORIES:Cochrane Generals,Community,Entertainment & Games,Family Friendly,Parents & Caregivers,Sports,Spray Lakes Sawmill Rec Centre
ATTACH;FMTTYPE=image/png:https://urbancasual.ca/wp-content/uploads/2024/07/OCT-GENS-2024-1.png
END:VEVENT
BEGIN:VEVENT
DTSTART;TZID=America/Edmonton:20241018T200000
DTEND;TZID=America/Edmonton:20241018T230000
DTSTAMP:20260424T155717
CREATED:20240729T233018Z
LAST-MODIFIED:20241007T211155Z
UID:10035317-1729281600-1729292400@urbancasual.ca
SUMMARY:COCHRANE GENERALS AT HOME - OCTOBER
DESCRIPTION:FOR ALL THE COCHRANE GENERALS GAME INFO\, PLEASE VISIT OUR FEATURE. \nALL HOME GAMES ARE TO BE PLAYED AT THE SPRAY LAKES SAWMILL FAMILY REC CENTRE. \n  \nThe Cochrane Generals play their first regular game of the season at home on Friday\, October 11th against the High River Flyers at 8pm in the SLS Centre. Enjoy a Tailgate BBQ in the SLS Curling Parking Lot. BBQ served by Patsy’s Place. \nTicket information for the 2024/25 season is in the photo below + they are available at the front entrance of the SLS Centre for every home game. \n  \n 
URL:https://urbancasual.ca/cochrane-event/cochrane-generals-at-home-october-2024/2024-10-18/
LOCATION:Spray Lake Sawmill Family Sports Centre\, 800 Griffin Road\, Cochrane\, AB
CATEGORIES:Cochrane Generals,Community,Entertainment & Games,Family Friendly,Parents & Caregivers,Sports,Spray Lakes Sawmill Rec Centre
ATTACH;FMTTYPE=image/png:https://urbancasual.ca/wp-content/uploads/2024/07/OCT-GENS-2024-1.png
END:VEVENT
BEGIN:VEVENT
DTSTART;TZID=America/Edmonton:20241012T193000
DTEND;TZID=America/Edmonton:20241012T220000
DTSTAMP:20260424T155717
CREATED:20240729T233018Z
LAST-MODIFIED:20241007T211155Z
UID:10035316-1728761400-1728770400@urbancasual.ca
SUMMARY:COCHRANE GENERALS AT HOME - OCTOBER
DESCRIPTION:FOR ALL THE COCHRANE GENERALS GAME INFO\, PLEASE VISIT OUR FEATURE. \nALL HOME GAMES ARE TO BE PLAYED AT THE SPRAY LAKES SAWMILL FAMILY REC CENTRE. \n  \nThe Cochrane Generals play their first regular game of the season at home on Friday\, October 11th against the High River Flyers at 8pm in the SLS Centre. Enjoy a Tailgate BBQ in the SLS Curling Parking Lot. BBQ served by Patsy’s Place. \nTicket information for the 2024/25 season is in the photo below + they are available at the front entrance of the SLS Centre for every home game. \n  \n 
URL:https://urbancasual.ca/cochrane-event/cochrane-generals-at-home-october-2024/2024-10-12/
LOCATION:Spray Lake Sawmill Family Sports Centre\, 800 Griffin Road\, Cochrane\, AB
CATEGORIES:Cochrane Generals,Community,Entertainment & Games,Family Friendly,Parents & Caregivers,Sports,Spray Lakes Sawmill Rec Centre
ATTACH;FMTTYPE=image/png:https://urbancasual.ca/wp-content/uploads/2024/07/OCT-GENS-2024-1.png
END:VEVENT
BEGIN:VEVENT
DTSTART;TZID=America/Edmonton:20241012T190000
DTEND;TZID=America/Edmonton:20241012T210000
DTSTAMP:20260424T155717
CREATED:20240930T221658Z
LAST-MODIFIED:20240930T221658Z
UID:10036206-1728759600-1728766800@urbancasual.ca
SUMMARY:Free Public Swim Sponsored by Cochrane Home Treasures
DESCRIPTION:Everybody deserves the nice and the necessary! \n\nAdmission is free\, please register to reserve your spot.\n\nFree Community Public Swim brought to you by Home Treasures.\n\nSupervision requirements: 1 responsible person (16 years+) actively supervising and within arms reach for every 4 children under 8 years old. Protective\, water resistant swimwear mandatory for children under 36 months or anyone who may be incontinent.\nIntoxicated persons not permitted.\nMinimum height for waterslides: 41”.
URL:https://urbancasual.ca/cochrane-event/free-public-swim-sponsored-by-cochrane-home-treasures/
LOCATION:Spray Lake Sawmill Family Sports Centre\, 800 Griffin Road\, Cochrane\, AB
CATEGORIES:Family Friendly,Free,Parents & Caregivers,Spray Lakes Sawmill Rec Centre
ATTACH;FMTTYPE=image/png:https://urbancasual.ca/wp-content/uploads/2024/09/SLS-SIDEBAR-2.png
END:VEVENT
BEGIN:VEVENT
DTSTART;TZID=America/Edmonton:20241011T200000
DTEND;TZID=America/Edmonton:20241011T230000
DTSTAMP:20260424T155717
CREATED:20240729T233018Z
LAST-MODIFIED:20241007T211155Z
UID:10035315-1728676800-1728687600@urbancasual.ca
SUMMARY:COCHRANE GENERALS AT HOME - OCTOBER
DESCRIPTION:FOR ALL THE COCHRANE GENERALS GAME INFO\, PLEASE VISIT OUR FEATURE. \nALL HOME GAMES ARE TO BE PLAYED AT THE SPRAY LAKES SAWMILL FAMILY REC CENTRE. \n  \nThe Cochrane Generals play their first regular game of the season at home on Friday\, October 11th against the High River Flyers at 8pm in the SLS Centre. Enjoy a Tailgate BBQ in the SLS Curling Parking Lot. BBQ served by Patsy’s Place. \nTicket information for the 2024/25 season is in the photo below + they are available at the front entrance of the SLS Centre for every home game. \n  \n 
URL:https://urbancasual.ca/cochrane-event/cochrane-generals-at-home-october-2024/2024-10-11/
LOCATION:Spray Lake Sawmill Family Sports Centre\, 800 Griffin Road\, Cochrane\, AB
CATEGORIES:Cochrane Generals,Community,Entertainment & Games,Family Friendly,Parents & Caregivers,Sports,Spray Lakes Sawmill Rec Centre
ATTACH;FMTTYPE=image/png:https://urbancasual.ca/wp-content/uploads/2024/07/OCT-GENS-2024-1.png
END:VEVENT
BEGIN:VEVENT
DTSTART;TZID=America/Edmonton:20240908T110000
DTEND;TZID=America/Edmonton:20240908T170000
DTSTAMP:20260424T155717
CREATED:20240809T155944Z
LAST-MODIFIED:20240809T155944Z
UID:10035452-1725793200-1725814800@urbancasual.ca
SUMMARY:COCHRANE CULTURE DAYS SEPTEMBER 7 & 8
DESCRIPTION:Two days of terrific performances! \nJazz\, fok\, Irish\, pipe\, fusion bands and more. \nStoney Nakoda dancers from Mînî Thnî. \nThe huge Japanese Taiko drums. \nTaekwondo demonstration. Face painting. Twisted balloons for the kids. \nSaturday at the Farmers Market at the SLS Centre. (800 Griffin Road E) \nSunday on Main Street Historic Downtown during the Cochrane Classic Car Club Show ‘N’ Shine. \nCome celebrate with us!
URL:https://urbancasual.ca/cochrane-event/cochrane-culture-days-september-7-8/2024-09-08/
LOCATION:AB
CATEGORIES:Car Show,Community,Culture,Dance,Entertainment & Games,Family Friendly,Festival,Free,Music,Spray Lakes Sawmill Rec Centre
ATTACH;FMTTYPE=image/jpeg:https://urbancasual.ca/wp-content/uploads/2024/08/454721597_928309816000736_627018846199252185_n.jpg
ORGANIZER;CN="Cochrane Music Society":MAILTO:cochranemusicsociety@gmail.com
END:VEVENT
BEGIN:VEVENT
DTSTART;TZID=America/Edmonton:20240907T100000
DTEND;TZID=America/Edmonton:20240907T140000
DTSTAMP:20260424T155718
CREATED:20240809T155944Z
LAST-MODIFIED:20240809T155944Z
UID:10035451-1725703200-1725717600@urbancasual.ca
SUMMARY:COCHRANE CULTURE DAYS SEPTEMBER 7 & 8
DESCRIPTION:Two days of terrific performances! \nJazz\, fok\, Irish\, pipe\, fusion bands and more. \nStoney Nakoda dancers from Mînî Thnî. \nThe huge Japanese Taiko drums. \nTaekwondo demonstration. Face painting. Twisted balloons for the kids. \nSaturday at the Farmers Market at the SLS Centre. (800 Griffin Road E) \nSunday on Main Street Historic Downtown during the Cochrane Classic Car Club Show ‘N’ Shine. \nCome celebrate with us!
URL:https://urbancasual.ca/cochrane-event/cochrane-culture-days-september-7-8/2024-09-07/
LOCATION:AB
CATEGORIES:Car Show,Community,Culture,Dance,Entertainment & Games,Family Friendly,Festival,Free,Music,Spray Lakes Sawmill Rec Centre
ATTACH;FMTTYPE=image/jpeg:https://urbancasual.ca/wp-content/uploads/2024/08/454721597_928309816000736_627018846199252185_n.jpg
ORGANIZER;CN="Cochrane Music Society":MAILTO:cochranemusicsociety@gmail.com
END:VEVENT
END:VCALENDAR