BEGIN:VCALENDAR
VERSION:2.0
PRODID:-//Urbancasual.ca - ECPv6.15.20//NONSGML v1.0//EN
CALSCALE:GREGORIAN
METHOD:PUBLISH
X-WR-CALNAME:Urbancasual.ca
X-ORIGINAL-URL:https://urbancasual.ca
X-WR-CALDESC:Events for Urbancasual.ca
REFRESH-INTERVAL;VALUE=DURATION:PT1H
X-Robots-Tag:noindex
X-PUBLISHED-TTL:PT1H
BEGIN:VTIMEZONE
TZID:America/Edmonton
BEGIN:DAYLIGHT
TZOFFSETFROM:-0700
TZOFFSETTO:-0600
TZNAME:MDT
DTSTART:20240310T090000
END:DAYLIGHT
BEGIN:STANDARD
TZOFFSETFROM:-0600
TZOFFSETTO:-0700
TZNAME:MST
DTSTART:20241103T080000
END:STANDARD
BEGIN:DAYLIGHT
TZOFFSETFROM:-0700
TZOFFSETTO:-0600
TZNAME:MDT
DTSTART:20250309T090000
END:DAYLIGHT
BEGIN:STANDARD
TZOFFSETFROM:-0600
TZOFFSETTO:-0700
TZNAME:MST
DTSTART:20251102T080000
END:STANDARD
BEGIN:DAYLIGHT
TZOFFSETFROM:-0700
TZOFFSETTO:-0600
TZNAME:MDT
DTSTART:20260308T090000
END:DAYLIGHT
BEGIN:STANDARD
TZOFFSETFROM:-0600
TZOFFSETTO:-0700
TZNAME:MST
DTSTART:20261101T080000
END:STANDARD
END:VTIMEZONE
BEGIN:VEVENT
DTSTART;VALUE=DATE:20251008
DTEND;VALUE=DATE:20251010
DTSTAMP:20260421T095239
CREATED:20250925T220359Z
LAST-MODIFIED:20250925T220359Z
UID:10050484-1759892400-1759978799@urbancasual.ca
SUMMARY:Seniors on the Bow - October
DESCRIPTION:
URL:https://urbancasual.ca/cochrane-event/seniors-on-the-bow-october/2025-10-08/
LOCATION:Seniors on the Bow\, 800 Griffin Road E.\, Cochrane\, AB\, Canada
CATEGORIES:Adults Only,Club,Community,Entertainment & Games,Seniors
ATTACH;FMTTYPE=image/jpeg:https://urbancasual.ca/wp-content/uploads/2025/09/554213305_1112134614437951_395440828688893060_n.jpg
END:VEVENT
BEGIN:VEVENT
DTSTART;TZID=America/Edmonton:20251008T090000
DTEND;TZID=America/Edmonton:20251008T110000
DTSTAMP:20260421T095239
CREATED:20250813T192534Z
LAST-MODIFIED:20251103T225305Z
UID:10050139-1759914000-1759921200@urbancasual.ca
SUMMARY:Cochrane Baby Boomers Group Meet-Up - Wed AM
DESCRIPTION:EVERY WEDNESDAY – JOIN US AT ONE OR BOTH GROUPS! \nGROUP 1 – 9 TO 11AM AT THE LEGION – 114 FIFTH AVE. \nGROUP 2 – 2 TO 4PM AT THE VENUE – 79 RAILWAY ST.
URL:https://urbancasual.ca/cochrane-event/cochrane-baby-boomers-group-meet-up-wed-am/2025-10-08/
LOCATION:The Legion\, 114 Fifth Ave\, Cochrane\, Canada
CATEGORIES:Club,Community,Entertainment & Games,Networking,Seniors
ATTACH;FMTTYPE=image/jpeg:https://urbancasual.ca/wp-content/uploads/2025/08/574395226_845145031494292_977435042953266903_n.jpg
END:VEVENT
BEGIN:VEVENT
DTSTART;TZID=America/Edmonton:20251008T140000
DTEND;TZID=America/Edmonton:20251008T160000
DTSTAMP:20260421T095239
CREATED:20250813T193038Z
LAST-MODIFIED:20251103T225347Z
UID:10050177-1759932000-1759939200@urbancasual.ca
SUMMARY:Cochrane Baby Boomers Group Meet-Up - Wed PM
DESCRIPTION:EVERY WEDNESDAY – JOIN US AT ONE OR BOTH GROUPS! \nGROUP 1 – 9 TO 11AM AT LEGION – 114 5TH AVE \nGROUP 2 – 2 TO 4PM AT THE VENUE – 79 RAILWAY ST.
URL:https://urbancasual.ca/cochrane-event/cochrane-baby-boomers-group-meet-up-wed-pm/2025-10-08/
LOCATION:VENUE SPORTSBAR AND GRILL
CATEGORIES:Club,Community,Entertainment & Games,Networking,Seniors
ATTACH;FMTTYPE=image/jpeg:https://urbancasual.ca/wp-content/uploads/2025/08/574395226_845145031494292_977435042953266903_n.jpg
END:VEVENT
BEGIN:VEVENT
DTSTART;TZID=America/Edmonton:20251008T140000
DTEND;TZID=America/Edmonton:20251008T160000
DTSTAMP:20260421T095239
CREATED:20251003T213430Z
LAST-MODIFIED:20251003T213430Z
UID:10050564-1759932000-1759939200@urbancasual.ca
SUMMARY:SENIORS TOWN HALL WITH JEFF GENUNG
DESCRIPTION:Join Mayor Jeff Genung for free ice cream and coffee and talk about all things Cochrane.
URL:https://urbancasual.ca/cochrane-event/seniors-town-hall-with-jeff-genung/
LOCATION:The Lions Event Centre\, 109 5th Avenue\, Cochrane\, Alberta\, Canada
CATEGORIES:Community,Election,Politics,Seniors
ATTACH;FMTTYPE=image/jpeg:https://urbancasual.ca/wp-content/uploads/2025/10/556138184_1280120804129045_428790029799101606_n.jpg
END:VEVENT
BEGIN:VEVENT
DTSTART;TZID=America/Edmonton:20251008T183000
DTEND;TZID=America/Edmonton:20251008T213000
DTSTAMP:20260421T095239
CREATED:20250116T214838Z
LAST-MODIFIED:20250116T214838Z
UID:10043618-1759948200-1759959000@urbancasual.ca
SUMMARY:LEGION: POOL LEAGUE
DESCRIPTION:MONDAY AND WEDNESDAY NIGHTS AT 6:30PM \nCONTACT PACIFIC VENDING AT (587) 577-5434 \n  \n 
URL:https://urbancasual.ca/cochrane-event/legion-pool-league/2025-10-08/
LOCATION:The Legion\, 114 Fifth Ave\, Cochrane\, Canada
CATEGORIES:Adults Only,Community,Entertainment & Games,Networking,Parents & Caregivers,Seniors
ATTACH;FMTTYPE=image/jpeg:https://urbancasual.ca/wp-content/uploads/2025/01/image-asset-1.jpeg
END:VEVENT
END:VCALENDAR