BEGIN:VCALENDAR
VERSION:2.0
PRODID:-//Urbancasual.ca - ECPv6.15.20//NONSGML v1.0//EN
CALSCALE:GREGORIAN
METHOD:PUBLISH
X-WR-CALNAME:Urbancasual.ca
X-ORIGINAL-URL:https://urbancasual.ca
X-WR-CALDESC:Events for Urbancasual.ca
REFRESH-INTERVAL;VALUE=DURATION:PT1H
X-Robots-Tag:noindex
X-PUBLISHED-TTL:PT1H
BEGIN:VTIMEZONE
TZID:America/Edmonton
BEGIN:DAYLIGHT
TZOFFSETFROM:-0700
TZOFFSETTO:-0600
TZNAME:MDT
DTSTART:20250309T090000
END:DAYLIGHT
BEGIN:STANDARD
TZOFFSETFROM:-0600
TZOFFSETTO:-0700
TZNAME:MST
DTSTART:20251102T080000
END:STANDARD
BEGIN:DAYLIGHT
TZOFFSETFROM:-0700
TZOFFSETTO:-0600
TZNAME:MDT
DTSTART:20260308T090000
END:DAYLIGHT
BEGIN:STANDARD
TZOFFSETFROM:-0600
TZOFFSETTO:-0700
TZNAME:MST
DTSTART:20261101T080000
END:STANDARD
BEGIN:DAYLIGHT
TZOFFSETFROM:-0700
TZOFFSETTO:-0600
TZNAME:MDT
DTSTART:20270314T090000
END:DAYLIGHT
BEGIN:STANDARD
TZOFFSETFROM:-0600
TZOFFSETTO:-0700
TZNAME:MST
DTSTART:20271107T080000
END:STANDARD
END:VTIMEZONE
BEGIN:VEVENT
DTSTART;TZID=America/Edmonton:20260424T160000
DTEND;TZID=America/Edmonton:20260424T190000
DTSTAMP:20260421T165338
CREATED:20260413T225943Z
LAST-MODIFIED:20260413T225943Z
UID:10059312-1777046400-1777057200@urbancasual.ca
SUMMARY:Beyond the Pane Exhibition Opening Reception
DESCRIPTION:Route 22 proudly presents our next SOLO Exhibition in our downtown Cochrane Gallery location. \n“Beyond the Pane” – Art Exhibition featuring the art of local stained glass artist Sharon Pshyk. \nThis exhibition is showing from April 20 to May 24\, 2026. \nExperience the wonderful interplay of light and colour in Sharon’s unique glass creations alongside her use of materials from driftwood\, crystals\, beads\, and rocks! \nOpening Reception | Celebration:\nFriday – April 24\, 2026\nTime: 4:00 pm to 7:00 pm\nLocation: Route 22 Artist Collective Gallery\, Cochrane\, AB. \nRefreshments will be provided & all are welcome! \nVisit our website at www.route22gallery.com under Programming for more!
URL:https://urbancasual.ca/cochrane-event/beyond-the-pane-exhibition-opening-reception/
LOCATION:Route 22 Artist Collective Gallery\, 208 1st Street W.\, Cochrane\, Alberta\, Canada
CATEGORIES:Art,Downtown,Launch,Open House,Photography,Sale
ATTACH;FMTTYPE=image/jpeg:https://urbancasual.ca/wp-content/uploads/2026/04/Reception-Date.jpg
ORGANIZER;CN="Route 22 Artist Collective Gallery":MAILTO:INFO@ROUTE22GALLERY.COM
END:VEVENT
BEGIN:VEVENT
DTSTART;TZID=America/Edmonton:20260425T100000
DTEND;TZID=America/Edmonton:20260425T160000
DTSTAMP:20260421T165338
CREATED:20260329T013129Z
LAST-MODIFIED:20260329T013129Z
UID:10058637-1777111200-1777132800@urbancasual.ca
SUMMARY:2026 Spring Art Show & Sale
DESCRIPTION:The Foothills Art Club will present its Annual Spring Show & Sale on Saturday\, April 25 and Sunday\, April 26 at The Common Works\, 185 First Street East\, Cochrane. \nThe show runs from 10:00 a.m. to 4:00 p.m. \nAdmission is free. Free Draw for an original painting. \nThis year’s show also features artwork from talented students of Cochrane High School\, highlighting the next generation of local artists.
URL:https://urbancasual.ca/cochrane-event/2026-spring-art-show-sale/2026-04-25/
LOCATION:Alberta
CATEGORIES:Art,Community,Sale
ATTACH;FMTTYPE=image/jpeg:https://urbancasual.ca/wp-content/uploads/2026/03/2026-Spring-Sq-2526.jpg
END:VEVENT
BEGIN:VEVENT
DTSTART;VALUE=DATE:20260426
DTEND;VALUE=DATE:20260428
DTSTAMP:20260421T165338
CREATED:20260325T021639Z
LAST-MODIFIED:20260420T212315Z
UID:10057899-1777172400-1777258799@urbancasual.ca
SUMMARY:BIKE SWAP!
DESCRIPTION: BIKE COCHRANE BIKE SWAP\nSponsored by Southbow Landing & Qualico communities!\nSunday April 26th\, 2026\n***new location – sls centre – curling rink***\n9AM- 10AM → Bike in-take \n1030AM – 2PM → Bike sale (no sales before 1030AM) \n2PM – 230PM → Unsold bikes (hopefully none!)/cash sale pick-up \nBIKE COCHRANE BIKE SWAP RULES – PLEASE READ CAREFULLY \n\n\nRegistration Fee: sellers will pay $15 to register up to 3 bikes. If you are selling more than 3 bikes\, you will pay another $15. Non-refundable. Day of registration is $30 – CASH ONLY. \n\n\nBike Cochrane\, affiliated sponsors & volunteers are not responsible for any lost\, stolen or damaged items. \n\n\nEquipment consigned should be in good working order and clean\, no broken or damaged items please. Bike Cochrane reserves the right to not accept items that appear damaged. Safety bike checks can be done at Bike Bros or Big Hill Cycle. There will be no bike checks at the swap. \n\n\nSellers determine the sale price of their bike(s). \n\n\nPrices for items cannot be changed during the swap without approval of the seller\, if present. \n\n\nSales can be completed by cash\, or e-transfer directly to the seller. \n\n\nIf the buyer wishes to use a credit card through Bike Cochrane’s Square system\, an additional 2.5% of bike cost will be charged at the buyer’s expense. Bike Cochrane will not profit from the bike sale. Bike Cochrane will then send an e-transfer to the seller for the amount of the bike sale within a week. \n\n\nItems cannot be placed on hold during the swap. \n\n\nAll sales are ‘as is’. \n\n\nAll sales are final. No refunds will be given. \n\n\nAll unsold items must be picked up at the end of the swap between 2PM and 230PM. Unless notified\, you must come in person to find out if your bike sold. \n\n\nREGISTRATION CLOSES AT 9PM WEDNESDAY APRIL 22.
URL:https://urbancasual.ca/cochrane-event/save-the-date-bike-swap-2026/
LOCATION:Spray Lake Sawmill Family Sports Centre\, 800 Griffin Road\, Cochrane\, AB
CATEGORIES:Bike Cochrane,Community,Sale,Spray Lakes Sawmill Rec Centre
ATTACH;FMTTYPE=image/jpeg:https://urbancasual.ca/wp-content/uploads/2026/03/657759587_18312706534284359_370322710536774188_n.jpg
END:VEVENT
BEGIN:VEVENT
DTSTART;TZID=America/Edmonton:20260426T100000
DTEND;TZID=America/Edmonton:20260426T160000
DTSTAMP:20260421T165338
CREATED:20260329T013129Z
LAST-MODIFIED:20260329T013129Z
UID:10058638-1777197600-1777219200@urbancasual.ca
SUMMARY:2026 Spring Art Show & Sale
DESCRIPTION:The Foothills Art Club will present its Annual Spring Show & Sale on Saturday\, April 25 and Sunday\, April 26 at The Common Works\, 185 First Street East\, Cochrane. \nThe show runs from 10:00 a.m. to 4:00 p.m. \nAdmission is free. Free Draw for an original painting. \nThis year’s show also features artwork from talented students of Cochrane High School\, highlighting the next generation of local artists.
URL:https://urbancasual.ca/cochrane-event/2026-spring-art-show-sale/2026-04-26/
LOCATION:Alberta
CATEGORIES:Art,Community,Sale
ATTACH;FMTTYPE=image/jpeg:https://urbancasual.ca/wp-content/uploads/2026/03/2026-Spring-Sq-2526.jpg
END:VEVENT
END:VCALENDAR