BEGIN:VCALENDAR
VERSION:2.0
PRODID:-//Urbancasual.ca - ECPv6.15.20//NONSGML v1.0//EN
CALSCALE:GREGORIAN
METHOD:PUBLISH
X-WR-CALNAME:Urbancasual.ca
X-ORIGINAL-URL:https://urbancasual.ca
X-WR-CALDESC:Events for Urbancasual.ca
REFRESH-INTERVAL;VALUE=DURATION:PT1H
X-Robots-Tag:noindex
X-PUBLISHED-TTL:PT1H
BEGIN:VTIMEZONE
TZID:America/Edmonton
BEGIN:DAYLIGHT
TZOFFSETFROM:-0700
TZOFFSETTO:-0600
TZNAME:MDT
DTSTART:20250309T090000
END:DAYLIGHT
BEGIN:STANDARD
TZOFFSETFROM:-0600
TZOFFSETTO:-0700
TZNAME:MST
DTSTART:20251102T080000
END:STANDARD
BEGIN:DAYLIGHT
TZOFFSETFROM:-0700
TZOFFSETTO:-0600
TZNAME:MDT
DTSTART:20260308T090000
END:DAYLIGHT
BEGIN:STANDARD
TZOFFSETFROM:-0600
TZOFFSETTO:-0700
TZNAME:MST
DTSTART:20261101T080000
END:STANDARD
BEGIN:DAYLIGHT
TZOFFSETFROM:-0700
TZOFFSETTO:-0600
TZNAME:MDT
DTSTART:20270314T090000
END:DAYLIGHT
BEGIN:STANDARD
TZOFFSETFROM:-0600
TZOFFSETTO:-0700
TZNAME:MST
DTSTART:20271107T080000
END:STANDARD
END:VTIMEZONE
BEGIN:VEVENT
DTSTART;TZID=America/Edmonton:20260418T100000
DTEND;TZID=America/Edmonton:20260418T160000
DTSTAMP:20260420T001752
CREATED:20260409T012247Z
LAST-MODIFIED:20260413T202633Z
UID:10059167-1776506400-1776528000@urbancasual.ca
SUMMARY:SPRING BOOK SALE
DESCRIPTION:Join the Friends of the Cochrane Public Library on Saturday\, April 18 & Sunday\, April 19 at the beautiful Cochrane Ranchehouse for a weekend filled with books\, bargains\, and community spirit.\n\n\n\nBrowse a wide selection of gently used books for all ages and interests—perfect for building your home library while supporting a great local cause. Whether you’re a casual reader or a dedicated book lover\, you’re sure to find something special. Don’t miss this chance to stock up\, save money\, and support the library!\n\n\nSATURDAY APRIL 18 – 10AM TO 4PM\nSUNDAY APRIL 19 – 10AM TO 4PM
URL:https://urbancasual.ca/cochrane-event/spring-book-sale-2026/2026-04-18/
LOCATION:The Cochrane Ranchehouse\, 1 Ranchehouse Road\, Cochrane\, Alberta
CATEGORIES:book sale,Community,Fundraiser,Library,Sale
ATTACH;FMTTYPE=image/png:https://urbancasual.ca/wp-content/uploads/2026/04/book-sale.png
END:VEVENT
BEGIN:VEVENT
DTSTART;TZID=America/Edmonton:20260418T100000
DTEND;TZID=America/Edmonton:20260418T170000
DTSTAMP:20260420T001752
CREATED:20260410T021733Z
LAST-MODIFIED:20260416T174016Z
UID:10059295-1776506400-1776531600@urbancasual.ca
SUMMARY:50% off Everything Sale
DESCRIPTION:50% OFF EVERYTHING SALE on Saturday\, April 18! Come shop throughout the store and save 50% on everything for one day only! From home décor and furniture to clothing\, books\, kitchenware\, and more\, you never know what treasures you’ll find. Saturday\, April 18 10:00 AM – 5:00 PMEvery purchase helps us give back to the Cochrane community\, so thank you for shopping local and supporting Cochrane Home Treasures See you Saturday the 18th!
URL:https://urbancasual.ca/cochrane-event/50-off-everything-sale/
LOCATION:Alberta
CATEGORIES:Community,Fundraiser,Sale,Shopping
ATTACH;FMTTYPE=image/jpeg:https://urbancasual.ca/wp-content/uploads/2026/04/666778138_1574704174657319_4691106814639914570_n.jpg
END:VEVENT
BEGIN:VEVENT
DTSTART;TZID=America/Edmonton:20260418T170000
DTEND;TZID=America/Edmonton:20260418T190000
DTSTAMP:20260420T001752
CREATED:20260409T161014Z
LAST-MODIFIED:20260409T161014Z
UID:10059171-1776531600-1776538800@urbancasual.ca
SUMMARY:Spring Art Show - Opening Night!
DESCRIPTION:++This event sold out last time. Make sure to grab your (Pay As You Can\, by Donation) tickets to hold your spot!++\n\nJoin Us to Celebrate the Opening Night of our New Art Show!\nWe’re thrilled to invite you to come celebrate this important moment with us.\n\n– Visit the new art gallery exhibit and meet the artists.– Tour the makerspace and community arts centre.– Enjoy live music and light refreshments.\n\nWe look forward to welcoming you! Bring your friends and family.\n\nPlease note: This is a Pay What You Can event. Your donation helps advance our mission to support community well-being and mental health through engagement in the arts. Thank you!
URL:https://urbancasual.ca/cochrane-event/spring-art-show-opening-night/
LOCATION:The Common Works\, 185 First Street East\, Cochrane\, Alberta\, Canada
CATEGORIES:Art,Community,Family Friendly,Opening Night,Sale
ATTACH;FMTTYPE=image/jpeg:https://urbancasual.ca/wp-content/uploads/2026/04/666751575_122152593854987411_8115605449833054955_n.jpg
END:VEVENT
BEGIN:VEVENT
DTSTART;TZID=America/Edmonton:20260419T100000
DTEND;TZID=America/Edmonton:20260419T160000
DTSTAMP:20260420T001752
CREATED:20260409T012247Z
LAST-MODIFIED:20260413T202633Z
UID:10059168-1776592800-1776614400@urbancasual.ca
SUMMARY:SPRING BOOK SALE
DESCRIPTION:Join the Friends of the Cochrane Public Library on Saturday\, April 18 & Sunday\, April 19 at the beautiful Cochrane Ranchehouse for a weekend filled with books\, bargains\, and community spirit.\n\n\n\nBrowse a wide selection of gently used books for all ages and interests—perfect for building your home library while supporting a great local cause. Whether you’re a casual reader or a dedicated book lover\, you’re sure to find something special. Don’t miss this chance to stock up\, save money\, and support the library!\n\n\nSATURDAY APRIL 18 – 10AM TO 4PM\nSUNDAY APRIL 19 – 10AM TO 4PM
URL:https://urbancasual.ca/cochrane-event/spring-book-sale-2026/2026-04-19/
LOCATION:The Cochrane Ranchehouse\, 1 Ranchehouse Road\, Cochrane\, Alberta
CATEGORIES:book sale,Community,Fundraiser,Library,Sale
ATTACH;FMTTYPE=image/png:https://urbancasual.ca/wp-content/uploads/2026/04/book-sale.png
END:VEVENT
END:VCALENDAR