BEGIN:VCALENDAR
VERSION:2.0
PRODID:-//Urbancasual.ca - ECPv6.15.20//NONSGML v1.0//EN
CALSCALE:GREGORIAN
METHOD:PUBLISH
X-WR-CALNAME:Urbancasual.ca
X-ORIGINAL-URL:https://urbancasual.ca
X-WR-CALDESC:Events for Urbancasual.ca
REFRESH-INTERVAL;VALUE=DURATION:PT1H
X-Robots-Tag:noindex
X-PUBLISHED-TTL:PT1H
BEGIN:VTIMEZONE
TZID:America/Edmonton
BEGIN:DAYLIGHT
TZOFFSETFROM:-0700
TZOFFSETTO:-0600
TZNAME:MDT
DTSTART:20240310T090000
END:DAYLIGHT
BEGIN:STANDARD
TZOFFSETFROM:-0600
TZOFFSETTO:-0700
TZNAME:MST
DTSTART:20241103T080000
END:STANDARD
BEGIN:DAYLIGHT
TZOFFSETFROM:-0700
TZOFFSETTO:-0600
TZNAME:MDT
DTSTART:20250309T090000
END:DAYLIGHT
BEGIN:STANDARD
TZOFFSETFROM:-0600
TZOFFSETTO:-0700
TZNAME:MST
DTSTART:20251102T080000
END:STANDARD
BEGIN:DAYLIGHT
TZOFFSETFROM:-0700
TZOFFSETTO:-0600
TZNAME:MDT
DTSTART:20260308T090000
END:DAYLIGHT
BEGIN:STANDARD
TZOFFSETFROM:-0600
TZOFFSETTO:-0700
TZNAME:MST
DTSTART:20261101T080000
END:STANDARD
END:VTIMEZONE
BEGIN:VEVENT
DTSTART;TZID=America/Edmonton:20251004T100000
DTEND;TZID=America/Edmonton:20251004T160000
DTSTAMP:20260420T183245
CREATED:20251002T194948Z
LAST-MODIFIED:20251002T194948Z
UID:10050557-1759572000-1759593600@urbancasual.ca
SUMMARY:FALL BOOK & BAKE SALE
DESCRIPTION: Books\, treats\, and a whole lot of heart!Join us for our Book & Bake Sale  October 4–5 10 AM – 4 PM Cochrane & Area Humane SocietyBook Sale Sponsored by Global Pet Foods CochraneBake Sale Sponsored by Pascal’s Patisserie Stock up on fresh reads\, enjoy homemade baked goodies\, and know that every purchase helps animals in need.
URL:https://urbancasual.ca/cochrane-event/fall-book-bake-sale/
LOCATION:Alberta
CATEGORIES:Animals,Fundraiser,Pets,Sale
ATTACH;FMTTYPE=image/jpeg:https://urbancasual.ca/wp-content/uploads/2025/10/559938608_18529914829054967_6636939407112756145_n.jpg
END:VEVENT
BEGIN:VEVENT
DTSTART;TZID=America/Edmonton:20251005T140000
DTEND;TZID=America/Edmonton:20251005T160000
DTSTAMP:20260420T183245
CREATED:20251001T213037Z
LAST-MODIFIED:20251001T213037Z
UID:10050552-1759672800-1759680000@urbancasual.ca
SUMMARY:USED DANCE COSTUME SALE
DESCRIPTION:Our Dance studio is inviting any local dancers that are looking for costumes to come this Sunday afternoon and check out our used and new costume sale. \n\nMany costumes\, new and used for anyone looking for a costume for this season.\n\n Could also be useful for anyone looking for Halloween costumes\, \n\nas there will be a wide variety of costumes available from Tutus to characters! \n\nEveryone welcome!
URL:https://urbancasual.ca/cochrane-event/used-dance-costume-sale/
LOCATION:Alberta
CATEGORIES:Community,Dance,Parents & Caregivers,Sale,Shopping
ATTACH;FMTTYPE=image/jpeg:https://urbancasual.ca/wp-content/uploads/2025/10/557341419_10172806744560711_3597896283824865342_n.jpg
END:VEVENT
END:VCALENDAR