BEGIN:VCALENDAR
VERSION:2.0
PRODID:-//Urbancasual.ca - ECPv6.15.20//NONSGML v1.0//EN
CALSCALE:GREGORIAN
METHOD:PUBLISH
X-ORIGINAL-URL:https://urbancasual.ca
X-WR-CALDESC:Events for Urbancasual.ca
REFRESH-INTERVAL;VALUE=DURATION:PT1H
X-Robots-Tag:noindex
X-PUBLISHED-TTL:PT1H
BEGIN:VTIMEZONE
TZID:America/Edmonton
BEGIN:DAYLIGHT
TZOFFSETFROM:-0700
TZOFFSETTO:-0600
TZNAME:MDT
DTSTART:20240310T090000
END:DAYLIGHT
BEGIN:STANDARD
TZOFFSETFROM:-0600
TZOFFSETTO:-0700
TZNAME:MST
DTSTART:20241103T080000
END:STANDARD
BEGIN:DAYLIGHT
TZOFFSETFROM:-0700
TZOFFSETTO:-0600
TZNAME:MDT
DTSTART:20250309T090000
END:DAYLIGHT
BEGIN:STANDARD
TZOFFSETFROM:-0600
TZOFFSETTO:-0700
TZNAME:MST
DTSTART:20251102T080000
END:STANDARD
BEGIN:DAYLIGHT
TZOFFSETFROM:-0700
TZOFFSETTO:-0600
TZNAME:MDT
DTSTART:20260308T090000
END:DAYLIGHT
BEGIN:STANDARD
TZOFFSETFROM:-0600
TZOFFSETTO:-0700
TZNAME:MST
DTSTART:20261101T080000
END:STANDARD
END:VTIMEZONE
BEGIN:VEVENT
DTSTART;TZID=America/Edmonton:20250816T110000
DTEND;TZID=America/Edmonton:20250816T233000
DTSTAMP:20260420T184240
CREATED:20250726T020525Z
LAST-MODIFIED:20250726T020525Z
UID:10049702-1755342000-1755387000@urbancasual.ca
SUMMARY:2025 Calgary First Responders Rodeo + Barn Dance
DESCRIPTION:Welcome to the 2025 Calgary First Responders Rodeo (preivously the “Calgary Police Rodeo” SAME GREAT EVENT\, JUST A NEW NAME!) \nGates open at 11 am MST \nRodeo start time is 1 pm MST \nAll rodeo contestants must be an active or retired member of a first responder agency\, including POLICE\, FIRE\, EMS\, PEACE OFFICER and MILITARY or an immediate family member of a first responder. \nCompetitors accept and acknowledge the inherent risks of physical injury or death when participating in rodeo events. \nPlease choose your event(s) from the registration options. Registrations for more than one event can be accepted in a single transaction. \nSend inquiries to: info@cfrr.ca
URL:https://urbancasual.ca/cochrane-event/2025-calgary-first-responders-rodeo-barn-dance/
LOCATION:Alberta
CATEGORIES:Bull Riding,Community,Dance,Entertainment & Games,Family Friendly,Rodeo
ATTACH;FMTTYPE=image/jpeg:https://urbancasual.ca/wp-content/uploads/2025/07/496145683_986022860413365_5284020082379936230_n.jpg
END:VEVENT
END:VCALENDAR