BEGIN:VCALENDAR
VERSION:2.0
PRODID:-//Urbancasual.ca - ECPv6.15.20//NONSGML v1.0//EN
CALSCALE:GREGORIAN
METHOD:PUBLISH
X-WR-CALNAME:Urbancasual.ca
X-ORIGINAL-URL:https://urbancasual.ca
X-WR-CALDESC:Events for Urbancasual.ca
REFRESH-INTERVAL;VALUE=DURATION:PT1H
X-Robots-Tag:noindex
X-PUBLISHED-TTL:PT1H
BEGIN:VTIMEZONE
TZID:America/Edmonton
BEGIN:DAYLIGHT
TZOFFSETFROM:-0700
TZOFFSETTO:-0600
TZNAME:MDT
DTSTART:20240310T090000
END:DAYLIGHT
BEGIN:STANDARD
TZOFFSETFROM:-0600
TZOFFSETTO:-0700
TZNAME:MST
DTSTART:20241103T080000
END:STANDARD
BEGIN:DAYLIGHT
TZOFFSETFROM:-0700
TZOFFSETTO:-0600
TZNAME:MDT
DTSTART:20250309T090000
END:DAYLIGHT
BEGIN:STANDARD
TZOFFSETFROM:-0600
TZOFFSETTO:-0700
TZNAME:MST
DTSTART:20251102T080000
END:STANDARD
BEGIN:DAYLIGHT
TZOFFSETFROM:-0700
TZOFFSETTO:-0600
TZNAME:MDT
DTSTART:20260308T090000
END:DAYLIGHT
BEGIN:STANDARD
TZOFFSETFROM:-0600
TZOFFSETTO:-0700
TZNAME:MST
DTSTART:20261101T080000
END:STANDARD
END:VTIMEZONE
BEGIN:VEVENT
DTSTART;TZID=America/Edmonton:20251018T110000
DTEND;TZID=America/Edmonton:20251018T160000
DTSTAMP:20260420T102304
CREATED:20250904T192833Z
LAST-MODIFIED:20250904T222113Z
UID:10050325-1760785200-1760803200@urbancasual.ca
SUMMARY:TASTE OF COCHRANE
DESCRIPTION:Embark on a self guided tour through the tastes of Cochrane on October 18th. Stop into the participating restaurants\, between 11-4pm\, to sample something special from their menu.\n\nVisit all the businesses for the full Taste of Cochrane experience – you’re guaranteed to try something you’ve never experienced before. Guests will need to show their Eventbrite ticket to receive their sample at each location.\n\nCHANCE TO WIN: Download the Explore Cochrane App for the list of participating businesses & their offerings.\n\nParticipating businesses to be announced soon!\n\nThanks to our partners: Explore Cochrane\, Two Pharmacy\, Elevate Financial Strategies and Mehtab East Indian Cuisine.
URL:https://urbancasual.ca/cochrane-event/taste-of-cochrane-2025/
LOCATION:AB
CATEGORIES:Entertainment & Games,Family Friendly,Food,Pub/Bar Event,Restaurant,Tasting event
ATTACH;FMTTYPE=image/png:https://urbancasual.ca/wp-content/uploads/2025/09/taste-of-cochrane.png
ORGANIZER;CN="Quirk Social":MAILTO:hello@quirksocial.ca
END:VEVENT
BEGIN:VEVENT
DTSTART;TZID=America/Edmonton:20251018T180000
DTEND;TZID=America/Edmonton:20251018T210000
DTSTAMP:20260420T102304
CREATED:20241219T180111Z
LAST-MODIFIED:20260312T155218Z
UID:10032353-1760810400-1760821200@urbancasual.ca
SUMMARY:LIVE music Saturdays at Rocky View Brewing
DESCRIPTION:  \n  \n  \nLive music Saturdays in the taproom starting at 6pm. \n  \n  \n  \n  \n  \n  \n 
URL:https://urbancasual.ca/cochrane-event/live-music-saturdays-at-rocky-view-brewing-9-15-2-2/2025-10-18/
LOCATION:Rocky View Taproom\, 420 1st Street\, Cochrane\, AB
CATEGORIES:Business,Downtown,Entertainment & Games,Music,Pub/Bar Event,Restaurant
ATTACH;FMTTYPE=image/jpeg:https://urbancasual.ca/wp-content/uploads/2024/07/241712073_342240897364337_6168788210147837504_n-3.jpg
END:VEVENT
BEGIN:VEVENT
DTSTART;TZID=America/Edmonton:20251018T220000
DTEND;TZID=America/Edmonton:20251018T233000
DTSTAMP:20260420T102304
CREATED:20240917T161425Z
LAST-MODIFIED:20240917T161426Z
UID:10030941-1760824800-1760830200@urbancasual.ca
SUMMARY:The Rockyview Hotel - All Request DJ
DESCRIPTION:THE ROCKYVIEW HOTEL | EST’D IN 1904 – Celebrating 120 years in Historic Downtown. \n+ Dance the night away at the @texasgate.cochrane ! \n+ Tuesdays – learn to line dance\, 7pm\n+ Thursdays – karaoke\, 8pm\n+ Fridays / Saturdays – all request DJ\, 10pm +\n+ Sundays – All day free pool! \nTo book your stay & for more info: rockyviewhotel.ca \n  \n  \n  \n\n\n  \n\n\n\n\n\n\n\n\n\n\nView this post on Instagram\n\n\n\n\n\n\n\n\n\n\n\n\n\n\n\n\n\n\n\n\n\n\n  \nA post shared by Urban Casual Cochrane (@urbancasual.ca)
URL:https://urbancasual.ca/cochrane-event/the-rockyview-hotel-all-request-dj-2/2025-10-18/
LOCATION:Rockyview Hotel
CATEGORIES:Business,Downtown,Entertainment & Games,Pub/Bar Event,Restaurant
ATTACH;FMTTYPE=image/jpeg:https://urbancasual.ca/wp-content/uploads/2024/06/305308494_488593543275767_6866078460144404837_n.jpg
END:VEVENT
END:VCALENDAR