BEGIN:VCALENDAR
VERSION:2.0
PRODID:-//Urbancasual.ca - ECPv6.15.20//NONSGML v1.0//EN
CALSCALE:GREGORIAN
METHOD:PUBLISH
X-WR-CALNAME:Urbancasual.ca
X-ORIGINAL-URL:https://urbancasual.ca
X-WR-CALDESC:Events for Urbancasual.ca
REFRESH-INTERVAL;VALUE=DURATION:PT1H
X-Robots-Tag:noindex
X-PUBLISHED-TTL:PT1H
BEGIN:VTIMEZONE
TZID:America/Edmonton
BEGIN:DAYLIGHT
TZOFFSETFROM:-0700
TZOFFSETTO:-0600
TZNAME:MDT
DTSTART:20240310T090000
END:DAYLIGHT
BEGIN:STANDARD
TZOFFSETFROM:-0600
TZOFFSETTO:-0700
TZNAME:MST
DTSTART:20241103T080000
END:STANDARD
BEGIN:DAYLIGHT
TZOFFSETFROM:-0700
TZOFFSETTO:-0600
TZNAME:MDT
DTSTART:20250309T090000
END:DAYLIGHT
BEGIN:STANDARD
TZOFFSETFROM:-0600
TZOFFSETTO:-0700
TZNAME:MST
DTSTART:20251102T080000
END:STANDARD
BEGIN:DAYLIGHT
TZOFFSETFROM:-0700
TZOFFSETTO:-0600
TZNAME:MDT
DTSTART:20260308T090000
END:DAYLIGHT
BEGIN:STANDARD
TZOFFSETFROM:-0600
TZOFFSETTO:-0700
TZNAME:MST
DTSTART:20261101T080000
END:STANDARD
END:VTIMEZONE
BEGIN:VEVENT
DTSTART;TZID=America/Edmonton:20250925T180000
DTEND;TZID=America/Edmonton:20250925T210000
DTSTAMP:20260419T213831
CREATED:20250910T231330Z
LAST-MODIFIED:20250910T231330Z
UID:10050384-1758823200-1758834000@urbancasual.ca
SUMMARY:OPEN MIC NIGHT AT ROCKY VIEW
DESCRIPTION:
URL:https://urbancasual.ca/cochrane-event/open-mic-night-at-rocky-view/2025-09-25/
LOCATION:Rocky View Taproom\, 420 1st Street\, Cochrane\, AB
CATEGORIES:Business,Downtown,Entertainment & Games,Family Friendly,Music,OPEN MIC,Pub/Bar Event,Restaurant
ATTACH;FMTTYPE=image/jpeg:https://urbancasual.ca/wp-content/uploads/2025/09/inbound1668663617684061075.jpg
END:VEVENT
BEGIN:VEVENT
DTSTART;TZID=America/Edmonton:20250925T193000
DTEND;TZID=America/Edmonton:20250925T233000
DTSTAMP:20260419T213831
CREATED:20240718T163542Z
LAST-MODIFIED:20240718T163542Z
UID:10032942-1758828600-1758843000@urbancasual.ca
SUMMARY:Karaoke at the Venue
DESCRIPTION:🎤🍽 Join us at The Venue this Thursday for a night of delicious food and epic karaoke! \n🎶 Get ready to sing your heart out starting at 7:30pm. \nSee you there! #KaraokeNight #TheVenue #ThursdayVibes 🎤🍷
URL:https://urbancasual.ca/cochrane-event/karaoke-at-the-venue/2025-09-25/
LOCATION:AB
CATEGORIES:Adults Only,Entertainment & Games,Pub/Bar Event,Restaurant
ATTACH;FMTTYPE=image/jpeg:https://urbancasual.ca/wp-content/uploads/2024/07/Screenshot_20240718_103348_Instagram.jpg
END:VEVENT
BEGIN:VEVENT
DTSTART;TZID=America/Edmonton:20250925T200000
DTEND;TZID=America/Edmonton:20250925T233000
DTSTAMP:20260419T213831
CREATED:20240618T155624Z
LAST-MODIFIED:20240618T204438Z
UID:10030346-1758830400-1758843000@urbancasual.ca
SUMMARY:The Rockyview Hotel - Karaoke
DESCRIPTION:THE ROCKYVIEW HOTEL | EST’D IN 1904 – Celebrating 120 years in Historic Downtown. \n+ Dance the night away at the @texasgate.cochrane ! \n+ Tuesdays – learn to line dance\, 7pm\n+ Thursdays – karaoke\, 8pm\n+ Fridays / Saturdays – all request DJ\, 10pm\n+ Sundays – All day free pool! \nTo book your stay & for more info: rockyviewhotel.ca \n  \n  \n  \n\n\n  \n\n\n\n\n\n\n\n\n\n\nView this post on Instagram\n\n\n\n\n\n\n\n\n\n\n\n\n\n\n\n\n\n\n\n\n\n\n  \nA post shared by Urban Casual Cochrane (@urbancasual.ca)
URL:https://urbancasual.ca/cochrane-event/the-rockyview-hotel-karaoke/2025-09-25/
LOCATION:Rockyview Hotel
CATEGORIES:Business,Downtown,Entertainment & Games,Pub/Bar Event,Restaurant
ATTACH;FMTTYPE=image/jpeg:https://urbancasual.ca/wp-content/uploads/2024/06/305308494_488593543275767_6866078460144404837_n.jpg
END:VEVENT
END:VCALENDAR