BEGIN:VCALENDAR
VERSION:2.0
PRODID:-//Urbancasual.ca - ECPv6.15.20//NONSGML v1.0//EN
CALSCALE:GREGORIAN
METHOD:PUBLISH
X-WR-CALNAME:Urbancasual.ca
X-ORIGINAL-URL:https://urbancasual.ca
X-WR-CALDESC:Events for Urbancasual.ca
REFRESH-INTERVAL;VALUE=DURATION:PT1H
X-Robots-Tag:noindex
X-PUBLISHED-TTL:PT1H
BEGIN:VTIMEZONE
TZID:America/Edmonton
BEGIN:DAYLIGHT
TZOFFSETFROM:-0700
TZOFFSETTO:-0600
TZNAME:MDT
DTSTART:20240310T090000
END:DAYLIGHT
BEGIN:STANDARD
TZOFFSETFROM:-0600
TZOFFSETTO:-0700
TZNAME:MST
DTSTART:20241103T080000
END:STANDARD
BEGIN:DAYLIGHT
TZOFFSETFROM:-0700
TZOFFSETTO:-0600
TZNAME:MDT
DTSTART:20250309T090000
END:DAYLIGHT
BEGIN:STANDARD
TZOFFSETFROM:-0600
TZOFFSETTO:-0700
TZNAME:MST
DTSTART:20251102T080000
END:STANDARD
BEGIN:DAYLIGHT
TZOFFSETFROM:-0700
TZOFFSETTO:-0600
TZNAME:MDT
DTSTART:20260308T090000
END:DAYLIGHT
BEGIN:STANDARD
TZOFFSETFROM:-0600
TZOFFSETTO:-0700
TZNAME:MST
DTSTART:20261101T080000
END:STANDARD
END:VTIMEZONE
BEGIN:VEVENT
DTSTART;TZID=America/Edmonton:20250329T180000
DTEND;TZID=America/Edmonton:20250329T210000
DTSTAMP:20260425T095553
CREATED:20241219T180111Z
LAST-MODIFIED:20260312T155218Z
UID:10032324-1743271200-1743282000@urbancasual.ca
SUMMARY:LIVE music Saturdays at Rocky View Brewing
DESCRIPTION:  \n  \n  \nLive music Saturdays in the taproom starting at 6pm. \n  \n  \n  \n  \n  \n  \n 
URL:https://urbancasual.ca/cochrane-event/live-music-saturdays-at-rocky-view-brewing-9-15-2-2/2025-03-29/
LOCATION:Rocky View Taproom\, 420 1st Street\, Cochrane\, AB
CATEGORIES:Business,Downtown,Entertainment & Games,Music,Pub/Bar Event,Restaurant
ATTACH;FMTTYPE=image/jpeg:https://urbancasual.ca/wp-content/uploads/2024/07/241712073_342240897364337_6168788210147837504_n-3.jpg
END:VEVENT
BEGIN:VEVENT
DTSTART;TZID=America/Edmonton:20250329T190000
DTEND;TZID=America/Edmonton:20250329T233000
DTSTAMP:20260425T095553
CREATED:20250304T022955Z
LAST-MODIFIED:20250304T022956Z
UID:10045311-1743274800-1743291000@urbancasual.ca
SUMMARY:Spring Dance 2025
DESCRIPTION:SPRING DANCE 2025. \nCochrane Lions Rodeo is kicking off rodeo season with its annual Springs Dance. \nT.C & Company are back by popular demand along with The Butchery Block cooking up their famous Texas BBQ all on the same night. \nCan you think of a better way to celebrate the arrival of Spring? \nLast year was a complete sell out so avoid disappointment now and buy your tickets in advance !!!! \nTexas BBQ from 6pm (upper events hall) \nYou get smoked brisket\, pulled pork\, 1 Texas hot link\, baked beans\, coleslaw\, and 2 cornbread serves 1-2. Only $35 \nSpring Dance doors open 7pm (main hall)\n$25 \nMeal & Dance combo price $50 (saving $10) \nBand starts 8pm \nButchery Block providing smoked Brisket and Pork\, slaw and fries all evening… \nJoin us on March 29th at the Cochrane Lions Events Centre 109 Fifth Ave\, Cochrane\, AB T4C 0A4\, Canada
URL:https://urbancasual.ca/cochrane-event/spring-dance-2025/
LOCATION:The Lions Event Centre\, 109 5th Avenue\, Cochrane\, Alberta\, Canada
CATEGORIES:Community,Dance,Downtown,Entertainment & Games,Pub/Bar Event
ATTACH;FMTTYPE=image/jpeg:https://urbancasual.ca/wp-content/uploads/2025/03/inbound5528618587526558950.jpg
END:VEVENT
BEGIN:VEVENT
DTSTART;TZID=America/Edmonton:20250329T220000
DTEND;TZID=America/Edmonton:20250329T233000
DTSTAMP:20260425T095553
CREATED:20240917T161425Z
LAST-MODIFIED:20240917T161426Z
UID:10030883-1743285600-1743291000@urbancasual.ca
SUMMARY:The Rockyview Hotel - All Request DJ
DESCRIPTION:THE ROCKYVIEW HOTEL | EST’D IN 1904 – Celebrating 120 years in Historic Downtown. \n+ Dance the night away at the @texasgate.cochrane ! \n+ Tuesdays – learn to line dance\, 7pm\n+ Thursdays – karaoke\, 8pm\n+ Fridays / Saturdays – all request DJ\, 10pm +\n+ Sundays – All day free pool! \nTo book your stay & for more info: rockyviewhotel.ca \n  \n  \n  \n\n\n  \n\n\n\n\n\n\n\n\n\n\nView this post on Instagram\n\n\n\n\n\n\n\n\n\n\n\n\n\n\n\n\n\n\n\n\n\n\n  \nA post shared by Urban Casual Cochrane (@urbancasual.ca)
URL:https://urbancasual.ca/cochrane-event/the-rockyview-hotel-all-request-dj-2/2025-03-29/
LOCATION:Rockyview Hotel
CATEGORIES:Business,Downtown,Entertainment & Games,Pub/Bar Event,Restaurant
ATTACH;FMTTYPE=image/jpeg:https://urbancasual.ca/wp-content/uploads/2024/06/305308494_488593543275767_6866078460144404837_n.jpg
END:VEVENT
BEGIN:VEVENT
DTSTART;TZID=America/Edmonton:20250401T183000
DTEND;TZID=America/Edmonton:20250401T200000
DTSTAMP:20260425T095553
CREATED:20250121T225446Z
LAST-MODIFIED:20250121T225726Z
UID:10044137-1743532200-1743537600@urbancasual.ca
SUMMARY:Taproom Trivia
DESCRIPTION:TUESDAY\, JANUARY 21 – 6:30PM TO 8PM \n  \nEVERY TWO WEEKS: \nFEBRUARY 4TH \nFEBRUARY 18TH \nMARCH 4TH \nMARCH 18TH \nAPRIL 1ST \nAPRIL 15TH \n  \n  \n 
URL:https://urbancasual.ca/cochrane-event/taproom-trivia-3/2025-04-01/
LOCATION:Rocky View Taproom\, 420 1st Street\, Cochrane\, AB
CATEGORIES:Business,Community,Downtown,Entertainment & Games,Free,Pub/Bar Event
ATTACH;FMTTYPE=image/jpeg:https://urbancasual.ca/wp-content/uploads/2025/01/471541011_1222709709317447_3641802563782279192_n.jpg
END:VEVENT
BEGIN:VEVENT
DTSTART;TZID=America/Edmonton:20250401T183000
DTEND;TZID=America/Edmonton:20250401T200000
DTSTAMP:20260425T095553
CREATED:20250327T191129Z
LAST-MODIFIED:20250327T191643Z
UID:10045554-1743532200-1743537600@urbancasual.ca
SUMMARY:Music Bingo at Rocky View Taproom
DESCRIPTION:Join us this Tuesday\, April 1\, at 6:30 PM for an exciting night of Rock & Roll Music Bingo!
URL:https://urbancasual.ca/cochrane-event/music-bingo-at-rocky-view-taproom/
LOCATION:Rocky View Taproom\, 420 1st Street\, Cochrane\, AB
CATEGORIES:Entertainment & Games,Legion,Pub/Bar Event
ATTACH;FMTTYPE=image/jpeg:https://urbancasual.ca/wp-content/uploads/2025/03/Screenshot_20250327_115345_Instagram.jpg
END:VEVENT
BEGIN:VEVENT
DTSTART;TZID=America/Edmonton:20250401T190000
DTEND;TZID=America/Edmonton:20250401T210000
DTSTAMP:20260425T095553
CREATED:20240618T152427Z
LAST-MODIFIED:20240619T174110Z
UID:10028757-1743534000-1743541200@urbancasual.ca
SUMMARY:Rockyview Hotel - Learn to line dance
DESCRIPTION:THE ROCKYVIEW HOTEL | EST’D IN 1904 – Celebrating 120 years in Historic Downtown. \n+ Dance the night away at the @texasgate.cochrane ! \n+ Tuesdays – learn to line dance\, 7pm\n+ Thursdays – karaoke\, 8pm\n+ Fridays / Saturdays – all request DJ\, 10pm\n+ Sundays – All day free pool! \nTo book your stay & for more info: rockyviewhotel.ca \n  \n\n\n  \n\n\n\n\n\n\n\n\n\n\nView this post on Instagram\n\n\n\n\n\n\n\n\n\n\n\n\n\n\n\n\n\n\n\n\n\n\n  \nA post shared by Urban Casual Cochrane (@urbancasual.ca)
URL:https://urbancasual.ca/cochrane-event/rockyview-hotel-learn-to-line-dance/2025-04-01/
LOCATION:Rockyview Hotel
CATEGORIES:Business,Downtown,Hotel,Pub/Bar Event,Restaurant
ATTACH;FMTTYPE=image/jpeg:https://urbancasual.ca/wp-content/uploads/2024/06/305308494_488593543275767_6866078460144404837_n.jpg
END:VEVENT
BEGIN:VEVENT
DTSTART;TZID=America/Edmonton:20250401T190000
DTEND;TZID=America/Edmonton:20250401T210000
DTSTAMP:20260425T095553
CREATED:20250205T165014Z
LAST-MODIFIED:20250205T165014Z
UID:10044635-1743534000-1743541200@urbancasual.ca
SUMMARY:Jilly's Smutty Corner Book Club
DESCRIPTION:Jilly’s Smutty Corner Book Club\n\n\n\nTue Feb 11th\, 2025 to Tue Jun 10th\, 2025\n\n\n\n7:00 PM\n\n\n–\n\n\n9:00 PM\n\n\n\n\n\n\n\n\n\n\n\nThe Smutty Romantasy Book Club! Welcome to the Jilly’s Smutty Corner Book Club\, where passion meets magic and every book is filled with steamy romance and thrilling adventures. Dive into enchanting worlds where love knows no bounds and fantasies come alive. Our club is a haven for those who crave spellbinding stories of forbidden love\, powerful sorcery\, and heart-pounding desire. Whether you’re a seasoned romantasy reader or just dipping your toes into the genre\, our community is here to share\, discuss\, and celebrate the hottest and most tantalizing reads. Join us for monthly book picks\, lively discussions\, and more. Get ready to embark on a journey where every book is a gateway to an unforgettable\, smutty escape! No purchase necessary\, although buying the book from us is appreciated 😉
URL:https://urbancasual.ca/cochrane-event/jillys-smutty-corner-book-club/2025-04-01/
LOCATION:Found Book Shop\, 206 1st Street W\, Cochrane\, AB
CATEGORIES:Book Club,Community,Free,Learning,Networking,Pub/Bar Event
ATTACH;FMTTYPE=image/png:https://urbancasual.ca/wp-content/uploads/2025/02/Jillys_Smutty_Corner.png
END:VEVENT
BEGIN:VEVENT
DTSTART;TZID=America/Edmonton:20250402T090000
DTEND;TZID=America/Edmonton:20250402T110000
DTSTAMP:20260425T095553
CREATED:20241224T214102Z
LAST-MODIFIED:20241224T214103Z
UID:10025760-1743584400-1743591600@urbancasual.ca
SUMMARY:COCHRANE BABY BOOMERS COFFEE CLUB
DESCRIPTION:EVERY WEDNESDAY – JOIN US AT ONE OR BOTH GROUPS! \nGROUP 1 – 9 TO 11AM AT THE LEGION – 114 FIFTH AVENUE \nGROUP 2 – 2 TO 4PM AT THE VENUE – 79 RAILWAY ST.
URL:https://urbancasual.ca/cochrane-event/cochrane-baby-boomers-coffee-club-3/2025-04-02/
LOCATION:The Legion\, 114 Fifth Ave\, Cochrane\, Canada
CATEGORIES:Club,Community,Entertainment & Games,Newcomers,Pub/Bar Event,Seniors
ATTACH;FMTTYPE=image/jpeg:https://urbancasual.ca/wp-content/uploads/2024/03/434241669_414630964545703_5340421825823485419_n.jpg
END:VEVENT
BEGIN:VEVENT
DTSTART;TZID=America/Edmonton:20250402T170000
DTEND;TZID=America/Edmonton:20250402T203000
DTSTAMP:20260425T095553
CREATED:20241210T012230Z
LAST-MODIFIED:20260211T225039Z
UID:10039715-1743613200-1743625800@urbancasual.ca
SUMMARY:Wing Night at The Taproom
DESCRIPTION:Join us every Wednesday from 5pm to 8:30pm for $8.50/lb wings! \nWe have a variety of flavours from you to choose from. You won’t wanna miss it!
URL:https://urbancasual.ca/cochrane-event/wing-night-at-the-taproom/2025-04-02/
LOCATION:Rocky View Taproom\, 420 1st Street\, Cochrane\, AB
CATEGORIES:Business,Entertainment & Games,Food,Pub/Bar Event,Restaurant
ATTACH;FMTTYPE=image/jpeg:https://urbancasual.ca/wp-content/uploads/2024/12/465707656_18375053353104462_8115185856607810178_n.jpg
END:VEVENT
BEGIN:VEVENT
DTSTART;TZID=America/Edmonton:20250402T180000
DTEND;TZID=America/Edmonton:20250402T210000
DTSTAMP:20260425T095553
CREATED:20241202T000531Z
LAST-MODIFIED:20241202T000605Z
UID:10037718-1743616800-1743627600@urbancasual.ca
SUMMARY:Country Music with Turner Bates at the Venue
DESCRIPTION:
URL:https://urbancasual.ca/cochrane-event/country-music-with-turner-bates-at-the-venue/2025-04-02/
LOCATION:AB
CATEGORIES:Adults Only,Business,Entertainment & Games,Food,Music,Pub/Bar Event
ATTACH;FMTTYPE=image/jpeg:https://urbancasual.ca/wp-content/uploads/2024/12/463385392_17920216139988797_9181419957565291331_n.jpg
END:VEVENT
BEGIN:VEVENT
DTSTART;TZID=America/Edmonton:20250403T180000
DTEND;TZID=America/Edmonton:20250403T220000
DTSTAMP:20260425T095553
CREATED:20250329T214909Z
LAST-MODIFIED:20250402T222323Z
UID:10025499-1743703200-1743717600@urbancasual.ca
SUMMARY:LIVE MUSIC at Half Hitch
DESCRIPTION:Join us every Thursday evening at 6pm for free local live music! Enjoy great tunes\, local craft beer\, and tasty fare. Here are our upcoming artists! \n 
URL:https://urbancasual.ca/cochrane-event/live-music-at-half-hitch-3-2/2025-04-03/
LOCATION:Half Hitch Brewery
CATEGORIES:Business,Entertainment & Games,Music,Pub/Bar Event,Restaurant
ATTACH;FMTTYPE=image/jpeg:https://urbancasual.ca/wp-content/uploads/2024/03/279631870_409360817860020_4743340451307473139_n-4.jpg
END:VEVENT
BEGIN:VEVENT
DTSTART;TZID=America/Edmonton:20250403T193000
DTEND;TZID=America/Edmonton:20250403T233000
DTSTAMP:20260425T095553
CREATED:20240718T163542Z
LAST-MODIFIED:20240718T163542Z
UID:10032917-1743708600-1743723000@urbancasual.ca
SUMMARY:Karaoke at the Venue
DESCRIPTION:🎤🍽 Join us at The Venue this Thursday for a night of delicious food and epic karaoke! \n🎶 Get ready to sing your heart out starting at 7:30pm. \nSee you there! #KaraokeNight #TheVenue #ThursdayVibes 🎤🍷
URL:https://urbancasual.ca/cochrane-event/karaoke-at-the-venue/2025-04-03/
LOCATION:AB
CATEGORIES:Adults Only,Entertainment & Games,Pub/Bar Event,Restaurant
ATTACH;FMTTYPE=image/jpeg:https://urbancasual.ca/wp-content/uploads/2024/07/Screenshot_20240718_103348_Instagram.jpg
END:VEVENT
BEGIN:VEVENT
DTSTART;TZID=America/Edmonton:20250403T200000
DTEND;TZID=America/Edmonton:20250403T233000
DTSTAMP:20260425T095553
CREATED:20240618T155624Z
LAST-MODIFIED:20240618T204438Z
UID:10030321-1743710400-1743723000@urbancasual.ca
SUMMARY:The Rockyview Hotel - Karaoke
DESCRIPTION:THE ROCKYVIEW HOTEL | EST’D IN 1904 – Celebrating 120 years in Historic Downtown. \n+ Dance the night away at the @texasgate.cochrane ! \n+ Tuesdays – learn to line dance\, 7pm\n+ Thursdays – karaoke\, 8pm\n+ Fridays / Saturdays – all request DJ\, 10pm\n+ Sundays – All day free pool! \nTo book your stay & for more info: rockyviewhotel.ca \n  \n  \n  \n\n\n  \n\n\n\n\n\n\n\n\n\n\nView this post on Instagram\n\n\n\n\n\n\n\n\n\n\n\n\n\n\n\n\n\n\n\n\n\n\n  \nA post shared by Urban Casual Cochrane (@urbancasual.ca)
URL:https://urbancasual.ca/cochrane-event/the-rockyview-hotel-karaoke/2025-04-03/
LOCATION:Rockyview Hotel
CATEGORIES:Business,Downtown,Entertainment & Games,Pub/Bar Event,Restaurant
ATTACH;FMTTYPE=image/jpeg:https://urbancasual.ca/wp-content/uploads/2024/06/305308494_488593543275767_6866078460144404837_n.jpg
END:VEVENT
BEGIN:VEVENT
DTSTART;TZID=America/Edmonton:20250404T210000
DTEND;TZID=America/Edmonton:20250404T233000
DTSTAMP:20260425T095553
CREATED:20250331T224008Z
LAST-MODIFIED:20250331T224008Z
UID:10046141-1743800400-1743809400@urbancasual.ca
SUMMARY:Live Music at the Venue
DESCRIPTION:  \n9pm til LATE!
URL:https://urbancasual.ca/cochrane-event/live-music-at-the-venue-4/2025-04-04/
LOCATION:VENUE SPORTSBAR AND GRILL
CATEGORIES:Entertainment & Games,Music,Pub/Bar Event
ATTACH;FMTTYPE=image/jpeg:https://urbancasual.ca/wp-content/uploads/2025/03/inbound1152323467083885571.jpg
END:VEVENT
BEGIN:VEVENT
DTSTART;TZID=America/Edmonton:20250404T220000
DTEND;TZID=America/Edmonton:20250404T233000
DTSTAMP:20260425T095553
CREATED:20240917T161425Z
LAST-MODIFIED:20240917T161426Z
UID:10030884-1743804000-1743809400@urbancasual.ca
SUMMARY:The Rockyview Hotel - All Request DJ
DESCRIPTION:THE ROCKYVIEW HOTEL | EST’D IN 1904 – Celebrating 120 years in Historic Downtown. \n+ Dance the night away at the @texasgate.cochrane ! \n+ Tuesdays – learn to line dance\, 7pm\n+ Thursdays – karaoke\, 8pm\n+ Fridays / Saturdays – all request DJ\, 10pm +\n+ Sundays – All day free pool! \nTo book your stay & for more info: rockyviewhotel.ca \n  \n  \n  \n\n\n  \n\n\n\n\n\n\n\n\n\n\nView this post on Instagram\n\n\n\n\n\n\n\n\n\n\n\n\n\n\n\n\n\n\n\n\n\n\n  \nA post shared by Urban Casual Cochrane (@urbancasual.ca)
URL:https://urbancasual.ca/cochrane-event/the-rockyview-hotel-all-request-dj-2/2025-04-04/
LOCATION:Rockyview Hotel
CATEGORIES:Business,Downtown,Entertainment & Games,Pub/Bar Event,Restaurant
ATTACH;FMTTYPE=image/jpeg:https://urbancasual.ca/wp-content/uploads/2024/06/305308494_488593543275767_6866078460144404837_n.jpg
END:VEVENT
BEGIN:VEVENT
DTSTART;TZID=America/Edmonton:20250405T180000
DTEND;TZID=America/Edmonton:20250405T210000
DTSTAMP:20260425T095553
CREATED:20241219T180111Z
LAST-MODIFIED:20260312T155218Z
UID:10032325-1743876000-1743886800@urbancasual.ca
SUMMARY:LIVE music Saturdays at Rocky View Brewing
DESCRIPTION:  \n  \n  \nLive music Saturdays in the taproom starting at 6pm. \n  \n  \n  \n  \n  \n  \n 
URL:https://urbancasual.ca/cochrane-event/live-music-saturdays-at-rocky-view-brewing-9-15-2-2/2025-04-05/
LOCATION:Rocky View Taproom\, 420 1st Street\, Cochrane\, AB
CATEGORIES:Business,Downtown,Entertainment & Games,Music,Pub/Bar Event,Restaurant
ATTACH;FMTTYPE=image/jpeg:https://urbancasual.ca/wp-content/uploads/2024/07/241712073_342240897364337_6168788210147837504_n-3.jpg
END:VEVENT
BEGIN:VEVENT
DTSTART;TZID=America/Edmonton:20250405T210000
DTEND;TZID=America/Edmonton:20250405T233000
DTSTAMP:20260425T095553
CREATED:20250331T224008Z
LAST-MODIFIED:20250331T224008Z
UID:10046142-1743886800-1743895800@urbancasual.ca
SUMMARY:Live Music at the Venue
DESCRIPTION:  \n9pm til LATE!
URL:https://urbancasual.ca/cochrane-event/live-music-at-the-venue-4/2025-04-05/
LOCATION:VENUE SPORTSBAR AND GRILL
CATEGORIES:Entertainment & Games,Music,Pub/Bar Event
ATTACH;FMTTYPE=image/jpeg:https://urbancasual.ca/wp-content/uploads/2025/03/inbound1152323467083885571.jpg
END:VEVENT
BEGIN:VEVENT
DTSTART;TZID=America/Edmonton:20250405T220000
DTEND;TZID=America/Edmonton:20250405T233000
DTSTAMP:20260425T095553
CREATED:20240917T161425Z
LAST-MODIFIED:20240917T161426Z
UID:10030885-1743890400-1743895800@urbancasual.ca
SUMMARY:The Rockyview Hotel - All Request DJ
DESCRIPTION:THE ROCKYVIEW HOTEL | EST’D IN 1904 – Celebrating 120 years in Historic Downtown. \n+ Dance the night away at the @texasgate.cochrane ! \n+ Tuesdays – learn to line dance\, 7pm\n+ Thursdays – karaoke\, 8pm\n+ Fridays / Saturdays – all request DJ\, 10pm +\n+ Sundays – All day free pool! \nTo book your stay & for more info: rockyviewhotel.ca \n  \n  \n  \n\n\n  \n\n\n\n\n\n\n\n\n\n\nView this post on Instagram\n\n\n\n\n\n\n\n\n\n\n\n\n\n\n\n\n\n\n\n\n\n\n  \nA post shared by Urban Casual Cochrane (@urbancasual.ca)
URL:https://urbancasual.ca/cochrane-event/the-rockyview-hotel-all-request-dj-2/2025-04-05/
LOCATION:Rockyview Hotel
CATEGORIES:Business,Downtown,Entertainment & Games,Pub/Bar Event,Restaurant
ATTACH;FMTTYPE=image/jpeg:https://urbancasual.ca/wp-content/uploads/2024/06/305308494_488593543275767_6866078460144404837_n.jpg
END:VEVENT
BEGIN:VEVENT
DTSTART;TZID=America/Edmonton:20250408T190000
DTEND;TZID=America/Edmonton:20250408T210000
DTSTAMP:20260425T095553
CREATED:20240618T152427Z
LAST-MODIFIED:20240619T174110Z
UID:10028758-1744138800-1744146000@urbancasual.ca
SUMMARY:Rockyview Hotel - Learn to line dance
DESCRIPTION:THE ROCKYVIEW HOTEL | EST’D IN 1904 – Celebrating 120 years in Historic Downtown. \n+ Dance the night away at the @texasgate.cochrane ! \n+ Tuesdays – learn to line dance\, 7pm\n+ Thursdays – karaoke\, 8pm\n+ Fridays / Saturdays – all request DJ\, 10pm\n+ Sundays – All day free pool! \nTo book your stay & for more info: rockyviewhotel.ca \n  \n\n\n  \n\n\n\n\n\n\n\n\n\n\nView this post on Instagram\n\n\n\n\n\n\n\n\n\n\n\n\n\n\n\n\n\n\n\n\n\n\n  \nA post shared by Urban Casual Cochrane (@urbancasual.ca)
URL:https://urbancasual.ca/cochrane-event/rockyview-hotel-learn-to-line-dance/2025-04-08/
LOCATION:Rockyview Hotel
CATEGORIES:Business,Downtown,Hotel,Pub/Bar Event,Restaurant
ATTACH;FMTTYPE=image/jpeg:https://urbancasual.ca/wp-content/uploads/2024/06/305308494_488593543275767_6866078460144404837_n.jpg
END:VEVENT
BEGIN:VEVENT
DTSTART;TZID=America/Edmonton:20250408T190000
DTEND;TZID=America/Edmonton:20250408T210000
DTSTAMP:20260425T095553
CREATED:20250205T165014Z
LAST-MODIFIED:20250205T165014Z
UID:10044636-1744138800-1744146000@urbancasual.ca
SUMMARY:Jilly's Smutty Corner Book Club
DESCRIPTION:Jilly’s Smutty Corner Book Club\n\n\n\nTue Feb 11th\, 2025 to Tue Jun 10th\, 2025\n\n\n\n7:00 PM\n\n\n–\n\n\n9:00 PM\n\n\n\n\n\n\n\n\n\n\n\nThe Smutty Romantasy Book Club! Welcome to the Jilly’s Smutty Corner Book Club\, where passion meets magic and every book is filled with steamy romance and thrilling adventures. Dive into enchanting worlds where love knows no bounds and fantasies come alive. Our club is a haven for those who crave spellbinding stories of forbidden love\, powerful sorcery\, and heart-pounding desire. Whether you’re a seasoned romantasy reader or just dipping your toes into the genre\, our community is here to share\, discuss\, and celebrate the hottest and most tantalizing reads. Join us for monthly book picks\, lively discussions\, and more. Get ready to embark on a journey where every book is a gateway to an unforgettable\, smutty escape! No purchase necessary\, although buying the book from us is appreciated 😉
URL:https://urbancasual.ca/cochrane-event/jillys-smutty-corner-book-club/2025-04-08/
LOCATION:Found Book Shop\, 206 1st Street W\, Cochrane\, AB
CATEGORIES:Book Club,Community,Free,Learning,Networking,Pub/Bar Event
ATTACH;FMTTYPE=image/png:https://urbancasual.ca/wp-content/uploads/2025/02/Jillys_Smutty_Corner.png
END:VEVENT
BEGIN:VEVENT
DTSTART;TZID=America/Edmonton:20250409T090000
DTEND;TZID=America/Edmonton:20250409T110000
DTSTAMP:20260425T095553
CREATED:20241224T214102Z
LAST-MODIFIED:20241224T214103Z
UID:10025761-1744189200-1744196400@urbancasual.ca
SUMMARY:COCHRANE BABY BOOMERS COFFEE CLUB
DESCRIPTION:EVERY WEDNESDAY – JOIN US AT ONE OR BOTH GROUPS! \nGROUP 1 – 9 TO 11AM AT THE LEGION – 114 FIFTH AVENUE \nGROUP 2 – 2 TO 4PM AT THE VENUE – 79 RAILWAY ST.
URL:https://urbancasual.ca/cochrane-event/cochrane-baby-boomers-coffee-club-3/2025-04-09/
LOCATION:The Legion\, 114 Fifth Ave\, Cochrane\, Canada
CATEGORIES:Club,Community,Entertainment & Games,Newcomers,Pub/Bar Event,Seniors
ATTACH;FMTTYPE=image/jpeg:https://urbancasual.ca/wp-content/uploads/2024/03/434241669_414630964545703_5340421825823485419_n.jpg
END:VEVENT
BEGIN:VEVENT
DTSTART;TZID=America/Edmonton:20250409T170000
DTEND;TZID=America/Edmonton:20250409T203000
DTSTAMP:20260425T095553
CREATED:20241210T012230Z
LAST-MODIFIED:20260211T225039Z
UID:10039716-1744218000-1744230600@urbancasual.ca
SUMMARY:Wing Night at The Taproom
DESCRIPTION:Join us every Wednesday from 5pm to 8:30pm for $8.50/lb wings! \nWe have a variety of flavours from you to choose from. You won’t wanna miss it!
URL:https://urbancasual.ca/cochrane-event/wing-night-at-the-taproom/2025-04-09/
LOCATION:Rocky View Taproom\, 420 1st Street\, Cochrane\, AB
CATEGORIES:Business,Entertainment & Games,Food,Pub/Bar Event,Restaurant
ATTACH;FMTTYPE=image/jpeg:https://urbancasual.ca/wp-content/uploads/2024/12/465707656_18375053353104462_8115185856607810178_n.jpg
END:VEVENT
BEGIN:VEVENT
DTSTART;TZID=America/Edmonton:20250409T180000
DTEND;TZID=America/Edmonton:20250409T210000
DTSTAMP:20260425T095553
CREATED:20241202T000531Z
LAST-MODIFIED:20241202T000605Z
UID:10037719-1744221600-1744232400@urbancasual.ca
SUMMARY:Country Music with Turner Bates at the Venue
DESCRIPTION:
URL:https://urbancasual.ca/cochrane-event/country-music-with-turner-bates-at-the-venue/2025-04-09/
LOCATION:AB
CATEGORIES:Adults Only,Business,Entertainment & Games,Food,Music,Pub/Bar Event
ATTACH;FMTTYPE=image/jpeg:https://urbancasual.ca/wp-content/uploads/2024/12/463385392_17920216139988797_9181419957565291331_n.jpg
END:VEVENT
BEGIN:VEVENT
DTSTART;TZID=America/Edmonton:20250410T180000
DTEND;TZID=America/Edmonton:20250410T220000
DTSTAMP:20260425T095553
CREATED:20250329T214909Z
LAST-MODIFIED:20250402T222323Z
UID:10025500-1744308000-1744322400@urbancasual.ca
SUMMARY:LIVE MUSIC at Half Hitch
DESCRIPTION:Join us every Thursday evening at 6pm for free local live music! Enjoy great tunes\, local craft beer\, and tasty fare. Here are our upcoming artists! \n 
URL:https://urbancasual.ca/cochrane-event/live-music-at-half-hitch-3-2/2025-04-10/
LOCATION:Half Hitch Brewery
CATEGORIES:Business,Entertainment & Games,Music,Pub/Bar Event,Restaurant
ATTACH;FMTTYPE=image/jpeg:https://urbancasual.ca/wp-content/uploads/2024/03/279631870_409360817860020_4743340451307473139_n-4.jpg
END:VEVENT
BEGIN:VEVENT
DTSTART;TZID=America/Edmonton:20250410T190000
DTEND;TZID=America/Edmonton:20250410T220000
DTSTAMP:20260425T095553
CREATED:20250408T222327Z
LAST-MODIFIED:20250408T222327Z
UID:10046225-1744311600-1744322400@urbancasual.ca
SUMMARY:MUSIC BINGO AT CABEZA GRANDE
DESCRIPTION:Thursday April 10 @ 7PM!\n\nKaraoke will be available after! Reserve your table today or just come on in.\n\nWe have all the supplies and prizes to be won!\n\nSmash Burgers & Bulldogs will be on special.
URL:https://urbancasual.ca/cochrane-event/music-bingo-at-cabeza-grande-2/
LOCATION:Cabeza Grande\, Heartland\, Cochrane\, Alberta\, Canada
CATEGORIES:Business,Entertainment & Games,Music,Pub/Bar Event,Restaurant
ATTACH;FMTTYPE=image/jpeg:https://urbancasual.ca/wp-content/uploads/2025/04/FB_IMG_1744133397333.jpg
END:VEVENT
BEGIN:VEVENT
DTSTART;TZID=America/Edmonton:20250410T193000
DTEND;TZID=America/Edmonton:20250410T233000
DTSTAMP:20260425T095553
CREATED:20240718T163542Z
LAST-MODIFIED:20240718T163542Z
UID:10032918-1744313400-1744327800@urbancasual.ca
SUMMARY:Karaoke at the Venue
DESCRIPTION:🎤🍽 Join us at The Venue this Thursday for a night of delicious food and epic karaoke! \n🎶 Get ready to sing your heart out starting at 7:30pm. \nSee you there! #KaraokeNight #TheVenue #ThursdayVibes 🎤🍷
URL:https://urbancasual.ca/cochrane-event/karaoke-at-the-venue/2025-04-10/
LOCATION:AB
CATEGORIES:Adults Only,Entertainment & Games,Pub/Bar Event,Restaurant
ATTACH;FMTTYPE=image/jpeg:https://urbancasual.ca/wp-content/uploads/2024/07/Screenshot_20240718_103348_Instagram.jpg
END:VEVENT
BEGIN:VEVENT
DTSTART;TZID=America/Edmonton:20250410T200000
DTEND;TZID=America/Edmonton:20250410T233000
DTSTAMP:20260425T095553
CREATED:20240618T155624Z
LAST-MODIFIED:20240618T204438Z
UID:10030322-1744315200-1744327800@urbancasual.ca
SUMMARY:The Rockyview Hotel - Karaoke
DESCRIPTION:THE ROCKYVIEW HOTEL | EST’D IN 1904 – Celebrating 120 years in Historic Downtown. \n+ Dance the night away at the @texasgate.cochrane ! \n+ Tuesdays – learn to line dance\, 7pm\n+ Thursdays – karaoke\, 8pm\n+ Fridays / Saturdays – all request DJ\, 10pm\n+ Sundays – All day free pool! \nTo book your stay & for more info: rockyviewhotel.ca \n  \n  \n  \n\n\n  \n\n\n\n\n\n\n\n\n\n\nView this post on Instagram\n\n\n\n\n\n\n\n\n\n\n\n\n\n\n\n\n\n\n\n\n\n\n  \nA post shared by Urban Casual Cochrane (@urbancasual.ca)
URL:https://urbancasual.ca/cochrane-event/the-rockyview-hotel-karaoke/2025-04-10/
LOCATION:Rockyview Hotel
CATEGORIES:Business,Downtown,Entertainment & Games,Pub/Bar Event,Restaurant
ATTACH;FMTTYPE=image/jpeg:https://urbancasual.ca/wp-content/uploads/2024/06/305308494_488593543275767_6866078460144404837_n.jpg
END:VEVENT
BEGIN:VEVENT
DTSTART;TZID=America/Edmonton:20250411T170000
DTEND;TZID=America/Edmonton:20250411T220000
DTSTAMP:20260425T095553
CREATED:20250224T202259Z
LAST-MODIFIED:20250225T195919Z
UID:10044906-1744390800-1744408800@urbancasual.ca
SUMMARY:SIP\, SIP SAVOUR - SPRING 2025
DESCRIPTION:Bring the whole gang down for the 3rd Annual Sip Sip Savour — a tasting style event showcasing breweries and distilleries from Cochrane & the Bow Valley areas. Sample tickets will be available for purchase at $1/ticket and most samples are 2-3 tickets.\n\n\nWe are excited to have some non-alcoholic options offered by our group this Spring as well! Make sure to follow @quirksocial_events on IG to be the first to know what breweries/distilleries will be sampling their products!\n\n\n5PM – Doors Open9PM – No Entry9:15PM – Sample Ticket Sales End9:30PM – Last Call10PM – Event/Consumption Ends\nTickets MAY be available at the door\, depending on remaining capacity on event day. We strongly encourage you to grab tickets early to avoid disappointment at the door.\n\n\nAttendees must be over 18\, and IDs will be checked at the door.\n\nMORE INFORMATION ABOUT THE VENDORS STILL TO COME!
URL:https://urbancasual.ca/cochrane-event/sip-sip-savour-spring-2025/
LOCATION:The Lions Event Centre\, 109 5th Avenue\, Cochrane\, Alberta\, Canada
CATEGORIES:Adults Only,Downtown,Entertainment & Games,LIONS EVENTS CENTRE,Market,Pub/Bar Event,Tasting event
ATTACH;FMTTYPE=image/jpeg:https://urbancasual.ca/wp-content/uploads/2025/02/476638122_1170157275112812_5226602039265742361_n.jpg
END:VEVENT
BEGIN:VEVENT
DTSTART;TZID=America/Edmonton:20250411T210000
DTEND;TZID=America/Edmonton:20250411T233000
DTSTAMP:20260425T095553
CREATED:20250331T224008Z
LAST-MODIFIED:20250331T224008Z
UID:10046143-1744405200-1744414200@urbancasual.ca
SUMMARY:Live Music at the Venue
DESCRIPTION:  \n9pm til LATE!
URL:https://urbancasual.ca/cochrane-event/live-music-at-the-venue-4/2025-04-11/
LOCATION:VENUE SPORTSBAR AND GRILL
CATEGORIES:Entertainment & Games,Music,Pub/Bar Event
ATTACH;FMTTYPE=image/jpeg:https://urbancasual.ca/wp-content/uploads/2025/03/inbound1152323467083885571.jpg
END:VEVENT
BEGIN:VEVENT
DTSTART;TZID=America/Edmonton:20250411T220000
DTEND;TZID=America/Edmonton:20250411T233000
DTSTAMP:20260425T095553
CREATED:20240917T161425Z
LAST-MODIFIED:20240917T161426Z
UID:10030886-1744408800-1744414200@urbancasual.ca
SUMMARY:The Rockyview Hotel - All Request DJ
DESCRIPTION:THE ROCKYVIEW HOTEL | EST’D IN 1904 – Celebrating 120 years in Historic Downtown. \n+ Dance the night away at the @texasgate.cochrane ! \n+ Tuesdays – learn to line dance\, 7pm\n+ Thursdays – karaoke\, 8pm\n+ Fridays / Saturdays – all request DJ\, 10pm +\n+ Sundays – All day free pool! \nTo book your stay & for more info: rockyviewhotel.ca \n  \n  \n  \n\n\n  \n\n\n\n\n\n\n\n\n\n\nView this post on Instagram\n\n\n\n\n\n\n\n\n\n\n\n\n\n\n\n\n\n\n\n\n\n\n  \nA post shared by Urban Casual Cochrane (@urbancasual.ca)
URL:https://urbancasual.ca/cochrane-event/the-rockyview-hotel-all-request-dj-2/2025-04-11/
LOCATION:Rockyview Hotel
CATEGORIES:Business,Downtown,Entertainment & Games,Pub/Bar Event,Restaurant
ATTACH;FMTTYPE=image/jpeg:https://urbancasual.ca/wp-content/uploads/2024/06/305308494_488593543275767_6866078460144404837_n.jpg
END:VEVENT
END:VCALENDAR