BEGIN:VCALENDAR
VERSION:2.0
PRODID:-//Urbancasual.ca - ECPv6.15.20//NONSGML v1.0//EN
CALSCALE:GREGORIAN
METHOD:PUBLISH
X-WR-CALNAME:Urbancasual.ca
X-ORIGINAL-URL:https://urbancasual.ca
X-WR-CALDESC:Events for Urbancasual.ca
REFRESH-INTERVAL;VALUE=DURATION:PT1H
X-Robots-Tag:noindex
X-PUBLISHED-TTL:PT1H
BEGIN:VTIMEZONE
TZID:America/Edmonton
BEGIN:DAYLIGHT
TZOFFSETFROM:-0700
TZOFFSETTO:-0600
TZNAME:MDT
DTSTART:20250309T090000
END:DAYLIGHT
BEGIN:STANDARD
TZOFFSETFROM:-0600
TZOFFSETTO:-0700
TZNAME:MST
DTSTART:20251102T080000
END:STANDARD
BEGIN:DAYLIGHT
TZOFFSETFROM:-0700
TZOFFSETTO:-0600
TZNAME:MDT
DTSTART:20260308T090000
END:DAYLIGHT
BEGIN:STANDARD
TZOFFSETFROM:-0600
TZOFFSETTO:-0700
TZNAME:MST
DTSTART:20261101T080000
END:STANDARD
BEGIN:DAYLIGHT
TZOFFSETFROM:-0700
TZOFFSETTO:-0600
TZNAME:MDT
DTSTART:20270314T090000
END:DAYLIGHT
BEGIN:STANDARD
TZOFFSETFROM:-0600
TZOFFSETTO:-0700
TZNAME:MST
DTSTART:20271107T080000
END:STANDARD
END:VTIMEZONE
BEGIN:VEVENT
DTSTART;TZID=America/Edmonton:20260722T160000
DTEND;TZID=America/Edmonton:20260722T220000
DTSTAMP:20260419T055207
CREATED:20260311T161917Z
LAST-MODIFIED:20260311T161929Z
UID:10056706-1784736000-1784757600@urbancasual.ca
SUMMARY:Wings Night at MR MIKES
DESCRIPTION:Wing Wednesday gets seriously saucy…Come down to Mr Mikes Cochrane and dive in wings first to a plate of hot and delicious wings for $10 from 4pm- close!
URL:https://urbancasual.ca/cochrane-event/wings-night-at-mr-mikes/2026-07-22/
LOCATION:Mr. Mike’s Steakhouse
CATEGORIES:Business,Family Friendly,Food,Pub/Bar Event,Restaurant
ATTACH;FMTTYPE=image/jpeg:https://urbancasual.ca/wp-content/uploads/2023/11/649881287_18331633033168933_61308077822206636_n.jpg
END:VEVENT
BEGIN:VEVENT
DTSTART;TZID=America/Edmonton:20260722T163000
DTEND;TZID=America/Edmonton:20260722T193000
DTSTAMP:20260419T055207
CREATED:20260304T000609Z
LAST-MODIFIED:20260304T000609Z
UID:10056328-1784737800-1784748600@urbancasual.ca
SUMMARY:Wing Wednesdays at The Legion
DESCRIPTION:$8.75 per order \n4:30pm to 7:30pm \n  \n*********** \nTAKE OUT $11.75
URL:https://urbancasual.ca/cochrane-event/wing-wednesdays-at-the-legion/2026-07-22/
LOCATION:The Legion\, 114 Fifth Ave\, Cochrane\, Canada
CATEGORIES:Family Friendly,Food,Legion,Pub/Bar Event
ATTACH;FMTTYPE=image/jpeg:https://urbancasual.ca/wp-content/uploads/2023/11/641426488_122211457496544523_2350288989248374889_n.jpg
END:VEVENT
BEGIN:VEVENT
DTSTART;TZID=America/Edmonton:20260722T170000
DTEND;TZID=America/Edmonton:20260722T203000
DTSTAMP:20260419T055207
CREATED:20241210T012230Z
LAST-MODIFIED:20260211T225039Z
UID:10039783-1784739600-1784752200@urbancasual.ca
SUMMARY:Wing Night at The Taproom
DESCRIPTION:Join us every Wednesday from 5pm to 8:30pm for $8.50/lb wings! \nWe have a variety of flavours from you to choose from. You won’t wanna miss it!
URL:https://urbancasual.ca/cochrane-event/wing-night-at-the-taproom/2026-07-22/
LOCATION:Rocky View Taproom\, 420 1st Street\, Cochrane\, AB
CATEGORIES:Business,Entertainment & Games,Food,Pub/Bar Event,Restaurant
ATTACH;FMTTYPE=image/jpeg:https://urbancasual.ca/wp-content/uploads/2024/12/465707656_18375053353104462_8115185856607810178_n.jpg
END:VEVENT
BEGIN:VEVENT
DTSTART;TZID=America/Edmonton:20260722T180000
DTEND;TZID=America/Edmonton:20260722T210000
DTSTAMP:20260419T055207
CREATED:20241202T000531Z
LAST-MODIFIED:20241202T000605Z
UID:10037786-1784743200-1784754000@urbancasual.ca
SUMMARY:Country Music with Turner Bates at the Venue
DESCRIPTION:
URL:https://urbancasual.ca/cochrane-event/country-music-with-turner-bates-at-the-venue/2026-07-22/
LOCATION:AB
CATEGORIES:Adults Only,Business,Entertainment & Games,Food,Music,Pub/Bar Event
ATTACH;FMTTYPE=image/jpeg:https://urbancasual.ca/wp-content/uploads/2024/12/463385392_17920216139988797_9181419957565291331_n.jpg
END:VEVENT
BEGIN:VEVENT
DTSTART;TZID=America/Edmonton:20260722T190000
DTEND;TZID=America/Edmonton:20260722T210000
DTSTAMP:20260419T055207
CREATED:20260107T215720Z
LAST-MODIFIED:20260107T215720Z
UID:10053461-1784746800-1784754000@urbancasual.ca
SUMMARY:WRITER'S UNPLUGGED: OPEN MIC AT FOUND
DESCRIPTION:Join us for the Writers’ Unplugged – An Open Mic Night. \nShare your words while surrounded by walls of books\, in front of the friendliest audience you’ll ever meet. It’s easy. Show up with a max of 5 minutes of material to share. Throw your name into the hat. Readers are drawn at random. Poetry\, fiction\, non-fiction\, songs\, dramatic monologues…anything goes. Maybe you’re not ready to read in front of people and just want to enjoy the show. Be a part of our live studio audience\, cheer on our writers. \nSee you soon.
URL:https://urbancasual.ca/cochrane-event/writers-unplugged-open-mic-at-found/2026-07-22/
LOCATION:Found Book Shop\, 206 1st Street W\, Cochrane\, AB
CATEGORIES:Business,Community,Entertainment & Games,Music,Networking,OPEN MIC,Pub/Bar Event
ATTACH;FMTTYPE=image/jpeg:https://urbancasual.ca/wp-content/uploads/2026/01/605999718_1466878912106258_9063168567219491639_n.jpg
END:VEVENT
END:VCALENDAR