BEGIN:VCALENDAR
VERSION:2.0
PRODID:-//Urbancasual.ca - ECPv6.15.20//NONSGML v1.0//EN
CALSCALE:GREGORIAN
METHOD:PUBLISH
X-ORIGINAL-URL:https://urbancasual.ca
X-WR-CALDESC:Events for Urbancasual.ca
REFRESH-INTERVAL;VALUE=DURATION:PT1H
X-Robots-Tag:noindex
X-PUBLISHED-TTL:PT1H
BEGIN:VTIMEZONE
TZID:America/Edmonton
BEGIN:DAYLIGHT
TZOFFSETFROM:-0700
TZOFFSETTO:-0600
TZNAME:MDT
DTSTART:20240310T090000
END:DAYLIGHT
BEGIN:STANDARD
TZOFFSETFROM:-0600
TZOFFSETTO:-0700
TZNAME:MST
DTSTART:20241103T080000
END:STANDARD
BEGIN:DAYLIGHT
TZOFFSETFROM:-0700
TZOFFSETTO:-0600
TZNAME:MDT
DTSTART:20250309T090000
END:DAYLIGHT
BEGIN:STANDARD
TZOFFSETFROM:-0600
TZOFFSETTO:-0700
TZNAME:MST
DTSTART:20251102T080000
END:STANDARD
BEGIN:DAYLIGHT
TZOFFSETFROM:-0700
TZOFFSETTO:-0600
TZNAME:MDT
DTSTART:20260308T090000
END:DAYLIGHT
BEGIN:STANDARD
TZOFFSETFROM:-0600
TZOFFSETTO:-0700
TZNAME:MST
DTSTART:20261101T080000
END:STANDARD
END:VTIMEZONE
BEGIN:VEVENT
DTSTART;TZID=America/Edmonton:20250318T183000
DTEND;TZID=America/Edmonton:20250318T200000
DTSTAMP:20260424T195826
CREATED:20250121T225446Z
LAST-MODIFIED:20250121T225726Z
UID:10044136-1742322600-1742328000@urbancasual.ca
SUMMARY:Taproom Trivia
DESCRIPTION:TUESDAY\, JANUARY 21 – 6:30PM TO 8PM \n  \nEVERY TWO WEEKS: \nFEBRUARY 4TH \nFEBRUARY 18TH \nMARCH 4TH \nMARCH 18TH \nAPRIL 1ST \nAPRIL 15TH \n  \n  \n 
URL:https://urbancasual.ca/cochrane-event/taproom-trivia-3/2025-03-18/
LOCATION:Rocky View Taproom\, 420 1st Street\, Cochrane\, AB
CATEGORIES:Business,Community,Downtown,Entertainment & Games,Free,Pub/Bar Event
ATTACH;FMTTYPE=image/jpeg:https://urbancasual.ca/wp-content/uploads/2025/01/471541011_1222709709317447_3641802563782279192_n.jpg
END:VEVENT
BEGIN:VEVENT
DTSTART;TZID=America/Edmonton:20250318T190000
DTEND;TZID=America/Edmonton:20250318T210000
DTSTAMP:20260424T195826
CREATED:20240618T152427Z
LAST-MODIFIED:20240619T174110Z
UID:10028755-1742324400-1742331600@urbancasual.ca
SUMMARY:Rockyview Hotel - Learn to line dance
DESCRIPTION:THE ROCKYVIEW HOTEL | EST’D IN 1904 – Celebrating 120 years in Historic Downtown. \n+ Dance the night away at the @texasgate.cochrane ! \n+ Tuesdays – learn to line dance\, 7pm\n+ Thursdays – karaoke\, 8pm\n+ Fridays / Saturdays – all request DJ\, 10pm\n+ Sundays – All day free pool! \nTo book your stay & for more info: rockyviewhotel.ca \n  \n\n\n  \n\n\n\n\n\n\n\n\n\n\nView this post on Instagram\n\n\n\n\n\n\n\n\n\n\n\n\n\n\n\n\n\n\n\n\n\n\n  \nA post shared by Urban Casual Cochrane (@urbancasual.ca)
URL:https://urbancasual.ca/cochrane-event/rockyview-hotel-learn-to-line-dance/2025-03-18/
LOCATION:Rockyview Hotel
CATEGORIES:Business,Downtown,Hotel,Pub/Bar Event,Restaurant
ATTACH;FMTTYPE=image/jpeg:https://urbancasual.ca/wp-content/uploads/2024/06/305308494_488593543275767_6866078460144404837_n.jpg
END:VEVENT
BEGIN:VEVENT
DTSTART;TZID=America/Edmonton:20250318T190000
DTEND;TZID=America/Edmonton:20250318T210000
DTSTAMP:20260424T195826
CREATED:20250205T165014Z
LAST-MODIFIED:20250205T165014Z
UID:10044633-1742324400-1742331600@urbancasual.ca
SUMMARY:Jilly's Smutty Corner Book Club
DESCRIPTION:Jilly’s Smutty Corner Book Club\n\n\n\nTue Feb 11th\, 2025 to Tue Jun 10th\, 2025\n\n\n\n7:00 PM\n\n\n–\n\n\n9:00 PM\n\n\n\n\n\n\n\n\n\n\n\nThe Smutty Romantasy Book Club! Welcome to the Jilly’s Smutty Corner Book Club\, where passion meets magic and every book is filled with steamy romance and thrilling adventures. Dive into enchanting worlds where love knows no bounds and fantasies come alive. Our club is a haven for those who crave spellbinding stories of forbidden love\, powerful sorcery\, and heart-pounding desire. Whether you’re a seasoned romantasy reader or just dipping your toes into the genre\, our community is here to share\, discuss\, and celebrate the hottest and most tantalizing reads. Join us for monthly book picks\, lively discussions\, and more. Get ready to embark on a journey where every book is a gateway to an unforgettable\, smutty escape! No purchase necessary\, although buying the book from us is appreciated 😉
URL:https://urbancasual.ca/cochrane-event/jillys-smutty-corner-book-club/2025-03-18/
LOCATION:Found Book Shop\, 206 1st Street W\, Cochrane\, AB
CATEGORIES:Book Club,Community,Free,Learning,Networking,Pub/Bar Event
ATTACH;FMTTYPE=image/png:https://urbancasual.ca/wp-content/uploads/2025/02/Jillys_Smutty_Corner.png
END:VEVENT
END:VCALENDAR