BEGIN:VCALENDAR
VERSION:2.0
PRODID:-//Urbancasual.ca - ECPv6.15.20//NONSGML v1.0//EN
CALSCALE:GREGORIAN
METHOD:PUBLISH
X-WR-CALNAME:Urbancasual.ca
X-ORIGINAL-URL:https://urbancasual.ca
X-WR-CALDESC:Events for Urbancasual.ca
REFRESH-INTERVAL;VALUE=DURATION:PT1H
X-Robots-Tag:noindex
X-PUBLISHED-TTL:PT1H
BEGIN:VTIMEZONE
TZID:America/Edmonton
BEGIN:DAYLIGHT
TZOFFSETFROM:-0700
TZOFFSETTO:-0600
TZNAME:MDT
DTSTART:20240310T090000
END:DAYLIGHT
BEGIN:STANDARD
TZOFFSETFROM:-0600
TZOFFSETTO:-0700
TZNAME:MST
DTSTART:20241103T080000
END:STANDARD
BEGIN:DAYLIGHT
TZOFFSETFROM:-0700
TZOFFSETTO:-0600
TZNAME:MDT
DTSTART:20250309T090000
END:DAYLIGHT
BEGIN:STANDARD
TZOFFSETFROM:-0600
TZOFFSETTO:-0700
TZNAME:MST
DTSTART:20251102T080000
END:STANDARD
BEGIN:DAYLIGHT
TZOFFSETFROM:-0700
TZOFFSETTO:-0600
TZNAME:MDT
DTSTART:20260308T090000
END:DAYLIGHT
BEGIN:STANDARD
TZOFFSETFROM:-0600
TZOFFSETTO:-0700
TZNAME:MST
DTSTART:20261101T080000
END:STANDARD
END:VTIMEZONE
BEGIN:VEVENT
DTSTART;TZID=America/Edmonton:20251009T180000
DTEND;TZID=America/Edmonton:20251009T203000
DTSTAMP:20260420T123931
CREATED:20251001T170723Z
LAST-MODIFIED:20251001T212116Z
UID:10050551-1760032800-1760041800@urbancasual.ca
SUMMARY:MEET & GREET - WOMEN CANDIDATES OF COCHRANE
DESCRIPTION:Cochrane is growing and your voice matters! Come share your comments and concerns and meet the women candidates of Cochrane. Learn about their vision for their community.This is a casual event and all candidates and everyone and anyone is welcome! Thursday Oct. 9th 6:00-8:30pm Lion’s Event Centre 109 5th Ave\, Cochrane\, ABFacebook event link  https://www.facebook.com/share/174H3TaLQu/ \n 
URL:https://urbancasual.ca/cochrane-event/meet-greet-women-candidates-of-cochrane/
LOCATION:The Lions Event Centre\, 109 5th Avenue\, Cochrane\, Alberta\, Canada
CATEGORIES:Community,MEET & GREET,Politics
ATTACH;FMTTYPE=image/jpeg:https://urbancasual.ca/wp-content/uploads/2025/10/557470822_122129716562952457_9071045861465281568_n.jpg
END:VEVENT
END:VCALENDAR