BEGIN:VCALENDAR
VERSION:2.0
PRODID:-//Urbancasual.ca - ECPv6.15.20//NONSGML v1.0//EN
CALSCALE:GREGORIAN
METHOD:PUBLISH
X-ORIGINAL-URL:https://urbancasual.ca
X-WR-CALDESC:Events for Urbancasual.ca
REFRESH-INTERVAL;VALUE=DURATION:PT1H
X-Robots-Tag:noindex
X-PUBLISHED-TTL:PT1H
BEGIN:VTIMEZONE
TZID:America/Edmonton
BEGIN:DAYLIGHT
TZOFFSETFROM:-0700
TZOFFSETTO:-0600
TZNAME:MDT
DTSTART:20240310T090000
END:DAYLIGHT
BEGIN:STANDARD
TZOFFSETFROM:-0600
TZOFFSETTO:-0700
TZNAME:MST
DTSTART:20241103T080000
END:STANDARD
BEGIN:DAYLIGHT
TZOFFSETFROM:-0700
TZOFFSETTO:-0600
TZNAME:MDT
DTSTART:20250309T090000
END:DAYLIGHT
BEGIN:STANDARD
TZOFFSETFROM:-0600
TZOFFSETTO:-0700
TZNAME:MST
DTSTART:20251102T080000
END:STANDARD
BEGIN:DAYLIGHT
TZOFFSETFROM:-0700
TZOFFSETTO:-0600
TZNAME:MDT
DTSTART:20260308T090000
END:DAYLIGHT
BEGIN:STANDARD
TZOFFSETFROM:-0600
TZOFFSETTO:-0700
TZNAME:MST
DTSTART:20261101T080000
END:STANDARD
END:VTIMEZONE
BEGIN:VEVENT
DTSTART;TZID=America/Edmonton:20251118T170000
DTEND;TZID=America/Edmonton:20251118T200000
DTSTAMP:20260420T214941
CREATED:20251106T174019Z
LAST-MODIFIED:20251106T174019Z
UID:10051156-1763485200-1763496000@urbancasual.ca
SUMMARY:Cochrane Osteotherapy for Pets
DESCRIPTION:Heather from Spirit of the West Osteopathy will be in-store to perform osteopathy on your pets! Osteopathy is hands on manual therapy that focuses on aligning your body so that your body can heal itself. \nHeather has worked on Jack several times\, and he does so well after. If you have any questions\, contact Heather at (403) 607-2486 or check out her FB page.
URL:https://urbancasual.ca/cochrane-event/cochrane-osteotherapy-for-pets/
LOCATION:PET VALU COCHRANE\, 55 BOW STREET COMMON\, COCHRANE
CATEGORIES:Animals,Business,Learning,Pets
ATTACH;FMTTYPE=image/jpeg:https://urbancasual.ca/wp-content/uploads/2025/11/577017057_1448579763944868_1513620354849717183_n.jpg
END:VEVENT
END:VCALENDAR