BEGIN:VCALENDAR
VERSION:2.0
PRODID:-//Urbancasual.ca - ECPv6.15.20//NONSGML v1.0//EN
CALSCALE:GREGORIAN
METHOD:PUBLISH
X-ORIGINAL-URL:https://urbancasual.ca
X-WR-CALDESC:Events for Urbancasual.ca
REFRESH-INTERVAL;VALUE=DURATION:PT1H
X-Robots-Tag:noindex
X-PUBLISHED-TTL:PT1H
BEGIN:VTIMEZONE
TZID:America/Edmonton
BEGIN:DAYLIGHT
TZOFFSETFROM:-0700
TZOFFSETTO:-0600
TZNAME:MDT
DTSTART:20250309T090000
END:DAYLIGHT
BEGIN:STANDARD
TZOFFSETFROM:-0600
TZOFFSETTO:-0700
TZNAME:MST
DTSTART:20251102T080000
END:STANDARD
BEGIN:DAYLIGHT
TZOFFSETFROM:-0700
TZOFFSETTO:-0600
TZNAME:MDT
DTSTART:20260308T090000
END:DAYLIGHT
BEGIN:STANDARD
TZOFFSETFROM:-0600
TZOFFSETTO:-0700
TZNAME:MST
DTSTART:20261101T080000
END:STANDARD
BEGIN:DAYLIGHT
TZOFFSETFROM:-0700
TZOFFSETTO:-0600
TZNAME:MDT
DTSTART:20270314T090000
END:DAYLIGHT
BEGIN:STANDARD
TZOFFSETFROM:-0600
TZOFFSETTO:-0700
TZNAME:MST
DTSTART:20271107T080000
END:STANDARD
END:VTIMEZONE
BEGIN:VEVENT
DTSTART;TZID=America/Edmonton:20260901T190000
DTEND;TZID=America/Edmonton:20260901T220000
DTSTAMP:20260420T201759
CREATED:20260329T005646Z
LAST-MODIFIED:20260329T005959Z
UID:10058398-1788289200-1788300000@urbancasual.ca
SUMMARY:OPEN MIC / OPEN JAM AT THE SHIRE PUB
DESCRIPTION:Every Tuesday we have a Jam/Open Mic night for all . \nNo matter what instrument or type of music you play\, come on down.
URL:https://urbancasual.ca/cochrane-event/open-mic-open-jam-at-the-shire-pub/2026-09-01/
LOCATION:The Shire Pub\, 8-57 West Aarsby Road\, Cochrane\, AB
CATEGORIES:Adults Only,Entertainment & Games,Music,OPEN MIC,Pub/Bar Event,Restaurant
ATTACH;FMTTYPE=image/webp:https://urbancasual.ca/wp-content/uploads/2026/03/432615705_386171574189780_2391788280087978784_n-768x614-1.webp
END:VEVENT
BEGIN:VEVENT
DTSTART;TZID=America/Edmonton:20260902T190000
DTEND;TZID=America/Edmonton:20260902T210000
DTSTAMP:20260420T201759
CREATED:20260107T213841Z
LAST-MODIFIED:20260107T214430Z
UID:10053427-1788375600-1788382800@urbancasual.ca
SUMMARY:OPEN MIC AT FOUND
DESCRIPTION:  \nThe first Wednesday of every month belongs to the songwriters. \nHosted by the magnetic Devin Foster and presented by Blue Willow Entertainment and Found Books & Shop\, this open mic invites emerging and seasoned artists to step up to the mic and share their craft. Expect a supportive crowd\, a cozy room\, tasty drinks and a lineup that’s never the same twice. \nBlue Willow Entertainment will be there looking for support acts & headliners for their upcoming shows around Alberta. Please note – only original music is requested at this open mic. \nRegister HERE \n  \n 
URL:https://urbancasual.ca/cochrane-event/open-mic-at-found/2026-09-02/
LOCATION:Found Book Shop\, 206 1st Street W\, Cochrane\, AB
CATEGORIES:Business,Community,Entertainment & Games,Music,Networking,OPEN MIC,Pub/Bar Event
ATTACH;FMTTYPE=image/jpeg:https://urbancasual.ca/wp-content/uploads/2026/01/607945410_1466878915439591_5974467451227350116_n.jpg
END:VEVENT
BEGIN:VEVENT
DTSTART;TZID=America/Edmonton:20260906T130000
DTEND;TZID=America/Edmonton:20260906T170000
DTSTAMP:20260420T201759
CREATED:20250808T234555Z
LAST-MODIFIED:20250808T234555Z
UID:10049943-1788699600-1788714000@urbancasual.ca
SUMMARY:SUNDAY JAM AT THE LEGION
DESCRIPTION:DOORS OPEN AT 1PM \nJAM STARTS AT 2PM
URL:https://urbancasual.ca/cochrane-event/sunday-jam-at-the-legion-3/2026-09-06/
LOCATION:The Legion\, 114 Fifth Ave\, Cochrane\, Canada
CATEGORIES:Community,Entertainment & Games,Family Friendly,Music,OPEN MIC,Parents & Caregivers
ATTACH;FMTTYPE=image/jpeg:https://urbancasual.ca/wp-content/uploads/2025/08/528714354_122185878086544523_8264551211710086241_n-1.jpg
END:VEVENT
END:VCALENDAR