BEGIN:VCALENDAR
VERSION:2.0
PRODID:-//Urbancasual.ca - ECPv6.15.20//NONSGML v1.0//EN
CALSCALE:GREGORIAN
METHOD:PUBLISH
X-ORIGINAL-URL:https://urbancasual.ca
X-WR-CALDESC:Events for Urbancasual.ca
REFRESH-INTERVAL;VALUE=DURATION:PT1H
X-Robots-Tag:noindex
X-PUBLISHED-TTL:PT1H
BEGIN:VTIMEZONE
TZID:America/Edmonton
BEGIN:DAYLIGHT
TZOFFSETFROM:-0700
TZOFFSETTO:-0600
TZNAME:MDT
DTSTART:20240310T090000
END:DAYLIGHT
BEGIN:STANDARD
TZOFFSETFROM:-0600
TZOFFSETTO:-0700
TZNAME:MST
DTSTART:20241103T080000
END:STANDARD
BEGIN:DAYLIGHT
TZOFFSETFROM:-0700
TZOFFSETTO:-0600
TZNAME:MDT
DTSTART:20250309T090000
END:DAYLIGHT
BEGIN:STANDARD
TZOFFSETFROM:-0600
TZOFFSETTO:-0700
TZNAME:MST
DTSTART:20251102T080000
END:STANDARD
BEGIN:DAYLIGHT
TZOFFSETFROM:-0700
TZOFFSETTO:-0600
TZNAME:MDT
DTSTART:20260308T090000
END:DAYLIGHT
BEGIN:STANDARD
TZOFFSETFROM:-0600
TZOFFSETTO:-0700
TZNAME:MST
DTSTART:20261101T080000
END:STANDARD
END:VTIMEZONE
BEGIN:VEVENT
DTSTART;TZID=America/Edmonton:20251002T180000
DTEND;TZID=America/Edmonton:20251002T210000
DTSTAMP:20260425T041818
CREATED:20250116T215043Z
LAST-MODIFIED:20250116T215043Z
UID:10043731-1759428000-1759438800@urbancasual.ca
SUMMARY:LEGION: EUCHRE
DESCRIPTION:DROP IN THURSDAY NIGHTS AT 6PM \n  \n 
URL:https://urbancasual.ca/cochrane-event/legion-euchre/2025-10-02/
LOCATION:The Legion\, 114 Fifth Ave\, Cochrane\, Canada
CATEGORIES:Adults Only,Community,Entertainment & Games,Networking,Parents & Caregivers,Seniors
ATTACH;FMTTYPE=image/jpeg:https://urbancasual.ca/wp-content/uploads/2025/01/EUCHRE.jpeg
END:VEVENT
BEGIN:VEVENT
DTSTART;TZID=America/Edmonton:20251004T160000
DTEND;TZID=America/Edmonton:20251004T180000
DTSTAMP:20260425T041818
CREATED:20250116T214209Z
LAST-MODIFIED:20250416T174217Z
UID:10043477-1759593600-1759600800@urbancasual.ca
SUMMARY:LEGION: SHUFFLE BOARD
DESCRIPTION:DROP IN TUESDAYS AND THURSDAYS AT 4PM \nDROP IN SATURDAYS AT 2PM \n  \n 
URL:https://urbancasual.ca/cochrane-event/legion-shuffle-board-2/2025-10-04/
LOCATION:The Legion\, 114 Fifth Ave\, Cochrane\, Canada
CATEGORIES:Adults Only,Community,Entertainment & Games,Legion,Networking,Parents & Caregivers,Seniors
ATTACH;FMTTYPE=image/jpeg:https://urbancasual.ca/wp-content/uploads/2025/01/Shuffleboard.jpg
END:VEVENT
BEGIN:VEVENT
DTSTART;TZID=America/Edmonton:20251004T173000
DTEND;TZID=America/Edmonton:20251004T190000
DTSTAMP:20260425T041818
CREATED:20250918T162129Z
LAST-MODIFIED:20250918T162129Z
UID:10050429-1759599000-1759604400@urbancasual.ca
SUMMARY:CANDIDATE FORUM AT SENIORS ON THE BOW
DESCRIPTION:Join us on Saturday\, October 4th at 5:30 pm for a Candidate Forum at the SOTB Auditorium. \nGet a chance to meet the candidates for the upcoming Cochrane election and hear them answer some questions about their ideas for our great town.
URL:https://urbancasual.ca/cochrane-event/candidate-forum-at-seniors-on-the-bow/
LOCATION:Seniors on the Bow\, 800 Griffin Road E.\, Cochrane\, AB\, Canada
CATEGORIES:Community,Election,Learning,Networking,Politics,Seniors
ATTACH;FMTTYPE=image/jpeg:https://urbancasual.ca/wp-content/uploads/2025/09/inbound5751343242434662413.jpg
END:VEVENT
BEGIN:VEVENT
DTSTART;TZID=America/Edmonton:20251006T183000
DTEND;TZID=America/Edmonton:20251006T213000
DTSTAMP:20260425T041818
CREATED:20250116T214838Z
LAST-MODIFIED:20250116T214838Z
UID:10043617-1759775400-1759786200@urbancasual.ca
SUMMARY:LEGION: POOL LEAGUE
DESCRIPTION:MONDAY AND WEDNESDAY NIGHTS AT 6:30PM \nCONTACT PACIFIC VENDING AT (587) 577-5434 \n  \n 
URL:https://urbancasual.ca/cochrane-event/legion-pool-league/2025-10-06/
LOCATION:The Legion\, 114 Fifth Ave\, Cochrane\, Canada
CATEGORIES:Adults Only,Community,Entertainment & Games,Networking,Parents & Caregivers,Seniors
ATTACH;FMTTYPE=image/jpeg:https://urbancasual.ca/wp-content/uploads/2025/01/image-asset-1.jpeg
END:VEVENT
BEGIN:VEVENT
DTSTART;TZID=America/Edmonton:20251006T190000
DTEND;TZID=America/Edmonton:20251006T210000
DTSTAMP:20260425T041818
CREATED:20250729T182203Z
LAST-MODIFIED:20250729T182203Z
UID:10049719-1759777200-1759784400@urbancasual.ca
SUMMARY:Cochrane Sings Practice
DESCRIPTION:Our new Season begins MONDAY SEPTEMBER 8 and if you’re thinking about what awesome amazing extracurricular activity you should join\, look no further\, ESPECIALLY if you’re a MAN!! Yes we are a MIXED adult choir and YES we have some pretty incredible MEN!! \nMondays from 7:00-9:00pm \nAt the All Saints Anglican Church at 404-4th Ave \nwww. cochranesings.com for more info!
URL:https://urbancasual.ca/cochrane-event/cochrane-sings-practice/2025-10-06/
LOCATION:All Saints Anglican Church\, 404 Fourth Ave N\, Cochrane\, Alberta
CATEGORIES:Choir,Club,Community,Entertainment & Games,Learning,Networking,Seniors
ATTACH;FMTTYPE=image/jpeg:https://urbancasual.ca/wp-content/uploads/2025/07/524116941_596548306856893_7660379351601470637_n.jpg
END:VEVENT
BEGIN:VEVENT
DTSTART;TZID=America/Edmonton:20251006T193000
DTEND;TZID=America/Edmonton:20251006T213000
DTSTAMP:20260425T041818
CREATED:20250116T211555Z
LAST-MODIFIED:20250116T211555Z
UID:10043223-1759779000-1759786200@urbancasual.ca
SUMMARY:LEGION: DART LEAGUE
DESCRIPTION:MONDAY NIGHTS AT 7:30PM \n  \nLEAGUE CONTACT: WWW.COCHRANEDARTS.COM
URL:https://urbancasual.ca/cochrane-event/legion-dart-league/2025-10-06/
LOCATION:The Legion\, 114 Fifth Ave\, Cochrane\, Canada
CATEGORIES:Adults Only,Community,Entertainment & Games,Networking,Parents & Caregivers,Seniors
ATTACH;FMTTYPE=image/jpeg:https://urbancasual.ca/wp-content/uploads/2025/01/DART.jpeg
END:VEVENT
BEGIN:VEVENT
DTSTART;TZID=America/Edmonton:20251007T070000
DTEND;TZID=America/Edmonton:20251007T090000
DTSTAMP:20260425T041818
CREATED:20251006T223007Z
LAST-MODIFIED:20251006T223007Z
UID:10050575-1759820400-1759827600@urbancasual.ca
SUMMARY:FOUNDERS COFFEE
DESCRIPTION:Join us for a morning of networking at our FOUNDERS COFFEE event on the 1st and 3rd Tuesday of the month at SUNNY SIDE UP in Cochrane\, at 7am. This event is free\, but you buy your own breakfast or coffee. \nDates: The 1st and 3rd Tuesday of each month \nTime: 7am to 9am \nWhere: SUNNY SIDE UP COCHRANE\, 205 1st Street W. in Cochrane\, AB \n*just show up!
URL:https://urbancasual.ca/cochrane-event/founders-coffee-4/2025-10-07/
LOCATION:AB
CATEGORIES:Business,Community,Employment,Networking
ATTACH;FMTTYPE=image/webp:https://urbancasual.ca/wp-content/uploads/2025/10/ICFOUNDERS1640X850.webp
END:VEVENT
BEGIN:VEVENT
DTSTART;TZID=America/Edmonton:20251007T080000
DTEND;TZID=America/Edmonton:20251007T093000
DTSTAMP:20260425T041818
CREATED:20221228T233907Z
LAST-MODIFIED:20221228T233907Z
UID:10012467-1759824000-1759829400@urbancasual.ca
SUMMARY:BNI Inspire - Monthly In-Person Meeting(1st Tue of each month)
DESCRIPTION:We help business professionals grow their business through a structured\, positive\, and professional referral marketing program. \nEvery 1st Tuesday of each month at the Legion\, from 8am to 9:30am.
URL:https://urbancasual.ca/cochrane-event/bni-inspire-monthly-in-person-meeting1st-tue-of-each-month-2-2/2025-10-07/
LOCATION:The Legion\, 114 Fifth Ave\, Cochrane\, Canada
CATEGORIES:Business,Networking
ATTACH;FMTTYPE=image/jpeg:https://urbancasual.ca/wp-content/uploads/2022/12/BNI.jpg
END:VEVENT
BEGIN:VEVENT
DTSTART;TZID=America/Edmonton:20251007T160000
DTEND;TZID=America/Edmonton:20251007T180000
DTSTAMP:20260425T041818
CREATED:20250116T213557Z
LAST-MODIFIED:20250116T214050Z
UID:10043364-1759852800-1759860000@urbancasual.ca
SUMMARY:LEGION: SHUFFLE BOARD
DESCRIPTION:DROP IN TUESDAYS AND THURSDAYS AT 4PM \nDROP IN SATURDAYS AT 2PM \n  \n 
URL:https://urbancasual.ca/cochrane-event/legion-shuffle-board/2025-10-07/
LOCATION:The Legion\, 114 Fifth Ave\, Cochrane\, Canada
CATEGORIES:Adults Only,Community,Entertainment & Games,Networking,Parents & Caregivers,Seniors
ATTACH;FMTTYPE=image/jpeg:https://urbancasual.ca/wp-content/uploads/2025/01/Shuffleboard.jpg
END:VEVENT
BEGIN:VEVENT
DTSTART;TZID=America/Edmonton:20251007T160000
DTEND;TZID=America/Edmonton:20251007T180000
DTSTAMP:20260425T041818
CREATED:20250116T215252Z
LAST-MODIFIED:20250116T215252Z
UID:10043782-1759852800-1759860000@urbancasual.ca
SUMMARY:LEGION: CRIB
DESCRIPTION:DROP IN WEDNESDAYS AT 6PM \n  \n 
URL:https://urbancasual.ca/cochrane-event/legion-crib/2025-10-07/
LOCATION:The Legion\, 114 Fifth Ave\, Cochrane\, Canada
CATEGORIES:Adults Only,Community,Entertainment & Games,Networking,Parents & Caregivers,Seniors
ATTACH;FMTTYPE=image/jpeg:https://urbancasual.ca/wp-content/uploads/2025/01/Crib-1.jpg
END:VEVENT
BEGIN:VEVENT
DTSTART;TZID=America/Edmonton:20251008T080000
DTEND;TZID=America/Edmonton:20251008T100000
DTSTAMP:20260425T041818
CREATED:20250828T203850Z
LAST-MODIFIED:20250831T194115Z
UID:10050287-1759910400-1759917600@urbancasual.ca
SUMMARY:SHEDDER'S COFFEE
DESCRIPTION:Shed Coffee has been a raving success. We had 11 men come by today for great conversation and camaraderie.\n\n\n\nWe invite you to join us for the next one. Gents around 50+ but all ages are welcome\, every second Wednesday…\n\n\n\nPhil’s Restaurant @ 8am\n\n609 1 St W\, Cochrane\n\n\n\nSept 10\nSept 24\nOct 8\n\n\n\nNo registration needed\, but to learn about Cochrane & Area Men’s Shed or to contact us\, visit www.cochranemensshed.ca
URL:https://urbancasual.ca/cochrane-event/shed-coffee/2025-10-08/
LOCATION:AB
CATEGORIES:advocacy,Club,Community,Networking,Newcomers
ATTACH;FMTTYPE=image/jpeg:https://urbancasual.ca/wp-content/uploads/2025/08/539587913_122134408580841410_7360157779486385006_n.jpg
END:VEVENT
BEGIN:VEVENT
DTSTART;TZID=America/Edmonton:20251008T090000
DTEND;TZID=America/Edmonton:20251008T110000
DTSTAMP:20260425T041818
CREATED:20250813T192534Z
LAST-MODIFIED:20251103T225305Z
UID:10050139-1759914000-1759921200@urbancasual.ca
SUMMARY:Cochrane Baby Boomers Group Meet-Up - Wed AM
DESCRIPTION:EVERY WEDNESDAY – JOIN US AT ONE OR BOTH GROUPS! \nGROUP 1 – 9 TO 11AM AT THE LEGION – 114 FIFTH AVE. \nGROUP 2 – 2 TO 4PM AT THE VENUE – 79 RAILWAY ST.
URL:https://urbancasual.ca/cochrane-event/cochrane-baby-boomers-group-meet-up-wed-am/2025-10-08/
LOCATION:The Legion\, 114 Fifth Ave\, Cochrane\, Canada
CATEGORIES:Club,Community,Entertainment & Games,Networking,Seniors
ATTACH;FMTTYPE=image/jpeg:https://urbancasual.ca/wp-content/uploads/2025/08/574395226_845145031494292_977435042953266903_n.jpg
END:VEVENT
BEGIN:VEVENT
DTSTART;TZID=America/Edmonton:20251008T140000
DTEND;TZID=America/Edmonton:20251008T160000
DTSTAMP:20260425T041818
CREATED:20250813T193038Z
LAST-MODIFIED:20251103T225347Z
UID:10050177-1759932000-1759939200@urbancasual.ca
SUMMARY:Cochrane Baby Boomers Group Meet-Up - Wed PM
DESCRIPTION:EVERY WEDNESDAY – JOIN US AT ONE OR BOTH GROUPS! \nGROUP 1 – 9 TO 11AM AT LEGION – 114 5TH AVE \nGROUP 2 – 2 TO 4PM AT THE VENUE – 79 RAILWAY ST.
URL:https://urbancasual.ca/cochrane-event/cochrane-baby-boomers-group-meet-up-wed-pm/2025-10-08/
LOCATION:VENUE SPORTSBAR AND GRILL
CATEGORIES:Club,Community,Entertainment & Games,Networking,Seniors
ATTACH;FMTTYPE=image/jpeg:https://urbancasual.ca/wp-content/uploads/2025/08/574395226_845145031494292_977435042953266903_n.jpg
END:VEVENT
BEGIN:VEVENT
DTSTART;TZID=America/Edmonton:20251008T183000
DTEND;TZID=America/Edmonton:20251008T213000
DTSTAMP:20260425T041818
CREATED:20250116T214838Z
LAST-MODIFIED:20250116T214838Z
UID:10043618-1759948200-1759959000@urbancasual.ca
SUMMARY:LEGION: POOL LEAGUE
DESCRIPTION:MONDAY AND WEDNESDAY NIGHTS AT 6:30PM \nCONTACT PACIFIC VENDING AT (587) 577-5434 \n  \n 
URL:https://urbancasual.ca/cochrane-event/legion-pool-league/2025-10-08/
LOCATION:The Legion\, 114 Fifth Ave\, Cochrane\, Canada
CATEGORIES:Adults Only,Community,Entertainment & Games,Networking,Parents & Caregivers,Seniors
ATTACH;FMTTYPE=image/jpeg:https://urbancasual.ca/wp-content/uploads/2025/01/image-asset-1.jpeg
END:VEVENT
BEGIN:VEVENT
DTSTART;TZID=America/Edmonton:20251009T180000
DTEND;TZID=America/Edmonton:20251009T210000
DTSTAMP:20260425T041818
CREATED:20250116T215043Z
LAST-MODIFIED:20250116T215043Z
UID:10043732-1760032800-1760043600@urbancasual.ca
SUMMARY:LEGION: EUCHRE
DESCRIPTION:DROP IN THURSDAY NIGHTS AT 6PM \n  \n 
URL:https://urbancasual.ca/cochrane-event/legion-euchre/2025-10-09/
LOCATION:The Legion\, 114 Fifth Ave\, Cochrane\, Canada
CATEGORIES:Adults Only,Community,Entertainment & Games,Networking,Parents & Caregivers,Seniors
ATTACH;FMTTYPE=image/jpeg:https://urbancasual.ca/wp-content/uploads/2025/01/EUCHRE.jpeg
END:VEVENT
BEGIN:VEVENT
DTSTART;TZID=America/Edmonton:20251011T160000
DTEND;TZID=America/Edmonton:20251011T180000
DTSTAMP:20260425T041818
CREATED:20250116T214209Z
LAST-MODIFIED:20250416T174217Z
UID:10043478-1760198400-1760205600@urbancasual.ca
SUMMARY:LEGION: SHUFFLE BOARD
DESCRIPTION:DROP IN TUESDAYS AND THURSDAYS AT 4PM \nDROP IN SATURDAYS AT 2PM \n  \n 
URL:https://urbancasual.ca/cochrane-event/legion-shuffle-board-2/2025-10-11/
LOCATION:The Legion\, 114 Fifth Ave\, Cochrane\, Canada
CATEGORIES:Adults Only,Community,Entertainment & Games,Legion,Networking,Parents & Caregivers,Seniors
ATTACH;FMTTYPE=image/jpeg:https://urbancasual.ca/wp-content/uploads/2025/01/Shuffleboard.jpg
END:VEVENT
BEGIN:VEVENT
DTSTART;TZID=America/Edmonton:20251013T183000
DTEND;TZID=America/Edmonton:20251013T213000
DTSTAMP:20260425T041818
CREATED:20250116T214838Z
LAST-MODIFIED:20250116T214838Z
UID:10043619-1760380200-1760391000@urbancasual.ca
SUMMARY:LEGION: POOL LEAGUE
DESCRIPTION:MONDAY AND WEDNESDAY NIGHTS AT 6:30PM \nCONTACT PACIFIC VENDING AT (587) 577-5434 \n  \n 
URL:https://urbancasual.ca/cochrane-event/legion-pool-league/2025-10-13/
LOCATION:The Legion\, 114 Fifth Ave\, Cochrane\, Canada
CATEGORIES:Adults Only,Community,Entertainment & Games,Networking,Parents & Caregivers,Seniors
ATTACH;FMTTYPE=image/jpeg:https://urbancasual.ca/wp-content/uploads/2025/01/image-asset-1.jpeg
END:VEVENT
BEGIN:VEVENT
DTSTART;TZID=America/Edmonton:20251013T190000
DTEND;TZID=America/Edmonton:20251013T210000
DTSTAMP:20260425T041818
CREATED:20250729T182203Z
LAST-MODIFIED:20250729T182203Z
UID:10049720-1760382000-1760389200@urbancasual.ca
SUMMARY:Cochrane Sings Practice
DESCRIPTION:Our new Season begins MONDAY SEPTEMBER 8 and if you’re thinking about what awesome amazing extracurricular activity you should join\, look no further\, ESPECIALLY if you’re a MAN!! Yes we are a MIXED adult choir and YES we have some pretty incredible MEN!! \nMondays from 7:00-9:00pm \nAt the All Saints Anglican Church at 404-4th Ave \nwww. cochranesings.com for more info!
URL:https://urbancasual.ca/cochrane-event/cochrane-sings-practice/2025-10-13/
LOCATION:All Saints Anglican Church\, 404 Fourth Ave N\, Cochrane\, Alberta
CATEGORIES:Choir,Club,Community,Entertainment & Games,Learning,Networking,Seniors
ATTACH;FMTTYPE=image/jpeg:https://urbancasual.ca/wp-content/uploads/2025/07/524116941_596548306856893_7660379351601470637_n.jpg
END:VEVENT
BEGIN:VEVENT
DTSTART;TZID=America/Edmonton:20251013T193000
DTEND;TZID=America/Edmonton:20251013T213000
DTSTAMP:20260425T041818
CREATED:20250116T211555Z
LAST-MODIFIED:20250116T211555Z
UID:10043224-1760383800-1760391000@urbancasual.ca
SUMMARY:LEGION: DART LEAGUE
DESCRIPTION:MONDAY NIGHTS AT 7:30PM \n  \nLEAGUE CONTACT: WWW.COCHRANEDARTS.COM
URL:https://urbancasual.ca/cochrane-event/legion-dart-league/2025-10-13/
LOCATION:The Legion\, 114 Fifth Ave\, Cochrane\, Canada
CATEGORIES:Adults Only,Community,Entertainment & Games,Networking,Parents & Caregivers,Seniors
ATTACH;FMTTYPE=image/jpeg:https://urbancasual.ca/wp-content/uploads/2025/01/DART.jpeg
END:VEVENT
BEGIN:VEVENT
DTSTART;TZID=America/Edmonton:20251014T160000
DTEND;TZID=America/Edmonton:20251014T180000
DTSTAMP:20260425T041818
CREATED:20250116T213557Z
LAST-MODIFIED:20250116T214050Z
UID:10043366-1760457600-1760464800@urbancasual.ca
SUMMARY:LEGION: SHUFFLE BOARD
DESCRIPTION:DROP IN TUESDAYS AND THURSDAYS AT 4PM \nDROP IN SATURDAYS AT 2PM \n  \n 
URL:https://urbancasual.ca/cochrane-event/legion-shuffle-board/2025-10-14/
LOCATION:The Legion\, 114 Fifth Ave\, Cochrane\, Canada
CATEGORIES:Adults Only,Community,Entertainment & Games,Networking,Parents & Caregivers,Seniors
ATTACH;FMTTYPE=image/jpeg:https://urbancasual.ca/wp-content/uploads/2025/01/Shuffleboard.jpg
END:VEVENT
BEGIN:VEVENT
DTSTART;TZID=America/Edmonton:20251014T160000
DTEND;TZID=America/Edmonton:20251014T180000
DTSTAMP:20260425T041818
CREATED:20250116T215252Z
LAST-MODIFIED:20250116T215252Z
UID:10043783-1760457600-1760464800@urbancasual.ca
SUMMARY:LEGION: CRIB
DESCRIPTION:DROP IN WEDNESDAYS AT 6PM \n  \n 
URL:https://urbancasual.ca/cochrane-event/legion-crib/2025-10-14/
LOCATION:The Legion\, 114 Fifth Ave\, Cochrane\, Canada
CATEGORIES:Adults Only,Community,Entertainment & Games,Networking,Parents & Caregivers,Seniors
ATTACH;FMTTYPE=image/jpeg:https://urbancasual.ca/wp-content/uploads/2025/01/Crib-1.jpg
END:VEVENT
BEGIN:VEVENT
DTSTART;TZID=America/Edmonton:20251015T090000
DTEND;TZID=America/Edmonton:20251015T110000
DTSTAMP:20260425T041818
CREATED:20250813T192534Z
LAST-MODIFIED:20251103T225305Z
UID:10050140-1760518800-1760526000@urbancasual.ca
SUMMARY:Cochrane Baby Boomers Group Meet-Up - Wed AM
DESCRIPTION:EVERY WEDNESDAY – JOIN US AT ONE OR BOTH GROUPS! \nGROUP 1 – 9 TO 11AM AT THE LEGION – 114 FIFTH AVE. \nGROUP 2 – 2 TO 4PM AT THE VENUE – 79 RAILWAY ST.
URL:https://urbancasual.ca/cochrane-event/cochrane-baby-boomers-group-meet-up-wed-am/2025-10-15/
LOCATION:The Legion\, 114 Fifth Ave\, Cochrane\, Canada
CATEGORIES:Club,Community,Entertainment & Games,Networking,Seniors
ATTACH;FMTTYPE=image/jpeg:https://urbancasual.ca/wp-content/uploads/2025/08/574395226_845145031494292_977435042953266903_n.jpg
END:VEVENT
BEGIN:VEVENT
DTSTART;TZID=America/Edmonton:20251015T140000
DTEND;TZID=America/Edmonton:20251015T160000
DTSTAMP:20260425T041818
CREATED:20250813T193038Z
LAST-MODIFIED:20251103T225347Z
UID:10050178-1760536800-1760544000@urbancasual.ca
SUMMARY:Cochrane Baby Boomers Group Meet-Up - Wed PM
DESCRIPTION:EVERY WEDNESDAY – JOIN US AT ONE OR BOTH GROUPS! \nGROUP 1 – 9 TO 11AM AT LEGION – 114 5TH AVE \nGROUP 2 – 2 TO 4PM AT THE VENUE – 79 RAILWAY ST.
URL:https://urbancasual.ca/cochrane-event/cochrane-baby-boomers-group-meet-up-wed-pm/2025-10-15/
LOCATION:VENUE SPORTSBAR AND GRILL
CATEGORIES:Club,Community,Entertainment & Games,Networking,Seniors
ATTACH;FMTTYPE=image/jpeg:https://urbancasual.ca/wp-content/uploads/2025/08/574395226_845145031494292_977435042953266903_n.jpg
END:VEVENT
BEGIN:VEVENT
DTSTART;TZID=America/Edmonton:20251015T183000
DTEND;TZID=America/Edmonton:20251015T213000
DTSTAMP:20260425T041818
CREATED:20250116T214838Z
LAST-MODIFIED:20250116T214838Z
UID:10043620-1760553000-1760563800@urbancasual.ca
SUMMARY:LEGION: POOL LEAGUE
DESCRIPTION:MONDAY AND WEDNESDAY NIGHTS AT 6:30PM \nCONTACT PACIFIC VENDING AT (587) 577-5434 \n  \n 
URL:https://urbancasual.ca/cochrane-event/legion-pool-league/2025-10-15/
LOCATION:The Legion\, 114 Fifth Ave\, Cochrane\, Canada
CATEGORIES:Adults Only,Community,Entertainment & Games,Networking,Parents & Caregivers,Seniors
ATTACH;FMTTYPE=image/jpeg:https://urbancasual.ca/wp-content/uploads/2025/01/image-asset-1.jpeg
END:VEVENT
BEGIN:VEVENT
DTSTART;TZID=America/Edmonton:20251015T190000
DTEND;TZID=America/Edmonton:20251015T210000
DTSTAMP:20260425T041818
CREATED:20251006T223257Z
LAST-MODIFIED:20251006T223257Z
UID:10050577-1760554800-1760562000@urbancasual.ca
SUMMARY:Community Innovators Spotlight Series: Innovation in Business
DESCRIPTION:Ready to peek behind the curtain of innovation in our community? \nThis month\, join our host Nathan Klassen as he sits down with three incredible local leaders to dive deep into what innovation looks like and the game-changing impact it has on their organizations! \nMeet Our Panel: \n\n\nCourtland Penk\, Founder & President of Osprey Integrity Ltd. : Discover innovation in the world of UAV (unmanned aerial vehicles or drones) data collection and asset inspection. \n\n\nChristine McLeod\, Owner/Operator of The Pink Wand Cleaning Services Cochrane: Learn how innovation keeps a local service business sparkling! \n\n\nGeorgina De Caigny\, Executive Director of Yamnuska Wolfdog Sanctuary : Explore innovative approaches to wildlife conservation and sanctuary operations. \n\n\nYou don’t want to miss their unique perspectives on adapting\, growing\, and leading!\n \nTopic: INNOVATION IN BUSINESS \nTickets are $5 per person and they are limited! \nLocation: Found Books & Shop – 206\, 1st Street W \nTime: Doors open at 6:30pm\, with the discussion starting at 7pm\n \nPURCHASE TICKETS ON EVENTBRITE –
URL:https://urbancasual.ca/cochrane-event/community-innovators-spotlight-series-innovation-in-business/
LOCATION:Found Book Shop\, 206 1st Street W\, Cochrane\, AB
CATEGORIES:Business,Entertainment & Games,Learning,Networking
ATTACH;FMTTYPE=image/jpeg:https://urbancasual.ca/wp-content/uploads/2025/10/OCT-2025-CI-1.jpg
END:VEVENT
BEGIN:VEVENT
DTSTART;TZID=America/Edmonton:20251016T180000
DTEND;TZID=America/Edmonton:20251016T210000
DTSTAMP:20260425T041818
CREATED:20250116T215043Z
LAST-MODIFIED:20250116T215043Z
UID:10043733-1760637600-1760648400@urbancasual.ca
SUMMARY:LEGION: EUCHRE
DESCRIPTION:DROP IN THURSDAY NIGHTS AT 6PM \n  \n 
URL:https://urbancasual.ca/cochrane-event/legion-euchre/2025-10-16/
LOCATION:The Legion\, 114 Fifth Ave\, Cochrane\, Canada
CATEGORIES:Adults Only,Community,Entertainment & Games,Networking,Parents & Caregivers,Seniors
ATTACH;FMTTYPE=image/jpeg:https://urbancasual.ca/wp-content/uploads/2025/01/EUCHRE.jpeg
END:VEVENT
BEGIN:VEVENT
DTSTART;TZID=America/Edmonton:20251018T100000
DTEND;TZID=America/Edmonton:20251018T180000
DTSTAMP:20260425T041818
CREATED:20250909T195633Z
LAST-MODIFIED:20250909T195633Z
UID:10050365-1760781600-1760810400@urbancasual.ca
SUMMARY:SLR Wellness Expo
DESCRIPTION:Experience the Ultimate Wellness Market – Supporting Local\, Nurturing You! \nEvent Details: \n📆 Date & Time:\nOct 18 | 10am – 6pm\nOct 19 | 12pm – 4pm \n🎟️ Entry:\nFree Event + All Ages Welcome \n📍 Location:\nThe Cochrane Ranchehouse\n101 Ranchehouse Rd Cochrane \nAre you ready to nourish your mind\, body\, and spirit while supporting local Canadian wellness brands? The SLR Wellness Expo is more than just a market—it’s a celebration of holistic health\, natural healing\, and conscious living. Join us for a day of discovery\, inspiration\, and community as we bring together local exhibitors in health and wellness! \nAwaken. Align. Ascend. \nWelcome to the Self love renovation wellness expo Your Gateway to Higher Consciousness \nStep into a world of magic\, healing\, and transformation where ancient wisdom meets modern spirituality. This is more than an event—it’s an activation\, a space where energy shifts\, intuition awakens\, and possibilities expand. \nWhat Awaits You: \n• Sacred Shopping\nExplore a vibrant marketplace filled with high-frequency crystals\, tarot & oracle decks\, hand-crafted spiritual tools\, herbal remedies\, sacred jewelry\, and more. \n• Empowering interactive mini sessions Unlock your inner power with sessions on manifestation\, energy healing\, quantum consciousness\, astrology\, and intuitive readings and so much more. \n• Healing Experiences – Immerse yourself in sound baths\, Reiki\, aura cleansing\, past-life regression\, and other transformative modalities. \n• Like-Minded Connections – Meet healers\, seekers\, and wisdom keepers who share your journey and can help guide your path. \nThis is your invitation to step into your highest vibration. Whether you’re deep into your spiritual path or just beginning to explore\, The SLR Wellness Expo will awaken something within you.\nJoin us at The Cochrane Ranchehouse and experience the energy shift for yourself. \nThe universe has led you here—are you ready to receive? \n✨ JOIN US FOR FREE ✨ \nLets connect :\nSelf Love Renovation\nSelfloverenovation@gmail.com
URL:https://urbancasual.ca/cochrane-event/slr-wellness-expo/
LOCATION:Cochrane Ranchehouse\, 101 Ranchehouse Road\, Cochrane\, Alberta
CATEGORIES:Health & Wellness,Learning,Market,Networking
ATTACH;FMTTYPE=image/png:https://urbancasual.ca/wp-content/uploads/2025/09/1000047919.png
ORGANIZER;CN="Self Love Renovation":MAILTO:Selfloverenovation@gmail.com
END:VEVENT
BEGIN:VEVENT
DTSTART;TZID=America/Edmonton:20251018T160000
DTEND;TZID=America/Edmonton:20251018T180000
DTSTAMP:20260425T041818
CREATED:20250116T214209Z
LAST-MODIFIED:20250416T174217Z
UID:10043479-1760803200-1760810400@urbancasual.ca
SUMMARY:LEGION: SHUFFLE BOARD
DESCRIPTION:DROP IN TUESDAYS AND THURSDAYS AT 4PM \nDROP IN SATURDAYS AT 2PM \n  \n 
URL:https://urbancasual.ca/cochrane-event/legion-shuffle-board-2/2025-10-18/
LOCATION:The Legion\, 114 Fifth Ave\, Cochrane\, Canada
CATEGORIES:Adults Only,Community,Entertainment & Games,Legion,Networking,Parents & Caregivers,Seniors
ATTACH;FMTTYPE=image/jpeg:https://urbancasual.ca/wp-content/uploads/2025/01/Shuffleboard.jpg
END:VEVENT
BEGIN:VEVENT
DTSTART;TZID=America/Edmonton:20251020T183000
DTEND;TZID=America/Edmonton:20251020T213000
DTSTAMP:20260425T041818
CREATED:20250116T214838Z
LAST-MODIFIED:20250116T214838Z
UID:10043621-1760985000-1760995800@urbancasual.ca
SUMMARY:LEGION: POOL LEAGUE
DESCRIPTION:MONDAY AND WEDNESDAY NIGHTS AT 6:30PM \nCONTACT PACIFIC VENDING AT (587) 577-5434 \n  \n 
URL:https://urbancasual.ca/cochrane-event/legion-pool-league/2025-10-20/
LOCATION:The Legion\, 114 Fifth Ave\, Cochrane\, Canada
CATEGORIES:Adults Only,Community,Entertainment & Games,Networking,Parents & Caregivers,Seniors
ATTACH;FMTTYPE=image/jpeg:https://urbancasual.ca/wp-content/uploads/2025/01/image-asset-1.jpeg
END:VEVENT
BEGIN:VEVENT
DTSTART;TZID=America/Edmonton:20251020T190000
DTEND;TZID=America/Edmonton:20251020T210000
DTSTAMP:20260425T041818
CREATED:20250729T182203Z
LAST-MODIFIED:20250729T182203Z
UID:10049721-1760986800-1760994000@urbancasual.ca
SUMMARY:Cochrane Sings Practice
DESCRIPTION:Our new Season begins MONDAY SEPTEMBER 8 and if you’re thinking about what awesome amazing extracurricular activity you should join\, look no further\, ESPECIALLY if you’re a MAN!! Yes we are a MIXED adult choir and YES we have some pretty incredible MEN!! \nMondays from 7:00-9:00pm \nAt the All Saints Anglican Church at 404-4th Ave \nwww. cochranesings.com for more info!
URL:https://urbancasual.ca/cochrane-event/cochrane-sings-practice/2025-10-20/
LOCATION:All Saints Anglican Church\, 404 Fourth Ave N\, Cochrane\, Alberta
CATEGORIES:Choir,Club,Community,Entertainment & Games,Learning,Networking,Seniors
ATTACH;FMTTYPE=image/jpeg:https://urbancasual.ca/wp-content/uploads/2025/07/524116941_596548306856893_7660379351601470637_n.jpg
END:VEVENT
END:VCALENDAR