BEGIN:VCALENDAR
VERSION:2.0
PRODID:-//Urbancasual.ca - ECPv6.15.20//NONSGML v1.0//EN
CALSCALE:GREGORIAN
METHOD:PUBLISH
X-ORIGINAL-URL:https://urbancasual.ca
X-WR-CALDESC:Events for Urbancasual.ca
REFRESH-INTERVAL;VALUE=DURATION:PT1H
X-Robots-Tag:noindex
X-PUBLISHED-TTL:PT1H
BEGIN:VTIMEZONE
TZID:America/Edmonton
BEGIN:DAYLIGHT
TZOFFSETFROM:-0700
TZOFFSETTO:-0600
TZNAME:MDT
DTSTART:20240310T090000
END:DAYLIGHT
BEGIN:STANDARD
TZOFFSETFROM:-0600
TZOFFSETTO:-0700
TZNAME:MST
DTSTART:20241103T080000
END:STANDARD
BEGIN:DAYLIGHT
TZOFFSETFROM:-0700
TZOFFSETTO:-0600
TZNAME:MDT
DTSTART:20250309T090000
END:DAYLIGHT
BEGIN:STANDARD
TZOFFSETFROM:-0600
TZOFFSETTO:-0700
TZNAME:MST
DTSTART:20251102T080000
END:STANDARD
BEGIN:DAYLIGHT
TZOFFSETFROM:-0700
TZOFFSETTO:-0600
TZNAME:MDT
DTSTART:20260308T090000
END:DAYLIGHT
BEGIN:STANDARD
TZOFFSETFROM:-0600
TZOFFSETTO:-0700
TZNAME:MST
DTSTART:20261101T080000
END:STANDARD
BEGIN:DAYLIGHT
TZOFFSETFROM:-0700
TZOFFSETTO:-0600
TZNAME:MDT
DTSTART:20270314T090000
END:DAYLIGHT
BEGIN:STANDARD
TZOFFSETFROM:-0600
TZOFFSETTO:-0700
TZNAME:MST
DTSTART:20271107T080000
END:STANDARD
END:VTIMEZONE
BEGIN:VEVENT
DTSTART;TZID=America/Edmonton:20260126T190000
DTEND;TZID=America/Edmonton:20260126T210000
DTSTAMP:20260425T184104
CREATED:20250729T182203Z
LAST-MODIFIED:20250729T182203Z
UID:10049735-1769454000-1769461200@urbancasual.ca
SUMMARY:Cochrane Sings Practice
DESCRIPTION:Our new Season begins MONDAY SEPTEMBER 8 and if you’re thinking about what awesome amazing extracurricular activity you should join\, look no further\, ESPECIALLY if you’re a MAN!! Yes we are a MIXED adult choir and YES we have some pretty incredible MEN!! \nMondays from 7:00-9:00pm \nAt the All Saints Anglican Church at 404-4th Ave \nwww. cochranesings.com for more info!
URL:https://urbancasual.ca/cochrane-event/cochrane-sings-practice/2026-01-26/
LOCATION:All Saints Anglican Church\, 404 Fourth Ave N\, Cochrane\, Alberta
CATEGORIES:Choir,Club,Community,Entertainment & Games,Learning,Networking,Seniors
ATTACH;FMTTYPE=image/jpeg:https://urbancasual.ca/wp-content/uploads/2025/07/524116941_596548306856893_7660379351601470637_n.jpg
END:VEVENT
BEGIN:VEVENT
DTSTART;TZID=America/Edmonton:20260124T190000
DTEND;TZID=America/Edmonton:20260124T220000
DTSTAMP:20260425T184105
CREATED:20251210T223111Z
LAST-MODIFIED:20251210T223111Z
UID:10053128-1769281200-1769292000@urbancasual.ca
SUMMARY:SENIORS ON THE BOW - SOCK HOP
DESCRIPTION:
URL:https://urbancasual.ca/cochrane-event/seniors-on-the-bow-sock-hop/
LOCATION:Seniors on the Bow\, 800 Griffin Road E.\, Cochrane\, AB\, Canada
CATEGORIES:Community,Dance,Entertainment & Games,Networking,Pub/Bar Event,Seniors
ATTACH;FMTTYPE=image/jpeg:https://urbancasual.ca/wp-content/uploads/2025/12/inbound6252185974393648708-1.jpg
ORGANIZER;CN="Seniors on the Bow":MAILTO:sotbcentre@gmail.com
END:VEVENT
BEGIN:VEVENT
DTSTART;TZID=America/Edmonton:20260123T163000
DTEND;TZID=America/Edmonton:20260123T190000
DTSTAMP:20260425T184105
CREATED:20260119T221614Z
LAST-MODIFIED:20260119T221614Z
UID:10053538-1769185800-1769194800@urbancasual.ca
SUMMARY:Friday Night Dinner at The Legion
DESCRIPTION:Did you know the Legion on 5th Avenue in Cochrane is family-friendly AND you do not need to be a member to attend their events or dinners? \nWell now you do! \nWe usually serve up hamburgers\, hot dogs and steak\, PLUS we often have live entertainment to enjoy. \n 
URL:https://urbancasual.ca/cochrane-event/friday-night-dinner-at-the-legion-2-2/
LOCATION:The Legion\, 114 Fifth Ave\, Cochrane\, Canada
CATEGORIES:Community,Family Friendly,Food,Legion,Networking,Parents & Caregivers,Pub/Bar Event,Restaurant,Seniors
ATTACH;FMTTYPE=image/jpeg:https://urbancasual.ca/wp-content/uploads/2026/01/461036069_10160502868711848_7959954002188333440_n-2.jpg
END:VEVENT
BEGIN:VEVENT
DTSTART;TZID=America/Edmonton:20260120T190000
DTEND;TZID=America/Edmonton:20260120T210000
DTSTAMP:20260425T184105
CREATED:20260107T214734Z
LAST-MODIFIED:20260107T214734Z
UID:10053443-1768935600-1768942800@urbancasual.ca
SUMMARY:JAM & DRAW MIXER AT FOUND
DESCRIPTION:A welcoming space for musicians and artists at any skill level; play non-stop music with each other in an open circle\, “living room” setting! If you don’t play\, we will have a variety of art supplies available. \nThis space offers a chance to jam with friends and meet new people in your community. All instruments & genres (even spoken word/emcees) are welcome. This is a queer-friendly space. \nCover by donation: RSVP HERE
URL:https://urbancasual.ca/cochrane-event/jam-draw-mixer-at-found/2026-01-20/
LOCATION:Found Book Shop\, 206 1st Street W\, Cochrane\, AB
CATEGORIES:Business,Community,Crafts,Culture,Entertainment & Games,Karaoke,Learning,Music,Networking,OPEN MIC,Pub/Bar Event
ATTACH;FMTTYPE=image/jpeg:https://urbancasual.ca/wp-content/uploads/2026/01/608858685_1466878862106263_800200169564951520_n.jpg
END:VEVENT
BEGIN:VEVENT
DTSTART;TZID=America/Edmonton:20260120T120000
DTEND;TZID=America/Edmonton:20260120T140000
DTSTAMP:20260425T184105
CREATED:20260107T182603Z
LAST-MODIFIED:20260107T182603Z
UID:10053415-1768910400-1768917600@urbancasual.ca
SUMMARY:Cochrane Business Network: Moving into the New Year
DESCRIPTION:Join us on January 20 for a lunchtime session with Lea Wiens from Meaningful Movement\, where we’ll explore Movement Snacks – simple\, accessible ways to bring more movement\, energy and focus into your workday.\n\n\n\n Gentle movement only (no one likes a workout after lunch )\n Practical and realistic for busy workdays\n A great way to start the year and make new connections\n\n\n\n Lunch catered by @littlevalleybagelco – because supporting local matters \n\n\nThank you to Cochrane Toyota for providing the community space!\n\n\n\n $25 per person\n Tuesday January 20\, 12-2pm\n Cochrane Toyota Community Room\n\n Tickets available now – save your spot!\nhttps://cochranebusinessnetwork.com/upcoming-events/
URL:https://urbancasual.ca/cochrane-event/cochrane-business-network-moving-into-the-new-year/
LOCATION:Cochrane Toyota
CATEGORIES:Adults Only,Business,Community,Entrepreneur,Learning,Networking
ATTACH;FMTTYPE=image/jpeg:https://urbancasual.ca/wp-content/uploads/2026/01/LeaWeins-CBN-Toyota.jpg
END:VEVENT
BEGIN:VEVENT
DTSTART;TZID=America/Edmonton:20260120T103000
DTEND;TZID=America/Edmonton:20260120T130000
DTSTAMP:20260425T184105
CREATED:20260113T233158Z
LAST-MODIFIED:20260113T233158Z
UID:10053998-1768905000-1768914000@urbancasual.ca
SUMMARY:CHAT & CRAFT AT FARMERS LEAF CAFE
DESCRIPTION:all are welcome! Bring a craft (or not)\, come meet some amazing people!\n\nno charge\n\n10:30am JANUARY 20\, 2026\nFARMERS LEAF CAFE
URL:https://urbancasual.ca/cochrane-event/chat-craft-at-farmers-leaf-cafe-jan-20-2026/
LOCATION:AB
CATEGORIES:Art,Club,Community,Crafts,Entertainment & Games,Learning,Networking,Newcomers
ATTACH;FMTTYPE=image/jpeg:https://urbancasual.ca/wp-content/uploads/2026/01/608703735_10161749038456671_5175309452369945434_n.jpg
END:VEVENT
BEGIN:VEVENT
DTSTART;TZID=America/Edmonton:20260119T190000
DTEND;TZID=America/Edmonton:20260119T210000
DTSTAMP:20260425T184105
CREATED:20250729T182203Z
LAST-MODIFIED:20250729T182203Z
UID:10049734-1768849200-1768856400@urbancasual.ca
SUMMARY:Cochrane Sings Practice
DESCRIPTION:Our new Season begins MONDAY SEPTEMBER 8 and if you’re thinking about what awesome amazing extracurricular activity you should join\, look no further\, ESPECIALLY if you’re a MAN!! Yes we are a MIXED adult choir and YES we have some pretty incredible MEN!! \nMondays from 7:00-9:00pm \nAt the All Saints Anglican Church at 404-4th Ave \nwww. cochranesings.com for more info!
URL:https://urbancasual.ca/cochrane-event/cochrane-sings-practice/2026-01-19/
LOCATION:All Saints Anglican Church\, 404 Fourth Ave N\, Cochrane\, Alberta
CATEGORIES:Choir,Club,Community,Entertainment & Games,Learning,Networking,Seniors
ATTACH;FMTTYPE=image/jpeg:https://urbancasual.ca/wp-content/uploads/2025/07/524116941_596548306856893_7660379351601470637_n.jpg
END:VEVENT
BEGIN:VEVENT
DTSTART;TZID=America/Edmonton:20260117T170000
DTEND;TZID=America/Edmonton:20260117T190000
DTSTAMP:20260425T184105
CREATED:20260113T231042Z
LAST-MODIFIED:20260113T232910Z
UID:10053997-1768669200-1768676400@urbancasual.ca
SUMMARY:CHAT & CRAFT - EUNOIA FLOW SPA
DESCRIPTION:all are welcome! Bring a craft (or not)\, come meet some amazing people!\n\nno charge\n\n5PM\nEUNIOA FLOW SPA (NEAR THE NEW COOP IN GREYSTONE)
URL:https://urbancasual.ca/cochrane-event/chat-craft-jan-17-2026/
LOCATION:AB
CATEGORIES:Art,Club,Community,Crafts,Learning,Networking,Newcomers
ATTACH;FMTTYPE=image/jpeg:https://urbancasual.ca/wp-content/uploads/2026/01/611926669_10161749034586671_7672298066821487978_n.jpg
END:VEVENT
BEGIN:VEVENT
DTSTART;TZID=America/Edmonton:20260116T190000
DTEND;TZID=America/Edmonton:20260116T220000
DTSTAMP:20260425T184105
CREATED:20260105T224215Z
LAST-MODIFIED:20260105T224231Z
UID:10053399-1768590000-1768600800@urbancasual.ca
SUMMARY:“Winter’s Wonder”
DESCRIPTION:Join the Final Touch crew for this fabulous paint night!
URL:https://urbancasual.ca/cochrane-event/winters-wonder-2026/
LOCATION:Final Touch Art Studio\, #10 118 1 Ave West\, Cochrane\, Alberta\, Canada
CATEGORIES:Adults Only,Art,Business,Crafts,Entertainment & Games,Learning,Networking,Newcomers
ATTACH;FMTTYPE=image/png:https://urbancasual.ca/wp-content/uploads/2026/01/Your-paragraph-text-1.png
ORGANIZER;CN="Final Touch Art Studio":MAILTO:finaltouchart2015@gmail.com
END:VEVENT
BEGIN:VEVENT
DTSTART;TZID=America/Edmonton:20260116T163000
DTEND;TZID=America/Edmonton:20260116T190000
DTSTAMP:20260425T184105
CREATED:20260108T200930Z
LAST-MODIFIED:20260122T020108Z
UID:10053537-1768581000-1768590000@urbancasual.ca
SUMMARY:Friday Night Dinner at The Legion
DESCRIPTION:Did you know the Legion on 5th Avenue in Cochrane is family-friendly AND you do not need to be a member to attend their events or dinners? \nWell now you do! \nWe usually serve up hamburgers\, hot dogs and steak\, PLUS we often have live entertainment to enjoy. \n 
URL:https://urbancasual.ca/cochrane-event/friday-night-dinner-at-the-legion-2/
LOCATION:The Legion\, 114 Fifth Ave\, Cochrane\, Canada
CATEGORIES:Community,Family Friendly,Food,Legion,Networking,Parents & Caregivers,Pub/Bar Event,Restaurant,Seniors
ATTACH;FMTTYPE=image/jpeg:https://urbancasual.ca/wp-content/uploads/2026/01/461036069_10160502868711848_7959954002188333440_n-2.jpg
END:VEVENT
BEGIN:VEVENT
DTSTART;TZID=America/Edmonton:20260116T160000
DTEND;TZID=America/Edmonton:20260118T110000
DTSTAMP:20260425T184105
CREATED:20260107T220108Z
LAST-MODIFIED:20260107T220108Z
UID:10053467-1768579200-1768734000@urbancasual.ca
SUMMARY:Reading Retreat at the Pomeroy Kananaskis
DESCRIPTION:Reading Retreat at Kananaskis Lodge: 2 nights\, spa\, meals & mountain views. Disconnect\, relax & simply read.\n\n\n\n📖 Reading Retreat at Pomeroy Kananaskis Lodge\nJanuary 16 – 18\, 2026 \nStep away from the busyness of everyday life and immerse yourself in a weekend of books\, mountains\, and relaxation. Nestled in the heart of the spectacular Canadian Rockies\, the Pomeroy Kananaskis Lodge provides the perfect backdrop for a restorative escape where the only expectation is to disconnect\, slow down\, and simply read. \nYour retreat experience includes: \n🛎️ 2 nights’ accommodation at the luxurious mountain lodge \n🍳 2 breakfasts & 1 dinner\, thoughtfully prepared to nourish and delight \n🥂 Exclusive evening reception to mingle with fellow book lovers \n💧 Full day pass at the Kananaskis Nordic Spa with access to hydrotherapy pools\, steam rooms\, and saunas \n📚 Ample\, unapologetic reading time: curl up by the fire\, in the pools\, cozy into your room\, or find a quiet nook with mountain views \n🎁 A carefully curated bookish goodie bag to bring the retreat home with you \nThis retreat is designed for those who crave stillness\, connection through stories\, and the beauty of uninterrupted time with a book. Whether you’re escaping solo or coming with a friend\, you’ll leave feeling refreshed\, inspired\, and renewed. \n✨ Disconnect\, Relax & Simply Read ✨ \n🚫 What’s Not Included\nWhile your retreat package covers accommodations\, meals\, spa access\, and all bookish perks\, please note the following are not included in your registration fee: \n\n🚗 Transportation to and from the Pomeroy Kananaskis Lodge\n🅿️ Parking & Kananaskis Conservation Pass – must be purchased separately at the resort or in advance via Alberta.ca\n🏨 Resort Fee – $35 CAD per night\, added to your room and collected at check-out\n🍷 Additional beverages\, meals\, or services outside of what is listed in your retreat package\n🛡️ Travel Insurance – highly recommended to protect against unexpected changes\, cancellations\, or emergencies. This can be bought HERE or any other trusted insurance provider.
URL:https://urbancasual.ca/cochrane-event/reading-retreat-at-the-pomeroy-kananaskis/
LOCATION:AB
CATEGORIES:Adults Only,Business,Community,Entertainment & Games,Health & Wellness,Kananaskis,Learning,Networking,Retreat,Spa,Tourism
ATTACH;FMTTYPE=image/jpeg:https://urbancasual.ca/wp-content/uploads/2026/01/reading_retreat_2026_square.jpg
END:VEVENT
BEGIN:VEVENT
DTSTART;TZID=America/Edmonton:20260112T190000
DTEND;TZID=America/Edmonton:20260112T210000
DTSTAMP:20260425T184105
CREATED:20250729T182203Z
LAST-MODIFIED:20250729T182203Z
UID:10049733-1768244400-1768251600@urbancasual.ca
SUMMARY:Cochrane Sings Practice
DESCRIPTION:Our new Season begins MONDAY SEPTEMBER 8 and if you’re thinking about what awesome amazing extracurricular activity you should join\, look no further\, ESPECIALLY if you’re a MAN!! Yes we are a MIXED adult choir and YES we have some pretty incredible MEN!! \nMondays from 7:00-9:00pm \nAt the All Saints Anglican Church at 404-4th Ave \nwww. cochranesings.com for more info!
URL:https://urbancasual.ca/cochrane-event/cochrane-sings-practice/2026-01-12/
LOCATION:All Saints Anglican Church\, 404 Fourth Ave N\, Cochrane\, Alberta
CATEGORIES:Choir,Club,Community,Entertainment & Games,Learning,Networking,Seniors
ATTACH;FMTTYPE=image/jpeg:https://urbancasual.ca/wp-content/uploads/2025/07/524116941_596548306856893_7660379351601470637_n.jpg
END:VEVENT
BEGIN:VEVENT
DTSTART;TZID=America/Edmonton:20260109T163000
DTEND;TZID=America/Edmonton:20260109T190000
DTSTAMP:20260425T184105
CREATED:20260108T200742Z
LAST-MODIFIED:20260114T224153Z
UID:10053536-1767976200-1767985200@urbancasual.ca
SUMMARY:Friday Night Dinner at The Legion
DESCRIPTION:Did you know the Legion on 5th Avenue in Cochrane is family-friendly AND you do not need to be a member to attend their events or dinners? \nWell now you do! \nWe usually serve up hamburgers\, hot dogs and steak\, PLUS we often have live entertainment to enjoy. \n 
URL:https://urbancasual.ca/cochrane-event/friday-night-dinner-at-the-legion/
LOCATION:The Legion\, 114 Fifth Ave\, Cochrane\, Canada
CATEGORIES:Community,Family Friendly,Food,Legion,Networking,Parents & Caregivers,Pub/Bar Event,Restaurant,Seniors
ATTACH;FMTTYPE=image/jpeg:https://urbancasual.ca/wp-content/uploads/2026/01/461036069_10160502868711848_7959954002188333440_n-2.jpg
END:VEVENT
BEGIN:VEVENT
DTSTART;TZID=America/Edmonton:20260107T190000
DTEND;TZID=America/Edmonton:20260107T210000
DTSTAMP:20260425T184105
CREATED:20260107T213841Z
LAST-MODIFIED:20260107T214430Z
UID:10053419-1767812400-1767819600@urbancasual.ca
SUMMARY:OPEN MIC AT FOUND
DESCRIPTION:  \nThe first Wednesday of every month belongs to the songwriters. \nHosted by the magnetic Devin Foster and presented by Blue Willow Entertainment and Found Books & Shop\, this open mic invites emerging and seasoned artists to step up to the mic and share their craft. Expect a supportive crowd\, a cozy room\, tasty drinks and a lineup that’s never the same twice. \nBlue Willow Entertainment will be there looking for support acts & headliners for their upcoming shows around Alberta. Please note – only original music is requested at this open mic. \nRegister HERE \n  \n 
URL:https://urbancasual.ca/cochrane-event/open-mic-at-found/2026-01-07/
LOCATION:Found Book Shop\, 206 1st Street W\, Cochrane\, AB
CATEGORIES:Business,Community,Entertainment & Games,Music,Networking,OPEN MIC,Pub/Bar Event
ATTACH;FMTTYPE=image/jpeg:https://urbancasual.ca/wp-content/uploads/2026/01/607945410_1466878915439591_5974467451227350116_n.jpg
END:VEVENT
BEGIN:VEVENT
DTSTART;TZID=America/Edmonton:20260106T080000
DTEND;TZID=America/Edmonton:20260106T093000
DTSTAMP:20260425T184105
CREATED:20221228T233907Z
LAST-MODIFIED:20221228T233907Z
UID:10012470-1767686400-1767691800@urbancasual.ca
SUMMARY:BNI Inspire - Monthly In-Person Meeting(1st Tue of each month)
DESCRIPTION:We help business professionals grow their business through a structured\, positive\, and professional referral marketing program. \nEvery 1st Tuesday of each month at the Legion\, from 8am to 9:30am.
URL:https://urbancasual.ca/cochrane-event/bni-inspire-monthly-in-person-meeting1st-tue-of-each-month-2-2/2026-01-06/
LOCATION:The Legion\, 114 Fifth Ave\, Cochrane\, Canada
CATEGORIES:Business,Networking
ATTACH;FMTTYPE=image/jpeg:https://urbancasual.ca/wp-content/uploads/2022/12/BNI.jpg
END:VEVENT
BEGIN:VEVENT
DTSTART;TZID=America/Edmonton:20260105T190000
DTEND;TZID=America/Edmonton:20260105T210000
DTSTAMP:20260425T184105
CREATED:20250729T182203Z
LAST-MODIFIED:20250729T182203Z
UID:10049732-1767639600-1767646800@urbancasual.ca
SUMMARY:Cochrane Sings Practice
DESCRIPTION:Our new Season begins MONDAY SEPTEMBER 8 and if you’re thinking about what awesome amazing extracurricular activity you should join\, look no further\, ESPECIALLY if you’re a MAN!! Yes we are a MIXED adult choir and YES we have some pretty incredible MEN!! \nMondays from 7:00-9:00pm \nAt the All Saints Anglican Church at 404-4th Ave \nwww. cochranesings.com for more info!
URL:https://urbancasual.ca/cochrane-event/cochrane-sings-practice/2026-01-05/
LOCATION:All Saints Anglican Church\, 404 Fourth Ave N\, Cochrane\, Alberta
CATEGORIES:Choir,Club,Community,Entertainment & Games,Learning,Networking,Seniors
ATTACH;FMTTYPE=image/jpeg:https://urbancasual.ca/wp-content/uploads/2025/07/524116941_596548306856893_7660379351601470637_n.jpg
END:VEVENT
BEGIN:VEVENT
DTSTART;TZID=America/Edmonton:20251231T183000
DTEND;TZID=America/Edmonton:20251231T213000
DTSTAMP:20260425T184105
CREATED:20250116T214838Z
LAST-MODIFIED:20250116T214838Z
UID:10043642-1767205800-1767216600@urbancasual.ca
SUMMARY:LEGION: POOL LEAGUE
DESCRIPTION:MONDAY AND WEDNESDAY NIGHTS AT 6:30PM \nCONTACT PACIFIC VENDING AT (587) 577-5434 \n  \n 
URL:https://urbancasual.ca/cochrane-event/legion-pool-league/2025-12-31/
LOCATION:The Legion\, 114 Fifth Ave\, Cochrane\, Canada
CATEGORIES:Adults Only,Community,Entertainment & Games,Networking,Parents & Caregivers,Seniors
ATTACH;FMTTYPE=image/jpeg:https://urbancasual.ca/wp-content/uploads/2025/01/image-asset-1.jpeg
END:VEVENT
BEGIN:VEVENT
DTSTART;TZID=America/Edmonton:20251230T160000
DTEND;TZID=America/Edmonton:20251230T180000
DTSTAMP:20260425T184105
CREATED:20250116T215252Z
LAST-MODIFIED:20250116T215252Z
UID:10043794-1767110400-1767117600@urbancasual.ca
SUMMARY:LEGION: CRIB
DESCRIPTION:DROP IN WEDNESDAYS AT 6PM \n  \n 
URL:https://urbancasual.ca/cochrane-event/legion-crib/2025-12-30/
LOCATION:The Legion\, 114 Fifth Ave\, Cochrane\, Canada
CATEGORIES:Adults Only,Community,Entertainment & Games,Networking,Parents & Caregivers,Seniors
ATTACH;FMTTYPE=image/jpeg:https://urbancasual.ca/wp-content/uploads/2025/01/Crib-1.jpg
END:VEVENT
BEGIN:VEVENT
DTSTART;TZID=America/Edmonton:20251230T160000
DTEND;TZID=America/Edmonton:20251230T180000
DTSTAMP:20260425T184105
CREATED:20250116T213557Z
LAST-MODIFIED:20250116T214050Z
UID:10043388-1767110400-1767117600@urbancasual.ca
SUMMARY:LEGION: SHUFFLE BOARD
DESCRIPTION:DROP IN TUESDAYS AND THURSDAYS AT 4PM \nDROP IN SATURDAYS AT 2PM \n  \n 
URL:https://urbancasual.ca/cochrane-event/legion-shuffle-board/2025-12-30/
LOCATION:The Legion\, 114 Fifth Ave\, Cochrane\, Canada
CATEGORIES:Adults Only,Community,Entertainment & Games,Networking,Parents & Caregivers,Seniors
ATTACH;FMTTYPE=image/jpeg:https://urbancasual.ca/wp-content/uploads/2025/01/Shuffleboard.jpg
END:VEVENT
BEGIN:VEVENT
DTSTART;TZID=America/Edmonton:20251229T193000
DTEND;TZID=America/Edmonton:20251229T213000
DTSTAMP:20260425T184105
CREATED:20250116T211555Z
LAST-MODIFIED:20250116T211555Z
UID:10043235-1767036600-1767043800@urbancasual.ca
SUMMARY:LEGION: DART LEAGUE
DESCRIPTION:MONDAY NIGHTS AT 7:30PM \n  \nLEAGUE CONTACT: WWW.COCHRANEDARTS.COM
URL:https://urbancasual.ca/cochrane-event/legion-dart-league/2025-12-29/
LOCATION:The Legion\, 114 Fifth Ave\, Cochrane\, Canada
CATEGORIES:Adults Only,Community,Entertainment & Games,Networking,Parents & Caregivers,Seniors
ATTACH;FMTTYPE=image/jpeg:https://urbancasual.ca/wp-content/uploads/2025/01/DART.jpeg
END:VEVENT
BEGIN:VEVENT
DTSTART;TZID=America/Edmonton:20251229T190000
DTEND;TZID=America/Edmonton:20251229T210000
DTSTAMP:20260425T184105
CREATED:20250729T182203Z
LAST-MODIFIED:20250729T182203Z
UID:10049731-1767034800-1767042000@urbancasual.ca
SUMMARY:Cochrane Sings Practice
DESCRIPTION:Our new Season begins MONDAY SEPTEMBER 8 and if you’re thinking about what awesome amazing extracurricular activity you should join\, look no further\, ESPECIALLY if you’re a MAN!! Yes we are a MIXED adult choir and YES we have some pretty incredible MEN!! \nMondays from 7:00-9:00pm \nAt the All Saints Anglican Church at 404-4th Ave \nwww. cochranesings.com for more info!
URL:https://urbancasual.ca/cochrane-event/cochrane-sings-practice/2025-12-29/
LOCATION:All Saints Anglican Church\, 404 Fourth Ave N\, Cochrane\, Alberta
CATEGORIES:Choir,Club,Community,Entertainment & Games,Learning,Networking,Seniors
ATTACH;FMTTYPE=image/jpeg:https://urbancasual.ca/wp-content/uploads/2025/07/524116941_596548306856893_7660379351601470637_n.jpg
END:VEVENT
BEGIN:VEVENT
DTSTART;TZID=America/Edmonton:20251229T183000
DTEND;TZID=America/Edmonton:20251229T213000
DTSTAMP:20260425T184105
CREATED:20250116T214838Z
LAST-MODIFIED:20250116T214838Z
UID:10043641-1767033000-1767043800@urbancasual.ca
SUMMARY:LEGION: POOL LEAGUE
DESCRIPTION:MONDAY AND WEDNESDAY NIGHTS AT 6:30PM \nCONTACT PACIFIC VENDING AT (587) 577-5434 \n  \n 
URL:https://urbancasual.ca/cochrane-event/legion-pool-league/2025-12-29/
LOCATION:The Legion\, 114 Fifth Ave\, Cochrane\, Canada
CATEGORIES:Adults Only,Community,Entertainment & Games,Networking,Parents & Caregivers,Seniors
ATTACH;FMTTYPE=image/jpeg:https://urbancasual.ca/wp-content/uploads/2025/01/image-asset-1.jpeg
END:VEVENT
BEGIN:VEVENT
DTSTART;TZID=America/Edmonton:20251227T160000
DTEND;TZID=America/Edmonton:20251227T180000
DTSTAMP:20260425T184105
CREATED:20250116T214209Z
LAST-MODIFIED:20250416T174217Z
UID:10043489-1766851200-1766858400@urbancasual.ca
SUMMARY:LEGION: SHUFFLE BOARD
DESCRIPTION:DROP IN TUESDAYS AND THURSDAYS AT 4PM \nDROP IN SATURDAYS AT 2PM \n  \n 
URL:https://urbancasual.ca/cochrane-event/legion-shuffle-board-2/2025-12-27/
LOCATION:The Legion\, 114 Fifth Ave\, Cochrane\, Canada
CATEGORIES:Adults Only,Community,Entertainment & Games,Legion,Networking,Parents & Caregivers,Seniors
ATTACH;FMTTYPE=image/jpeg:https://urbancasual.ca/wp-content/uploads/2025/01/Shuffleboard.jpg
END:VEVENT
BEGIN:VEVENT
DTSTART;TZID=America/Edmonton:20251225T180000
DTEND;TZID=America/Edmonton:20251225T210000
DTSTAMP:20260425T184105
CREATED:20250116T215043Z
LAST-MODIFIED:20250116T215043Z
UID:10043743-1766685600-1766696400@urbancasual.ca
SUMMARY:LEGION: EUCHRE
DESCRIPTION:DROP IN THURSDAY NIGHTS AT 6PM \n  \n 
URL:https://urbancasual.ca/cochrane-event/legion-euchre/2025-12-25/
LOCATION:The Legion\, 114 Fifth Ave\, Cochrane\, Canada
CATEGORIES:Adults Only,Community,Entertainment & Games,Networking,Parents & Caregivers,Seniors
ATTACH;FMTTYPE=image/jpeg:https://urbancasual.ca/wp-content/uploads/2025/01/EUCHRE.jpeg
END:VEVENT
BEGIN:VEVENT
DTSTART;TZID=America/Edmonton:20251224T183000
DTEND;TZID=America/Edmonton:20251224T213000
DTSTAMP:20260425T184105
CREATED:20250116T214838Z
LAST-MODIFIED:20250116T214838Z
UID:10043640-1766601000-1766611800@urbancasual.ca
SUMMARY:LEGION: POOL LEAGUE
DESCRIPTION:MONDAY AND WEDNESDAY NIGHTS AT 6:30PM \nCONTACT PACIFIC VENDING AT (587) 577-5434 \n  \n 
URL:https://urbancasual.ca/cochrane-event/legion-pool-league/2025-12-24/
LOCATION:The Legion\, 114 Fifth Ave\, Cochrane\, Canada
CATEGORIES:Adults Only,Community,Entertainment & Games,Networking,Parents & Caregivers,Seniors
ATTACH;FMTTYPE=image/jpeg:https://urbancasual.ca/wp-content/uploads/2025/01/image-asset-1.jpeg
END:VEVENT
BEGIN:VEVENT
DTSTART;TZID=America/Edmonton:20251223T190000
DTEND;TZID=America/Edmonton:20251223T210000
DTSTAMP:20260425T184105
CREATED:20230518T210646Z
LAST-MODIFIED:20250512T220248Z
UID:10009644-1766516400-1766523600@urbancasual.ca
SUMMARY:Start Up Cochrane
DESCRIPTION:WHEN: Join us on the FOURTH Tuesday night of each month\, 7 PM – 9 PM at The Corner Coworking on Railway Street E in Cochrane\, AB.\n\nNOTE: EACH MONTH WE WILL UPDATE IF THERE WILL BE A TOPIC OR PRESENTER.\n\nCOST: Free\n\nWhat can I do? How do I get involved?\n\nFor these events to be a success\, and to grow the local #startup community\, we need entrepreneurs at all stages of the startup & launch phases.\n\n-Got a new idea?\n-Have a concept you are curious about?\n-Ready to pitch for funding?\n-Looking to grow an existing business?\nPLUS\n-Have you launched a new business already?\n-Are you an investor?\n-Been involved in startups before? (Successful & less successful)\n-Just plain curious?
URL:https://urbancasual.ca/cochrane-event/start-up-cochrane-4/2025-12-23/
LOCATION:The Corner Coworking\, 225 Railway Street E\, Cochrane
CATEGORIES:Business,Community,Learning,Networking
ATTACH;FMTTYPE=image/jpeg:https://urbancasual.ca/wp-content/uploads/2025/05/3-START-UP-1640-X-850.jpg
END:VEVENT
BEGIN:VEVENT
DTSTART;TZID=America/Edmonton:20251223T160000
DTEND;TZID=America/Edmonton:20251223T180000
DTSTAMP:20260425T184105
CREATED:20250116T215252Z
LAST-MODIFIED:20250116T215252Z
UID:10043793-1766505600-1766512800@urbancasual.ca
SUMMARY:LEGION: CRIB
DESCRIPTION:DROP IN WEDNESDAYS AT 6PM \n  \n 
URL:https://urbancasual.ca/cochrane-event/legion-crib/2025-12-23/
LOCATION:The Legion\, 114 Fifth Ave\, Cochrane\, Canada
CATEGORIES:Adults Only,Community,Entertainment & Games,Networking,Parents & Caregivers,Seniors
ATTACH;FMTTYPE=image/jpeg:https://urbancasual.ca/wp-content/uploads/2025/01/Crib-1.jpg
END:VEVENT
BEGIN:VEVENT
DTSTART;TZID=America/Edmonton:20251223T160000
DTEND;TZID=America/Edmonton:20251223T180000
DTSTAMP:20260425T184105
CREATED:20250116T213557Z
LAST-MODIFIED:20250116T214050Z
UID:10043386-1766505600-1766512800@urbancasual.ca
SUMMARY:LEGION: SHUFFLE BOARD
DESCRIPTION:DROP IN TUESDAYS AND THURSDAYS AT 4PM \nDROP IN SATURDAYS AT 2PM \n  \n 
URL:https://urbancasual.ca/cochrane-event/legion-shuffle-board/2025-12-23/
LOCATION:The Legion\, 114 Fifth Ave\, Cochrane\, Canada
CATEGORIES:Adults Only,Community,Entertainment & Games,Networking,Parents & Caregivers,Seniors
ATTACH;FMTTYPE=image/jpeg:https://urbancasual.ca/wp-content/uploads/2025/01/Shuffleboard.jpg
END:VEVENT
BEGIN:VEVENT
DTSTART;TZID=America/Edmonton:20251222T193000
DTEND;TZID=America/Edmonton:20251222T213000
DTSTAMP:20260425T184105
CREATED:20250116T211555Z
LAST-MODIFIED:20250116T211555Z
UID:10043234-1766431800-1766439000@urbancasual.ca
SUMMARY:LEGION: DART LEAGUE
DESCRIPTION:MONDAY NIGHTS AT 7:30PM \n  \nLEAGUE CONTACT: WWW.COCHRANEDARTS.COM
URL:https://urbancasual.ca/cochrane-event/legion-dart-league/2025-12-22/
LOCATION:The Legion\, 114 Fifth Ave\, Cochrane\, Canada
CATEGORIES:Adults Only,Community,Entertainment & Games,Networking,Parents & Caregivers,Seniors
ATTACH;FMTTYPE=image/jpeg:https://urbancasual.ca/wp-content/uploads/2025/01/DART.jpeg
END:VEVENT
BEGIN:VEVENT
DTSTART;TZID=America/Edmonton:20251222T190000
DTEND;TZID=America/Edmonton:20251222T210000
DTSTAMP:20260425T184105
CREATED:20250729T182203Z
LAST-MODIFIED:20250729T182203Z
UID:10049730-1766430000-1766437200@urbancasual.ca
SUMMARY:Cochrane Sings Practice
DESCRIPTION:Our new Season begins MONDAY SEPTEMBER 8 and if you’re thinking about what awesome amazing extracurricular activity you should join\, look no further\, ESPECIALLY if you’re a MAN!! Yes we are a MIXED adult choir and YES we have some pretty incredible MEN!! \nMondays from 7:00-9:00pm \nAt the All Saints Anglican Church at 404-4th Ave \nwww. cochranesings.com for more info!
URL:https://urbancasual.ca/cochrane-event/cochrane-sings-practice/2025-12-22/
LOCATION:All Saints Anglican Church\, 404 Fourth Ave N\, Cochrane\, Alberta
CATEGORIES:Choir,Club,Community,Entertainment & Games,Learning,Networking,Seniors
ATTACH;FMTTYPE=image/jpeg:https://urbancasual.ca/wp-content/uploads/2025/07/524116941_596548306856893_7660379351601470637_n.jpg
END:VEVENT
END:VCALENDAR