BEGIN:VCALENDAR
VERSION:2.0
PRODID:-//Urbancasual.ca - ECPv6.15.20//NONSGML v1.0//EN
CALSCALE:GREGORIAN
METHOD:PUBLISH
X-WR-CALNAME:Urbancasual.ca
X-ORIGINAL-URL:https://urbancasual.ca
X-WR-CALDESC:Events for Urbancasual.ca
REFRESH-INTERVAL;VALUE=DURATION:PT1H
X-Robots-Tag:noindex
X-PUBLISHED-TTL:PT1H
BEGIN:VTIMEZONE
TZID:America/Edmonton
BEGIN:DAYLIGHT
TZOFFSETFROM:-0700
TZOFFSETTO:-0600
TZNAME:MDT
DTSTART:20250309T090000
END:DAYLIGHT
BEGIN:STANDARD
TZOFFSETFROM:-0600
TZOFFSETTO:-0700
TZNAME:MST
DTSTART:20251102T080000
END:STANDARD
BEGIN:DAYLIGHT
TZOFFSETFROM:-0700
TZOFFSETTO:-0600
TZNAME:MDT
DTSTART:20260308T090000
END:DAYLIGHT
BEGIN:STANDARD
TZOFFSETFROM:-0600
TZOFFSETTO:-0700
TZNAME:MST
DTSTART:20261101T080000
END:STANDARD
BEGIN:DAYLIGHT
TZOFFSETFROM:-0700
TZOFFSETTO:-0600
TZNAME:MDT
DTSTART:20270314T090000
END:DAYLIGHT
BEGIN:STANDARD
TZOFFSETFROM:-0600
TZOFFSETTO:-0700
TZNAME:MST
DTSTART:20271107T080000
END:STANDARD
END:VTIMEZONE
BEGIN:VEVENT
DTSTART;TZID=America/Edmonton:20260901T080000
DTEND;TZID=America/Edmonton:20260901T093000
DTSTAMP:20260419T214356
CREATED:20221228T233907Z
LAST-MODIFIED:20221228T233907Z
UID:10012478-1788249600-1788255000@urbancasual.ca
SUMMARY:BNI Inspire - Monthly In-Person Meeting(1st Tue of each month)
DESCRIPTION:We help business professionals grow their business through a structured\, positive\, and professional referral marketing program. \nEvery 1st Tuesday of each month at the Legion\, from 8am to 9:30am.
URL:https://urbancasual.ca/cochrane-event/bni-inspire-monthly-in-person-meeting1st-tue-of-each-month-2-2/2026-09-01/
LOCATION:The Legion\, 114 Fifth Ave\, Cochrane\, Canada
CATEGORIES:Business,Networking
ATTACH;FMTTYPE=image/jpeg:https://urbancasual.ca/wp-content/uploads/2022/12/BNI.jpg
END:VEVENT
END:VCALENDAR