BEGIN:VCALENDAR
VERSION:2.0
PRODID:-//Urbancasual.ca - ECPv6.15.20//NONSGML v1.0//EN
CALSCALE:GREGORIAN
METHOD:PUBLISH
X-ORIGINAL-URL:https://urbancasual.ca
X-WR-CALDESC:Events for Urbancasual.ca
REFRESH-INTERVAL;VALUE=DURATION:PT1H
X-Robots-Tag:noindex
X-PUBLISHED-TTL:PT1H
BEGIN:VTIMEZONE
TZID:America/Edmonton
BEGIN:DAYLIGHT
TZOFFSETFROM:-0700
TZOFFSETTO:-0600
TZNAME:MDT
DTSTART:20240310T090000
END:DAYLIGHT
BEGIN:STANDARD
TZOFFSETFROM:-0600
TZOFFSETTO:-0700
TZNAME:MST
DTSTART:20241103T080000
END:STANDARD
BEGIN:DAYLIGHT
TZOFFSETFROM:-0700
TZOFFSETTO:-0600
TZNAME:MDT
DTSTART:20250309T090000
END:DAYLIGHT
BEGIN:STANDARD
TZOFFSETFROM:-0600
TZOFFSETTO:-0700
TZNAME:MST
DTSTART:20251102T080000
END:STANDARD
BEGIN:DAYLIGHT
TZOFFSETFROM:-0700
TZOFFSETTO:-0600
TZNAME:MDT
DTSTART:20260308T090000
END:DAYLIGHT
BEGIN:STANDARD
TZOFFSETFROM:-0600
TZOFFSETTO:-0700
TZNAME:MST
DTSTART:20261101T080000
END:STANDARD
END:VTIMEZONE
BEGIN:VEVENT
DTSTART;TZID=America/Edmonton:20250917T090000
DTEND;TZID=America/Edmonton:20250917T110000
DTSTAMP:20260419T202436
CREATED:20250813T192534Z
LAST-MODIFIED:20251103T225305Z
UID:10050136-1758099600-1758106800@urbancasual.ca
SUMMARY:Cochrane Baby Boomers Group Meet-Up - Wed AM
DESCRIPTION:EVERY WEDNESDAY – JOIN US AT ONE OR BOTH GROUPS! \nGROUP 1 – 9 TO 11AM AT THE LEGION – 114 FIFTH AVE. \nGROUP 2 – 2 TO 4PM AT THE VENUE – 79 RAILWAY ST.
URL:https://urbancasual.ca/cochrane-event/cochrane-baby-boomers-group-meet-up-wed-am/2025-09-17/
LOCATION:The Legion\, 114 Fifth Ave\, Cochrane\, Canada
CATEGORIES:Club,Community,Entertainment & Games,Networking,Seniors
ATTACH;FMTTYPE=image/jpeg:https://urbancasual.ca/wp-content/uploads/2025/08/574395226_845145031494292_977435042953266903_n.jpg
END:VEVENT
BEGIN:VEVENT
DTSTART;TZID=America/Edmonton:20250917T140000
DTEND;TZID=America/Edmonton:20250917T160000
DTSTAMP:20260419T202436
CREATED:20250813T193038Z
LAST-MODIFIED:20251103T225347Z
UID:10050174-1758117600-1758124800@urbancasual.ca
SUMMARY:Cochrane Baby Boomers Group Meet-Up - Wed PM
DESCRIPTION:EVERY WEDNESDAY – JOIN US AT ONE OR BOTH GROUPS! \nGROUP 1 – 9 TO 11AM AT LEGION – 114 5TH AVE \nGROUP 2 – 2 TO 4PM AT THE VENUE – 79 RAILWAY ST.
URL:https://urbancasual.ca/cochrane-event/cochrane-baby-boomers-group-meet-up-wed-pm/2025-09-17/
LOCATION:VENUE SPORTSBAR AND GRILL
CATEGORIES:Club,Community,Entertainment & Games,Networking,Seniors
ATTACH;FMTTYPE=image/jpeg:https://urbancasual.ca/wp-content/uploads/2025/08/574395226_845145031494292_977435042953266903_n.jpg
END:VEVENT
BEGIN:VEVENT
DTSTART;TZID=America/Edmonton:20250917T140000
DTEND;TZID=America/Edmonton:20250917T210000
DTSTAMP:20260419T202436
CREATED:20250809T015403Z
LAST-MODIFIED:20250809T015403Z
UID:10049907-1758117600-1758142800@urbancasual.ca
SUMMARY:Hope for Hospice Golf Tournament
DESCRIPTION:Rocky View Private Health Care (RVPHC) is honoured to collaborate with the Cochrane and Area Hospice Society to support individuals and families facing life-limiting illnesses. The Hospice Society plays a vital role in our community by offering comfort\, guidance\, and practical resources that uphold dignity and compassion during end-of-life care. \nTogether\, we are dedicated to making a meaningful difference—one family\, one moment\, one act of kindness at a time. \n  \nWe are pleased to share that RVPHC will be hosting the Hope for Hospice Golf Tournament on Wednesday\, September 17\, 2025\,\nwith a 2:00 PM shotgun start at Mickelson National Golf Club.
URL:https://urbancasual.ca/cochrane-event/hope-for-hospice-golf-tournament/
LOCATION:AB
CATEGORIES:Community,Fundraiser,Networking,Sports
ATTACH;FMTTYPE=image/png:https://urbancasual.ca/wp-content/uploads/2025/08/Screenshot-2025-08-08-072333.png
ORGANIZER;CN="Rocky View Private Health Care":MAILTO:info@rvphc.ca
END:VEVENT
BEGIN:VEVENT
DTSTART;TZID=America/Edmonton:20250917T183000
DTEND;TZID=America/Edmonton:20250917T213000
DTSTAMP:20260419T202436
CREATED:20250116T214838Z
LAST-MODIFIED:20250116T214838Z
UID:10043612-1758133800-1758144600@urbancasual.ca
SUMMARY:LEGION: POOL LEAGUE
DESCRIPTION:MONDAY AND WEDNESDAY NIGHTS AT 6:30PM \nCONTACT PACIFIC VENDING AT (587) 577-5434 \n  \n 
URL:https://urbancasual.ca/cochrane-event/legion-pool-league/2025-09-17/
LOCATION:The Legion\, 114 Fifth Ave\, Cochrane\, Canada
CATEGORIES:Adults Only,Community,Entertainment & Games,Networking,Parents & Caregivers,Seniors
ATTACH;FMTTYPE=image/jpeg:https://urbancasual.ca/wp-content/uploads/2025/01/image-asset-1.jpeg
END:VEVENT
END:VCALENDAR