BEGIN:VCALENDAR
VERSION:2.0
PRODID:-//Urbancasual.ca - ECPv6.15.20//NONSGML v1.0//EN
CALSCALE:GREGORIAN
METHOD:PUBLISH
X-ORIGINAL-URL:https://urbancasual.ca
X-WR-CALDESC:Events for Urbancasual.ca
REFRESH-INTERVAL;VALUE=DURATION:PT1H
X-Robots-Tag:noindex
X-PUBLISHED-TTL:PT1H
BEGIN:VTIMEZONE
TZID:America/Edmonton
BEGIN:DAYLIGHT
TZOFFSETFROM:-0700
TZOFFSETTO:-0600
TZNAME:MDT
DTSTART:20250309T090000
END:DAYLIGHT
BEGIN:STANDARD
TZOFFSETFROM:-0600
TZOFFSETTO:-0700
TZNAME:MST
DTSTART:20251102T080000
END:STANDARD
BEGIN:DAYLIGHT
TZOFFSETFROM:-0700
TZOFFSETTO:-0600
TZNAME:MDT
DTSTART:20260308T090000
END:DAYLIGHT
BEGIN:STANDARD
TZOFFSETFROM:-0600
TZOFFSETTO:-0700
TZNAME:MST
DTSTART:20261101T080000
END:STANDARD
BEGIN:DAYLIGHT
TZOFFSETFROM:-0700
TZOFFSETTO:-0600
TZNAME:MDT
DTSTART:20270314T090000
END:DAYLIGHT
BEGIN:STANDARD
TZOFFSETFROM:-0600
TZOFFSETTO:-0700
TZNAME:MST
DTSTART:20271107T080000
END:STANDARD
END:VTIMEZONE
BEGIN:VEVENT
DTSTART;TZID=America/Edmonton:20260504T190000
DTEND;TZID=America/Edmonton:20260504T210000
DTSTAMP:20260420T230138
CREATED:20260107T214139Z
LAST-MODIFIED:20260107T214139Z
UID:10053435-1777921200-1777928400@urbancasual.ca
SUMMARY:STRINGS & FRETS AT FOUND
DESCRIPTION:
URL:https://urbancasual.ca/cochrane-event/strings-frets-at-found/2026-05-04/
LOCATION:Found Book Shop\, 206 1st Street W\, Cochrane\, AB
CATEGORIES:Business,Community,Entertainment & Games,Music,Pub/Bar Event
ATTACH;FMTTYPE=image/jpeg:https://urbancasual.ca/wp-content/uploads/2026/01/607690228_1466878855439597_3211558362988386112_n.jpg
END:VEVENT
BEGIN:VEVENT
DTSTART;TZID=America/Edmonton:20260505T103000
DTEND;TZID=America/Edmonton:20260505T233000
DTSTAMP:20260420T230138
CREATED:20260318T181638Z
LAST-MODIFIED:20260318T181725Z
UID:10057491-1777977000-1778023800@urbancasual.ca
SUMMARY:Mini Mustang Music
DESCRIPTION:Get ready to jam out at Mini Mustang Music — an exciting in-person event where little ones and their parents can connect\, make music\, and exercise their quickly developing brains! \nThere will be active music making\, time to connect\, snacks\, and a supportive home atmosphere for real relationships to be formed. \nThis group is run by Laura MacLeod\, a Certified Music Therapist and Counselling Therapist. \nThis service is covered by most benefit providers under counselling therapy. $25/class. \nOption to pay for full month in advance. Receipt will be sent once you reserve your spot on Eventbrite.
URL:https://urbancasual.ca/cochrane-event/mini-mustang-music-april/2026-05-05/
LOCATION:Heartland Music & Wellness\, 100 Paint Horse Drive\, Cochrane\, AB\, T4C 0X1\, Canada
CATEGORIES:Community,Family Friendly,Mental Health,Music,Parents & Caregivers
ATTACH;FMTTYPE=image/jpeg:https://urbancasual.ca/wp-content/uploads/2026/03/Blue-and-White-Modern-Horse-Riding-Course-Poster-2.jpg
ORGANIZER;CN="Heartland Music &amp%3B Wellness":MAILTO:Heartlandmusicandwellness@gmail.com
END:VEVENT
BEGIN:VEVENT
DTSTART;TZID=America/Edmonton:20260505T190000
DTEND;TZID=America/Edmonton:20260505T220000
DTSTAMP:20260420T230138
CREATED:20260329T005646Z
LAST-MODIFIED:20260329T005959Z
UID:10058381-1778007600-1778018400@urbancasual.ca
SUMMARY:OPEN MIC / OPEN JAM AT THE SHIRE PUB
DESCRIPTION:Every Tuesday we have a Jam/Open Mic night for all . \nNo matter what instrument or type of music you play\, come on down.
URL:https://urbancasual.ca/cochrane-event/open-mic-open-jam-at-the-shire-pub/2026-05-05/
LOCATION:The Shire Pub\, 8-57 West Aarsby Road\, Cochrane\, AB
CATEGORIES:Adults Only,Entertainment & Games,Music,OPEN MIC,Pub/Bar Event,Restaurant
ATTACH;FMTTYPE=image/webp:https://urbancasual.ca/wp-content/uploads/2026/03/432615705_386171574189780_2391788280087978784_n-768x614-1.webp
END:VEVENT
BEGIN:VEVENT
DTSTART;TZID=America/Edmonton:20260506T180000
DTEND;TZID=America/Edmonton:20260506T210000
DTSTAMP:20260420T230138
CREATED:20241202T000531Z
LAST-MODIFIED:20241202T000605Z
UID:10037775-1778090400-1778101200@urbancasual.ca
SUMMARY:Country Music with Turner Bates at the Venue
DESCRIPTION:
URL:https://urbancasual.ca/cochrane-event/country-music-with-turner-bates-at-the-venue/2026-05-06/
LOCATION:Alberta
CATEGORIES:Adults Only,Business,Entertainment & Games,Food,Music,Pub/Bar Event
ATTACH;FMTTYPE=image/jpeg:https://urbancasual.ca/wp-content/uploads/2024/12/463385392_17920216139988797_9181419957565291331_n.jpg
END:VEVENT
BEGIN:VEVENT
DTSTART;TZID=America/Edmonton:20260506T190000
DTEND;TZID=America/Edmonton:20260506T210000
DTSTAMP:20260420T230138
CREATED:20260107T213841Z
LAST-MODIFIED:20260107T214430Z
UID:10053423-1778094000-1778101200@urbancasual.ca
SUMMARY:OPEN MIC AT FOUND
DESCRIPTION:  \nThe first Wednesday of every month belongs to the songwriters. \nHosted by the magnetic Devin Foster and presented by Blue Willow Entertainment and Found Books & Shop\, this open mic invites emerging and seasoned artists to step up to the mic and share their craft. Expect a supportive crowd\, a cozy room\, tasty drinks and a lineup that’s never the same twice. \nBlue Willow Entertainment will be there looking for support acts & headliners for their upcoming shows around Alberta. Please note – only original music is requested at this open mic. \nRegister HERE \n  \n 
URL:https://urbancasual.ca/cochrane-event/open-mic-at-found/2026-05-06/
LOCATION:Found Book Shop\, 206 1st Street W\, Cochrane\, AB
CATEGORIES:Business,Community,Entertainment & Games,Music,Networking,OPEN MIC,Pub/Bar Event
ATTACH;FMTTYPE=image/jpeg:https://urbancasual.ca/wp-content/uploads/2026/01/607945410_1466878915439591_5974467451227350116_n.jpg
END:VEVENT
BEGIN:VEVENT
DTSTART;TZID=America/Edmonton:20260507T200000
DTEND;TZID=America/Edmonton:20260507T233000
DTSTAMP:20260420T230138
CREATED:20260312T154426Z
LAST-MODIFIED:20260312T154426Z
UID:10057219-1778184000-1778196600@urbancasual.ca
SUMMARY:KARAOKE AT THE VENUE
DESCRIPTION:🎤🍽 Join us at The Venue this Thursday for a night of delicious food and epic karaoke! \n🎶 Get ready to sing your heart out starting at 8pm.
URL:https://urbancasual.ca/cochrane-event/karaoke-at-the-venue-2/2026-05-07/
LOCATION:VENUE SPORTSBAR AND GRILL
CATEGORIES:Business,Downtown,Entertainment & Games,Karaoke,Music,Pub/Bar Event,Restaurant
ATTACH;FMTTYPE=image/jpeg:https://urbancasual.ca/wp-content/uploads/2024/07/639697893_17962041261019573_7093083653207156449_n.jpg
END:VEVENT
BEGIN:VEVENT
DTSTART;TZID=America/Edmonton:20260509T170000
DTEND;TZID=America/Edmonton:20260510T010000
DTSTAMP:20260420T230138
CREATED:20260211T195105Z
LAST-MODIFIED:20260211T195105Z
UID:10054563-1778346000-1778374800@urbancasual.ca
SUMMARY:Tatapalooza 2026: Steak & Lobster Bash!
DESCRIPTION:Team Ta Ta’s is back at it this year\, hoping to cross over the $1 MILLION mark raised for the Alberta Cancer Foundation ! 🦞🥩 \n🩷SAVE THE DATE! Saturday May 9th at the Cochrane Lions Club And Events Centre Alberta featuring Atlantic Storm Band 🎶
URL:https://urbancasual.ca/cochrane-event/tatapalooza-2026-steak-lobster-bash/
LOCATION:The Lions Event Centre\, 109 5th Avenue\, Cochrane\, Alberta\, Canada
CATEGORIES:Fundraiser,LIONS EVENTS CENTRE,Music
ATTACH;FMTTYPE=image/jpeg:https://urbancasual.ca/wp-content/uploads/2026/02/1000013450.jpg
END:VEVENT
BEGIN:VEVENT
DTSTART;TZID=America/Edmonton:20260509T180000
DTEND;TZID=America/Edmonton:20260509T210000
DTSTAMP:20260420T230138
CREATED:20241219T180111Z
LAST-MODIFIED:20260312T155218Z
UID:10032382-1778349600-1778360400@urbancasual.ca
SUMMARY:LIVE music Saturdays at Rocky View Brewing
DESCRIPTION:  \n  \n  \nLive music Saturdays in the taproom starting at 6pm. \n  \n  \n  \n  \n  \n  \n 
URL:https://urbancasual.ca/cochrane-event/live-music-saturdays-at-rocky-view-brewing-9-15-2-2/2026-05-09/
LOCATION:Rocky View Taproom\, 420 1st Street\, Cochrane\, AB
CATEGORIES:Business,Downtown,Entertainment & Games,Music,Pub/Bar Event,Restaurant
ATTACH;FMTTYPE=image/jpeg:https://urbancasual.ca/wp-content/uploads/2024/07/241712073_342240897364337_6168788210147837504_n-3.jpg
END:VEVENT
BEGIN:VEVENT
DTSTART;TZID=America/Edmonton:20260509T190000
DTEND;TZID=America/Edmonton:20260509T213000
DTSTAMP:20260420T230138
CREATED:20260420T223953Z
LAST-MODIFIED:20260420T224119Z
UID:10059609-1778353200-1778362200@urbancasual.ca
SUMMARY:Spring Showcase Concert 2026 by the Cochrane Music Society
DESCRIPTION:Saturday\, May 9  at  7pm\nCochrane Alliance Church \nThe CMS Spring Showcase Concert features an amazing array of fantastic music! \nCheck back to find out what Choral Waves\, Riverside Jazz and Band on the Bow have planned for you! \nOur inaugural Composition Contest for emerging composers focused on concert band Grade 3-4 level music.  Enduring Hope\, by Micah Veldkamp\, a Grade 12 student in Edmonton won the contest! Band on the Bow will rehearse and collaborate with Micah through this session and premiere the piece at the Spring Showcase Concert. \n We love to perform for you! \nThanks also for your donations for the Cochrane Food Bank.
URL:https://urbancasual.ca/cochrane-event/spring-showcase-concert-2026/
LOCATION:Cochrane Alliance Church\, 902 Glenbow Drive\, Cochrane\, Alberta\, Canada
CATEGORIES:Choir,Community,Concert,Entertainment & Games,Family Friendly,Music
ATTACH;FMTTYPE=image/jpeg:https://urbancasual.ca/wp-content/uploads/2026/04/666197870_1414353114063068_4197528405991905466_n.jpg
END:VEVENT
BEGIN:VEVENT
DTSTART;TZID=America/Edmonton:20260509T210000
DTEND;TZID=America/Edmonton:20260510T020000
DTSTAMP:20260420T230138
CREATED:20260416T172129Z
LAST-MODIFIED:20260416T172129Z
UID:10059344-1778360400-1778378400@urbancasual.ca
SUMMARY:LIVE MUSIC AT THE VENUE
DESCRIPTION:APRIL AT THE VENUE \n\n\nCochrane’s #1 Nightlife Spot\n\n\nNew vibes. Bigger nights. Non-stop entertainment.\n\n\n\n\n\n\n\n\n From country to full party mode \n\n\n EVERY SATURDAY – LIVE BANDS (9PM – 2AM)\n\n\n\nAPRIL 4 – ALLEN CHRISTIE\n(Folk Rock • Soft Pop Rock)\n\n\n\nAPRIL 11 – ROCK BOTTOM\n(70s • 80s • 90s Rock & Roll)\n\n\n\nAPRIL 18 – STATIC\n(Classic Rock Favorites)\n\n\n\nAPRIL 25 – KRANK’D\n(Classic Rock • Hard Rock • Modern Hits)\n\n\n\n Every Saturday = packed dance floor\n\n\n\n\n\n\n\n THE VENUE\n79 Railway St. E\, Cochrane
URL:https://urbancasual.ca/cochrane-event/live-music-at-the-venue-602/2026-05-09/
LOCATION:VENUE SPORTSBAR AND GRILL
CATEGORIES:Adults Only,Downtown,Entertainment & Games,Music,Pub/Bar Event,Restaurant
ATTACH;FMTTYPE=image/jpeg:https://urbancasual.ca/wp-content/uploads/2026/04/657258995_17966147115019573_2071770635758293235_n.jpg
END:VEVENT
BEGIN:VEVENT
DTSTART;TZID=America/Edmonton:20260510T160000
DTEND;TZID=America/Edmonton:20260510T200000
DTSTAMP:20260420T230138
CREATED:20240911T005142Z
LAST-MODIFIED:20240911T005142Z
UID:10035781-1778428800-1778443200@urbancasual.ca
SUMMARY:SUNDAY JAM AT THE VENUE
DESCRIPTION:The Sunday Jam is back at the Venue starting October 6th! \nFeaturing Allen Christie. \nWINGS $10 OFF \nHAPPY HOUR 2PM TO 8PM \n  \n 
URL:https://urbancasual.ca/cochrane-event/sunday-jam-at-the-venue/2026-05-10/
LOCATION:VENUE SPORTSBAR AND GRILL
CATEGORIES:Entertainment & Games,Music
ATTACH;FMTTYPE=image/jpeg:https://urbancasual.ca/wp-content/uploads/2024/09/inbound1307443098528191419.jpg
END:VEVENT
END:VCALENDAR