BEGIN:VCALENDAR
VERSION:2.0
PRODID:-//Urbancasual.ca - ECPv6.15.20//NONSGML v1.0//EN
CALSCALE:GREGORIAN
METHOD:PUBLISH
X-ORIGINAL-URL:https://urbancasual.ca
X-WR-CALDESC:Events for Urbancasual.ca
REFRESH-INTERVAL;VALUE=DURATION:PT1H
X-Robots-Tag:noindex
X-PUBLISHED-TTL:PT1H
BEGIN:VTIMEZONE
TZID:America/Edmonton
BEGIN:DAYLIGHT
TZOFFSETFROM:-0700
TZOFFSETTO:-0600
TZNAME:MDT
DTSTART:20230312T090000
END:DAYLIGHT
BEGIN:STANDARD
TZOFFSETFROM:-0600
TZOFFSETTO:-0700
TZNAME:MST
DTSTART:20231105T080000
END:STANDARD
BEGIN:DAYLIGHT
TZOFFSETFROM:-0700
TZOFFSETTO:-0600
TZNAME:MDT
DTSTART:20240310T090000
END:DAYLIGHT
BEGIN:STANDARD
TZOFFSETFROM:-0600
TZOFFSETTO:-0700
TZNAME:MST
DTSTART:20241103T080000
END:STANDARD
BEGIN:DAYLIGHT
TZOFFSETFROM:-0700
TZOFFSETTO:-0600
TZNAME:MDT
DTSTART:20250309T090000
END:DAYLIGHT
BEGIN:STANDARD
TZOFFSETFROM:-0600
TZOFFSETTO:-0700
TZNAME:MST
DTSTART:20251102T080000
END:STANDARD
END:VTIMEZONE
BEGIN:VEVENT
DTSTART;TZID=America/Edmonton:20240930T123000
DTEND;TZID=America/Edmonton:20240930T180000
DTSTAMP:20260423T055121
CREATED:20240911T005954Z
LAST-MODIFIED:20240911T010115Z
UID:10035686-1727699400-1727719200@urbancasual.ca
SUMMARY:National Day of Truth & Reconciliation
DESCRIPTION:Date: September 30th\, 2024\nTime: 12:30-6:00pm\nLocation: The Station\, Cochrane\nCost: FREE! No registration required.\n(Feel free to RSVP and share to help raise awareness)\nAudience: All ages\, families and cultures welcome \nDescription:\nAn amazing collaboration brought to you by The Town of Cochrane\, Wazin Ichinabi Ti\, The Otipemisiwak Government\, Route 22 Artist Collective and Alberta Culture Days! \nThis event aims to honor the history of Indigenous peoples and encourage understanding and acceptance. Together\, we can learn\, grow\, and create a more inclusive community. Join us for engaging discussions\, art activities\, and cultural demonstrations that highlight diversity and promote healing – coming together to acknowledge the past and work towards a better future for all. \nSchedule of Events: \nFlag Raising & Drumming Ceremony – 12:30-1:00pm \nTipi Talks & Hide Tanning Displays – 1:00-6:00pm \nEngage your senses as you listen\, watch\, and learn from Elders & Hide Tanners about these traditional practices and their importance to indigenous culture.\nLetterPress Postcards for Truth & Reconciliation – 1:00-6:00pm \nLearn about this unique artform from artist Michelle Wiebe\, its role in the residential school system\, and then create a custom themed postcard as a token of truth and reconciliation. \nMetis Storytime – 1:00-2:00pm \nJoin us for a tale or two during our Métis storytelling hour. Youth will hear and learn Michif words while interacting with some Métis created items during this time.\nDecolonize This! – 2:00-3:00pm \nLet’s talk about Reconcili-Action and ways you can personally begin your journey. Amber Boyd\, District Captain for Rocky View Métis District of the Otipemisiwak Métis Government\, will share some of her personal stories and lead our discussion. This goal is to help bring awareness and facilitate healthy conversations between settlers and indigenous community members. \n*Bannock\, beverages\, indigenous literature and art will be provided for community members to sample\, interact with and purchase for the duration of this event*
URL:https://urbancasual.ca/cochrane-event/national-day-of-truth-reconciliation/
LOCATION:The Station\, 360 Railway St W\, Cochrane\, AB\, Canada
CATEGORIES:Culture,Dance,Entertainment & Games,Family Friendly,Indigenous,Learning,Music,Town of Cochrane
ATTACH;FMTTYPE=image/jpeg:https://urbancasual.ca/wp-content/uploads/2024/09/2-1-e1726016378875.jpg
ORGANIZER;CN="Route 22 Artist Collective Gallery":MAILTO:INFO@ROUTE22GALLERY.COM
END:VEVENT
BEGIN:VEVENT
DTSTART;TZID=America/Edmonton:20240930T190000
DTEND;TZID=America/Edmonton:20240930T210000
DTSTAMP:20260423T055121
CREATED:20240827T005211Z
LAST-MODIFIED:20240827T005250Z
UID:10035578-1727722800-1727730000@urbancasual.ca
SUMMARY:Cochrane Sings
DESCRIPTION:
URL:https://urbancasual.ca/cochrane-event/cochrane-sings/2024-09-30/
LOCATION:All Saints Anglican Church\, 404 Fourth Ave N\, Cochrane\, Alberta
CATEGORIES:Adults Only,Choir,Club,Community,Concert,Entertainment & Games,Music
ATTACH;FMTTYPE=image/jpeg:https://urbancasual.ca/wp-content/uploads/2024/08/cochrane-sings.jpg
END:VEVENT
BEGIN:VEVENT
DTSTART;TZID=America/Edmonton:20241002T190000
DTEND;TZID=America/Edmonton:20241002T200000
DTSTAMP:20260423T055121
CREATED:20230825T012638Z
LAST-MODIFIED:20240619T154001Z
UID:10018973-1727895600-1727899200@urbancasual.ca
SUMMARY:Ukulele Classes
DESCRIPTION:Weekly group ukulele classes starting sept 13 at Frank Wills Community Hall. Have fun and learn skills to play in a ukulele orchestra. Keep your mind and body healthy and happy. $180 for fall session. Bring ukulele\, ukulele tuner\, music stand and a smile. Contact Karen Rollins at krollins@telus.net for more information and to register.
URL:https://urbancasual.ca/cochrane-event/ukulele-classes/2024-10-02/
LOCATION:Frank Wills Memorial Hall\, 405 1st Street E\, Cochrane\, Alberta
CATEGORIES:Learning,Music
ATTACH;FMTTYPE=image/jpeg:https://urbancasual.ca/wp-content/uploads/2023/08/UKULELE-ORCHESTRA-MARKETING-2.jpg
END:VEVENT
BEGIN:VEVENT
DTSTART;TZID=America/Edmonton:20241003T180000
DTEND;TZID=America/Edmonton:20241003T220000
DTSTAMP:20260423T055121
CREATED:20241003T163005Z
LAST-MODIFIED:20241003T163006Z
UID:10025473-1727978400-1727992800@urbancasual.ca
SUMMARY:LIVE MUSIC at Half Hitch
DESCRIPTION:Join us every Thursday evening at 6pm for free local live music! Enjoy great tunes\, local craft beer\, and tasty fare. Here are our upcoming artists! \n 
URL:https://urbancasual.ca/cochrane-event/live-music-at-half-hitch-2-2-2-2-2-2-2/2024-10-03/
LOCATION:Half Hitch Brewery
CATEGORIES:Business,Entertainment & Games,Music,Pub/Bar Event,Restaurant
ATTACH;FMTTYPE=image/jpeg:https://urbancasual.ca/wp-content/uploads/2024/03/279631870_409360817860020_4743340451307473139_n-4.jpg
END:VEVENT
BEGIN:VEVENT
DTSTART;TZID=America/Edmonton:20241003T190000
DTEND;TZID=America/Edmonton:20241003T220000
DTSTAMP:20260423T055121
CREATED:20240613T200447Z
LAST-MODIFIED:20240717T001248Z
UID:10028693-1727982000-1727992800@urbancasual.ca
SUMMARY:LIVE IN THE LODGE at Mr. Mike
DESCRIPTION:Live in the Lodge tonight! Bring the entire Family…Lodge Night means all burgers are $13\, 22oz House Beer only $7…and Our Little Doe Wine is 5$ off 1/2L!
URL:https://urbancasual.ca/cochrane-event/live-in-the-lodge-at-mr-mike/2024-10-03/
LOCATION:Mr. Mike’s Steakhouse
CATEGORIES:Business,Entertainment & Games,Music,Pub/Bar Event,Restaurant
ATTACH;FMTTYPE=image/jpeg:https://urbancasual.ca/wp-content/uploads/2024/06/449614290_1151984949393345_7912631255620081994_n-e1721175158333.jpg
END:VEVENT
BEGIN:VEVENT
DTSTART;TZID=America/Edmonton:20241004T210000
DTEND;TZID=America/Edmonton:20241004T233000
DTSTAMP:20260423T055121
CREATED:20241003T163939Z
LAST-MODIFIED:20241003T163939Z
UID:10036226-1728075600-1728084600@urbancasual.ca
SUMMARY:October Concert Series at The Venue
DESCRIPTION:OCTOBER 4 & 5 – SUCKER PUNCH *Note\, on the Friday night there is a free comedy event prior to start time at 9pm + \nOCTOBER 11 & 12 – BACK IN THE DAY \nOCTOBER 18 & 19 – WILD CARD \nOCTOBER 25 – SORRY NOT SORRY \nOCTOBER 26 – HI5GH
URL:https://urbancasual.ca/cochrane-event/october-concert-series-at-the-venue/2024-10-04/
LOCATION:VENUE SPORTSBAR AND GRILL
CATEGORIES:Business,Downtown,Entertainment & Games,Music,Pub/Bar Event
ATTACH;FMTTYPE=image/jpeg:https://urbancasual.ca/wp-content/uploads/2024/10/461657665_17905252449019573_3621262560998957267_n.jpg
END:VEVENT
BEGIN:VEVENT
DTSTART;TZID=America/Edmonton:20241005T180000
DTEND;TZID=America/Edmonton:20241005T210000
DTSTAMP:20260423T055121
CREATED:20240708T214528Z
LAST-MODIFIED:20240708T214543Z
UID:10032299-1728151200-1728162000@urbancasual.ca
SUMMARY:LIVE music Saturdays at Rocky View Brewing
DESCRIPTION:Live music Saturdays on the patio (weather permitting) starting at 6pm.
URL:https://urbancasual.ca/cochrane-event/live-music-saturdays-at-rocky-view-brewing-9/2024-10-05/
LOCATION:Rocky View Taproom\, 420 1st Street\, Cochrane\, AB
CATEGORIES:Business,Downtown,Entertainment & Games,Music,Pub/Bar Event,Restaurant
ATTACH;FMTTYPE=image/jpeg:https://urbancasual.ca/wp-content/uploads/2024/07/241712073_342240897364337_6168788210147837504_n-3.jpg
END:VEVENT
BEGIN:VEVENT
DTSTART;TZID=America/Edmonton:20241005T210000
DTEND;TZID=America/Edmonton:20241005T233000
DTSTAMP:20260423T055121
CREATED:20241003T163939Z
LAST-MODIFIED:20241003T163939Z
UID:10036227-1728162000-1728171000@urbancasual.ca
SUMMARY:October Concert Series at The Venue
DESCRIPTION:OCTOBER 4 & 5 – SUCKER PUNCH *Note\, on the Friday night there is a free comedy event prior to start time at 9pm + \nOCTOBER 11 & 12 – BACK IN THE DAY \nOCTOBER 18 & 19 – WILD CARD \nOCTOBER 25 – SORRY NOT SORRY \nOCTOBER 26 – HI5GH
URL:https://urbancasual.ca/cochrane-event/october-concert-series-at-the-venue/2024-10-05/
LOCATION:VENUE SPORTSBAR AND GRILL
CATEGORIES:Business,Downtown,Entertainment & Games,Music,Pub/Bar Event
ATTACH;FMTTYPE=image/jpeg:https://urbancasual.ca/wp-content/uploads/2024/10/461657665_17905252449019573_3621262560998957267_n.jpg
END:VEVENT
BEGIN:VEVENT
DTSTART;TZID=America/Edmonton:20241006T130000
DTEND;TZID=America/Edmonton:20241006T170000
DTSTAMP:20260423T055121
CREATED:20240826T173347Z
LAST-MODIFIED:20240826T173347Z
UID:10035569-1728219600-1728234000@urbancasual.ca
SUMMARY:Legion: Music Jam
DESCRIPTION:
URL:https://urbancasual.ca/cochrane-event/legion-music-jam/2024-10-06/
LOCATION:The Legion\, 114 Fifth Ave\, Cochrane\, Canada
CATEGORIES:Community,Downtown,Entertainment & Games,Family Friendly,Music,Seniors
ATTACH;FMTTYPE=image/jpeg:https://urbancasual.ca/wp-content/uploads/2024/08/456982887_901951071958464_7680953976320336212_n.jpg
END:VEVENT
BEGIN:VEVENT
DTSTART;TZID=America/Edmonton:20241006T160000
DTEND;TZID=America/Edmonton:20241006T200000
DTSTAMP:20260423T055121
CREATED:20240911T005142Z
LAST-MODIFIED:20240911T005142Z
UID:10035698-1728230400-1728244800@urbancasual.ca
SUMMARY:SUNDAY JAM AT THE VENUE
DESCRIPTION:The Sunday Jam is back at the Venue starting October 6th! \nFeaturing Allen Christie. \nWINGS $10 OFF \nHAPPY HOUR 2PM TO 8PM \n  \n 
URL:https://urbancasual.ca/cochrane-event/sunday-jam-at-the-venue/2024-10-06/
LOCATION:VENUE SPORTSBAR AND GRILL
CATEGORIES:Entertainment & Games,Music
ATTACH;FMTTYPE=image/jpeg:https://urbancasual.ca/wp-content/uploads/2024/09/inbound1307443098528191419.jpg
END:VEVENT
END:VCALENDAR