BEGIN:VCALENDAR
VERSION:2.0
PRODID:-//Urbancasual.ca - ECPv6.15.20//NONSGML v1.0//EN
CALSCALE:GREGORIAN
METHOD:PUBLISH
X-WR-CALNAME:Urbancasual.ca
X-ORIGINAL-URL:https://urbancasual.ca
X-WR-CALDESC:Events for Urbancasual.ca
REFRESH-INTERVAL;VALUE=DURATION:PT1H
X-Robots-Tag:noindex
X-PUBLISHED-TTL:PT1H
BEGIN:VTIMEZONE
TZID:America/Edmonton
BEGIN:DAYLIGHT
TZOFFSETFROM:-0700
TZOFFSETTO:-0600
TZNAME:MDT
DTSTART:20250309T090000
END:DAYLIGHT
BEGIN:STANDARD
TZOFFSETFROM:-0600
TZOFFSETTO:-0700
TZNAME:MST
DTSTART:20251102T080000
END:STANDARD
BEGIN:DAYLIGHT
TZOFFSETFROM:-0700
TZOFFSETTO:-0600
TZNAME:MDT
DTSTART:20260308T090000
END:DAYLIGHT
BEGIN:STANDARD
TZOFFSETFROM:-0600
TZOFFSETTO:-0700
TZNAME:MST
DTSTART:20261101T080000
END:STANDARD
BEGIN:DAYLIGHT
TZOFFSETFROM:-0700
TZOFFSETTO:-0600
TZNAME:MDT
DTSTART:20270314T090000
END:DAYLIGHT
BEGIN:STANDARD
TZOFFSETFROM:-0600
TZOFFSETTO:-0700
TZNAME:MST
DTSTART:20271107T080000
END:STANDARD
END:VTIMEZONE
BEGIN:VEVENT
DTSTART;TZID=America/Edmonton:20260509T170000
DTEND;TZID=America/Edmonton:20260510T010000
DTSTAMP:20260425T055504
CREATED:20260211T195105Z
LAST-MODIFIED:20260211T195105Z
UID:10054563-1778346000-1778374800@urbancasual.ca
SUMMARY:Tatapalooza 2026: Steak & Lobster Bash!
DESCRIPTION:Team Ta Ta’s is back at it this year\, hoping to cross over the $1 MILLION mark raised for the Alberta Cancer Foundation ! 🦞🥩 \n🩷SAVE THE DATE! Saturday May 9th at the Cochrane Lions Club And Events Centre Alberta featuring Atlantic Storm Band 🎶
URL:https://urbancasual.ca/cochrane-event/tatapalooza-2026-steak-lobster-bash/
LOCATION:The Lions Event Centre\, 109 5th Avenue\, Cochrane\, Alberta\, Canada
CATEGORIES:Fundraiser,LIONS EVENTS CENTRE,Music
ATTACH;FMTTYPE=image/jpeg:https://urbancasual.ca/wp-content/uploads/2026/02/1000013450.jpg
END:VEVENT
BEGIN:VEVENT
DTSTART;TZID=America/Edmonton:20260509T210000
DTEND;TZID=America/Edmonton:20260510T013000
DTSTAMP:20260425T055504
CREATED:20260424T163942Z
LAST-MODIFIED:20260424T163959Z
UID:10059774-1778360400-1778376600@urbancasual.ca
SUMMARY:Live Music at The Venue Sportsbar and Grill
DESCRIPTION: COCHRANE — THIS IS YOUR MONTH  LIVE MUSIC EVERY SATURDAY @ THE VENUE No excuses. No cover. Just energy. LINEUP YOU DON’T WANT TO MISS: May 2 – The Henchmen Luke DauphinaisCountry • Rock • Pop hits you actually know May 9 – Envy Envy BandHigh-energy Pop • Rock • Classic Rock May 16 – Medlerz @medlerzClassic Metal • Rock legends (Zeppelin\, Ozzy\, Sabbath vibes) May 23 – Rocky Mountain Maniacs @rocky mountain maniacsTop covers + original bangers May 30 – Wildcard Wildcard Band YYCClassic Rock • Pop • R&B • Country favorites SHOWS START AT 9 PM NO COVER ALL MONTH Cold drinks. Best food in Cochrane. Packed dance floor. The only place you should be on Saturdays. Tag your crew NOW Save this post so you don’t forget Walk in early — best tables go FAST Stay late — that’s when it gets wild Which band are you coming for? Comment below.
URL:https://urbancasual.ca/cochrane-event/live-music-at-the-venue-sportsbar-and-grill-may/2026-05-09/
LOCATION:VENUE SPORTSBAR AND GRILL
CATEGORIES:Adults Only,Entertainment & Games,Music,Pub/Bar Event,Restaurant
ATTACH;FMTTYPE=image/jpeg:https://urbancasual.ca/wp-content/uploads/2026/04/673858538_17968990872019573_2848257833745548364_n.jpg
END:VEVENT
BEGIN:VEVENT
DTSTART;TZID=America/Edmonton:20260509T210000
DTEND;TZID=America/Edmonton:20260510T020000
DTSTAMP:20260425T055504
CREATED:20260416T172129Z
LAST-MODIFIED:20260416T172129Z
UID:10059344-1778360400-1778378400@urbancasual.ca
SUMMARY:LIVE MUSIC AT THE VENUE
DESCRIPTION:APRIL AT THE VENUE \n\n\nCochrane’s #1 Nightlife Spot\n\n\nNew vibes. Bigger nights. Non-stop entertainment.\n\n\n\n\n\n\n\n\n From country to full party mode \n\n\n EVERY SATURDAY – LIVE BANDS (9PM – 2AM)\n\n\n\nAPRIL 4 – ALLEN CHRISTIE\n(Folk Rock • Soft Pop Rock)\n\n\n\nAPRIL 11 – ROCK BOTTOM\n(70s • 80s • 90s Rock & Roll)\n\n\n\nAPRIL 18 – STATIC\n(Classic Rock Favorites)\n\n\n\nAPRIL 25 – KRANK’D\n(Classic Rock • Hard Rock • Modern Hits)\n\n\n\n Every Saturday = packed dance floor\n\n\n\n\n\n\n\n THE VENUE\n79 Railway St. E\, Cochrane
URL:https://urbancasual.ca/cochrane-event/live-music-at-the-venue-602/2026-05-09/
LOCATION:VENUE SPORTSBAR AND GRILL
CATEGORIES:Adults Only,Downtown,Entertainment & Games,Music,Pub/Bar Event,Restaurant
ATTACH;FMTTYPE=image/jpeg:https://urbancasual.ca/wp-content/uploads/2026/04/657258995_17966147115019573_2071770635758293235_n.jpg
END:VEVENT
BEGIN:VEVENT
DTSTART;TZID=America/Edmonton:20260510T160000
DTEND;TZID=America/Edmonton:20260510T200000
DTSTAMP:20260425T055504
CREATED:20240911T005142Z
LAST-MODIFIED:20240911T005142Z
UID:10035781-1778428800-1778443200@urbancasual.ca
SUMMARY:SUNDAY JAM AT THE VENUE
DESCRIPTION:The Sunday Jam is back at the Venue starting October 6th! \nFeaturing Allen Christie. \nWINGS $10 OFF \nHAPPY HOUR 2PM TO 8PM \n  \n 
URL:https://urbancasual.ca/cochrane-event/sunday-jam-at-the-venue/2026-05-10/
LOCATION:VENUE SPORTSBAR AND GRILL
CATEGORIES:Entertainment & Games,Music
ATTACH;FMTTYPE=image/jpeg:https://urbancasual.ca/wp-content/uploads/2024/09/inbound1307443098528191419.jpg
END:VEVENT
BEGIN:VEVENT
DTSTART;TZID=America/Edmonton:20260512T103000
DTEND;TZID=America/Edmonton:20260512T233000
DTSTAMP:20260425T055504
CREATED:20260318T181638Z
LAST-MODIFIED:20260318T181725Z
UID:10057492-1778581800-1778628600@urbancasual.ca
SUMMARY:Mini Mustang Music
DESCRIPTION:Get ready to jam out at Mini Mustang Music — an exciting in-person event where little ones and their parents can connect\, make music\, and exercise their quickly developing brains! \nThere will be active music making\, time to connect\, snacks\, and a supportive home atmosphere for real relationships to be formed. \nThis group is run by Laura MacLeod\, a Certified Music Therapist and Counselling Therapist. \nThis service is covered by most benefit providers under counselling therapy. $25/class. \nOption to pay for full month in advance. Receipt will be sent once you reserve your spot on Eventbrite.
URL:https://urbancasual.ca/cochrane-event/mini-mustang-music-april/2026-05-12/
LOCATION:Heartland Music & Wellness\, 100 Paint Horse Drive\, Cochrane\, AB\, T4C 0X1\, Canada
CATEGORIES:Community,Family Friendly,Mental Health,Music,Parents & Caregivers
ATTACH;FMTTYPE=image/jpeg:https://urbancasual.ca/wp-content/uploads/2026/03/Blue-and-White-Modern-Horse-Riding-Course-Poster-2.jpg
ORGANIZER;CN="Heartland Music &amp%3B Wellness":MAILTO:Heartlandmusicandwellness@gmail.com
END:VEVENT
BEGIN:VEVENT
DTSTART;TZID=America/Edmonton:20260512T190000
DTEND;TZID=America/Edmonton:20260512T220000
DTSTAMP:20260425T055505
CREATED:20260329T005646Z
LAST-MODIFIED:20260329T005959Z
UID:10058382-1778612400-1778623200@urbancasual.ca
SUMMARY:OPEN MIC / OPEN JAM AT THE SHIRE PUB
DESCRIPTION:Every Tuesday we have a Jam/Open Mic night for all . \nNo matter what instrument or type of music you play\, come on down.
URL:https://urbancasual.ca/cochrane-event/open-mic-open-jam-at-the-shire-pub/2026-05-12/
LOCATION:The Shire Pub\, 8-57 West Aarsby Road\, Cochrane\, AB
CATEGORIES:Adults Only,Entertainment & Games,Music,OPEN MIC,Pub/Bar Event,Restaurant
ATTACH;FMTTYPE=image/webp:https://urbancasual.ca/wp-content/uploads/2026/03/432615705_386171574189780_2391788280087978784_n-768x614-1.webp
END:VEVENT
BEGIN:VEVENT
DTSTART;TZID=America/Edmonton:20260513T180000
DTEND;TZID=America/Edmonton:20260513T210000
DTSTAMP:20260425T055505
CREATED:20241202T000531Z
LAST-MODIFIED:20241202T000605Z
UID:10037776-1778695200-1778706000@urbancasual.ca
SUMMARY:Country Music with Turner Bates at the Venue
DESCRIPTION:
URL:https://urbancasual.ca/cochrane-event/country-music-with-turner-bates-at-the-venue/2026-05-13/
LOCATION:AB
CATEGORIES:Adults Only,Business,Entertainment & Games,Food,Music,Pub/Bar Event
ATTACH;FMTTYPE=image/jpeg:https://urbancasual.ca/wp-content/uploads/2024/12/463385392_17920216139988797_9181419957565291331_n.jpg
END:VEVENT
BEGIN:VEVENT
DTSTART;TZID=America/Edmonton:20260514T190000
DTEND;TZID=America/Edmonton:20260514T220000
DTSTAMP:20260425T055505
CREATED:20260328T203709Z
LAST-MODIFIED:20260328T203709Z
UID:10058254-1778785200-1778796000@urbancasual.ca
SUMMARY:MUSIC BINGO
DESCRIPTION:Music bingo every 2nd-second Thursday of each month at the Shire Pub.
URL:https://urbancasual.ca/cochrane-event/music-bingo-2/2026-05-14/
LOCATION:The Shire Pub\, 8-57 West Aarsby Road\, Cochrane\, AB
CATEGORIES:Adults Only,Entertainment & Games,Music,Pub/Bar Event,Restaurant
ATTACH;FMTTYPE=image/webp:https://urbancasual.ca/wp-content/uploads/2026/03/MUSICALBINGO.webp
END:VEVENT
BEGIN:VEVENT
DTSTART;TZID=America/Edmonton:20260514T200000
DTEND;TZID=America/Edmonton:20260514T233000
DTSTAMP:20260425T055505
CREATED:20260312T154426Z
LAST-MODIFIED:20260312T154426Z
UID:10057220-1778788800-1778801400@urbancasual.ca
SUMMARY:KARAOKE AT THE VENUE
DESCRIPTION:🎤🍽 Join us at The Venue this Thursday for a night of delicious food and epic karaoke! \n🎶 Get ready to sing your heart out starting at 8pm.
URL:https://urbancasual.ca/cochrane-event/karaoke-at-the-venue-2/2026-05-14/
LOCATION:VENUE SPORTSBAR AND GRILL
CATEGORIES:Business,Downtown,Entertainment & Games,Karaoke,Music,Pub/Bar Event,Restaurant
ATTACH;FMTTYPE=image/jpeg:https://urbancasual.ca/wp-content/uploads/2024/07/639697893_17962041261019573_7093083653207156449_n.jpg
END:VEVENT
BEGIN:VEVENT
DTSTART;TZID=America/Edmonton:20260516T180000
DTEND;TZID=America/Edmonton:20260516T210000
DTSTAMP:20260425T055505
CREATED:20241219T180111Z
LAST-MODIFIED:20260312T155218Z
UID:10032383-1778954400-1778965200@urbancasual.ca
SUMMARY:LIVE music Saturdays at Rocky View Brewing
DESCRIPTION:  \n  \n  \nLive music Saturdays in the taproom starting at 6pm. \n  \n  \n  \n  \n  \n  \n 
URL:https://urbancasual.ca/cochrane-event/live-music-saturdays-at-rocky-view-brewing-9-15-2-2/2026-05-16/
LOCATION:Rocky View Taproom\, 420 1st Street\, Cochrane\, AB
CATEGORIES:Business,Downtown,Entertainment & Games,Music,Pub/Bar Event,Restaurant
ATTACH;FMTTYPE=image/jpeg:https://urbancasual.ca/wp-content/uploads/2024/07/241712073_342240897364337_6168788210147837504_n-3.jpg
END:VEVENT
BEGIN:VEVENT
DTSTART;TZID=America/Edmonton:20260516T203000
DTEND;TZID=America/Edmonton:20260516T233000
DTSTAMP:20260425T055505
CREATED:20260424T163651Z
LAST-MODIFIED:20260424T163651Z
UID:10059770-1778963400-1778974200@urbancasual.ca
SUMMARY:LIVE MUSIC AT THE TEXAS GATE
DESCRIPTION:PowerHouze Band\n\n\n\n\n\nJoyride\n\n\n\n\n\nBreaking The Fall\n\n\n\n\n\nHigh 5yyc\n\n\n\n\n\nSilly Wrabbit\n\n\n\n\n\nDon’t delay a call today and reserve your table at The Texas Gate\n\n\n\n\n\n403-932-6666
URL:https://urbancasual.ca/cochrane-event/live-music-at-the-texas-gate/2026-05-16/
LOCATION:The Texas Gate\, 304 1st Street\, Cochrane\, Alberta\, Canada
CATEGORIES:Adults Only,Concert,Entertainment & Games,Music,Pub/Bar Event,Restaurant
ATTACH;FMTTYPE=image/jpeg:https://urbancasual.ca/wp-content/uploads/2026/04/679119870_10164475542506113_5488395345042233884_n.jpg
END:VEVENT
BEGIN:VEVENT
DTSTART;TZID=America/Edmonton:20260516T210000
DTEND;TZID=America/Edmonton:20260517T013000
DTSTAMP:20260425T055505
CREATED:20260424T163942Z
LAST-MODIFIED:20260424T163959Z
UID:10059775-1778965200-1778981400@urbancasual.ca
SUMMARY:Live Music at The Venue Sportsbar and Grill
DESCRIPTION: COCHRANE — THIS IS YOUR MONTH  LIVE MUSIC EVERY SATURDAY @ THE VENUE No excuses. No cover. Just energy. LINEUP YOU DON’T WANT TO MISS: May 2 – The Henchmen Luke DauphinaisCountry • Rock • Pop hits you actually know May 9 – Envy Envy BandHigh-energy Pop • Rock • Classic Rock May 16 – Medlerz @medlerzClassic Metal • Rock legends (Zeppelin\, Ozzy\, Sabbath vibes) May 23 – Rocky Mountain Maniacs @rocky mountain maniacsTop covers + original bangers May 30 – Wildcard Wildcard Band YYCClassic Rock • Pop • R&B • Country favorites SHOWS START AT 9 PM NO COVER ALL MONTH Cold drinks. Best food in Cochrane. Packed dance floor. The only place you should be on Saturdays. Tag your crew NOW Save this post so you don’t forget Walk in early — best tables go FAST Stay late — that’s when it gets wild Which band are you coming for? Comment below.
URL:https://urbancasual.ca/cochrane-event/live-music-at-the-venue-sportsbar-and-grill-may/2026-05-16/
LOCATION:VENUE SPORTSBAR AND GRILL
CATEGORIES:Adults Only,Entertainment & Games,Music,Pub/Bar Event,Restaurant
ATTACH;FMTTYPE=image/jpeg:https://urbancasual.ca/wp-content/uploads/2026/04/673858538_17968990872019573_2848257833745548364_n.jpg
END:VEVENT
BEGIN:VEVENT
DTSTART;TZID=America/Edmonton:20260516T210000
DTEND;TZID=America/Edmonton:20260517T020000
DTSTAMP:20260425T055505
CREATED:20260416T172129Z
LAST-MODIFIED:20260416T172129Z
UID:10059345-1778965200-1778983200@urbancasual.ca
SUMMARY:LIVE MUSIC AT THE VENUE
DESCRIPTION:APRIL AT THE VENUE \n\n\nCochrane’s #1 Nightlife Spot\n\n\nNew vibes. Bigger nights. Non-stop entertainment.\n\n\n\n\n\n\n\n\n From country to full party mode \n\n\n EVERY SATURDAY – LIVE BANDS (9PM – 2AM)\n\n\n\nAPRIL 4 – ALLEN CHRISTIE\n(Folk Rock • Soft Pop Rock)\n\n\n\nAPRIL 11 – ROCK BOTTOM\n(70s • 80s • 90s Rock & Roll)\n\n\n\nAPRIL 18 – STATIC\n(Classic Rock Favorites)\n\n\n\nAPRIL 25 – KRANK’D\n(Classic Rock • Hard Rock • Modern Hits)\n\n\n\n Every Saturday = packed dance floor\n\n\n\n\n\n\n\n THE VENUE\n79 Railway St. E\, Cochrane
URL:https://urbancasual.ca/cochrane-event/live-music-at-the-venue-602/2026-05-16/
LOCATION:VENUE SPORTSBAR AND GRILL
CATEGORIES:Adults Only,Downtown,Entertainment & Games,Music,Pub/Bar Event,Restaurant
ATTACH;FMTTYPE=image/jpeg:https://urbancasual.ca/wp-content/uploads/2026/04/657258995_17966147115019573_2071770635758293235_n.jpg
END:VEVENT
BEGIN:VEVENT
DTSTART;TZID=America/Edmonton:20260517T130000
DTEND;TZID=America/Edmonton:20260517T170000
DTSTAMP:20260425T055505
CREATED:20250808T234555Z
LAST-MODIFIED:20250808T234555Z
UID:10049935-1779022800-1779037200@urbancasual.ca
SUMMARY:SUNDAY JAM AT THE LEGION
DESCRIPTION:DOORS OPEN AT 1PM \nJAM STARTS AT 2PM
URL:https://urbancasual.ca/cochrane-event/sunday-jam-at-the-legion-3/2026-05-17/
LOCATION:The Legion\, 114 Fifth Ave\, Cochrane\, Canada
CATEGORIES:Community,Entertainment & Games,Family Friendly,Music,OPEN MIC,Parents & Caregivers
ATTACH;FMTTYPE=image/jpeg:https://urbancasual.ca/wp-content/uploads/2025/08/528714354_122185878086544523_8264551211710086241_n-1.jpg
END:VEVENT
BEGIN:VEVENT
DTSTART;TZID=America/Edmonton:20260517T160000
DTEND;TZID=America/Edmonton:20260517T200000
DTSTAMP:20260425T055505
CREATED:20240911T005142Z
LAST-MODIFIED:20240911T005142Z
UID:10035782-1779033600-1779048000@urbancasual.ca
SUMMARY:SUNDAY JAM AT THE VENUE
DESCRIPTION:The Sunday Jam is back at the Venue starting October 6th! \nFeaturing Allen Christie. \nWINGS $10 OFF \nHAPPY HOUR 2PM TO 8PM \n  \n 
URL:https://urbancasual.ca/cochrane-event/sunday-jam-at-the-venue/2026-05-17/
LOCATION:VENUE SPORTSBAR AND GRILL
CATEGORIES:Entertainment & Games,Music
ATTACH;FMTTYPE=image/jpeg:https://urbancasual.ca/wp-content/uploads/2024/09/inbound1307443098528191419.jpg
END:VEVENT
BEGIN:VEVENT
DTSTART;TZID=America/Edmonton:20260519T190000
DTEND;TZID=America/Edmonton:20260519T210000
DTSTAMP:20260425T055505
CREATED:20260107T214734Z
LAST-MODIFIED:20260107T214734Z
UID:10053447-1779217200-1779224400@urbancasual.ca
SUMMARY:JAM & DRAW MIXER AT FOUND
DESCRIPTION:A welcoming space for musicians and artists at any skill level; play non-stop music with each other in an open circle\, “living room” setting! If you don’t play\, we will have a variety of art supplies available. \nThis space offers a chance to jam with friends and meet new people in your community. All instruments & genres (even spoken word/emcees) are welcome. This is a queer-friendly space. \nCover by donation: RSVP HERE
URL:https://urbancasual.ca/cochrane-event/jam-draw-mixer-at-found/2026-05-19/
LOCATION:Found Book Shop\, 206 1st Street W\, Cochrane\, AB
CATEGORIES:Business,Community,Crafts,Culture,Entertainment & Games,Karaoke,Learning,Music,Networking,OPEN MIC,Pub/Bar Event
ATTACH;FMTTYPE=image/jpeg:https://urbancasual.ca/wp-content/uploads/2026/01/608858685_1466878862106263_800200169564951520_n.jpg
END:VEVENT
BEGIN:VEVENT
DTSTART;TZID=America/Edmonton:20260519T190000
DTEND;TZID=America/Edmonton:20260519T220000
DTSTAMP:20260425T055505
CREATED:20260329T005646Z
LAST-MODIFIED:20260329T005959Z
UID:10058383-1779217200-1779228000@urbancasual.ca
SUMMARY:OPEN MIC / OPEN JAM AT THE SHIRE PUB
DESCRIPTION:Every Tuesday we have a Jam/Open Mic night for all . \nNo matter what instrument or type of music you play\, come on down.
URL:https://urbancasual.ca/cochrane-event/open-mic-open-jam-at-the-shire-pub/2026-05-19/
LOCATION:The Shire Pub\, 8-57 West Aarsby Road\, Cochrane\, AB
CATEGORIES:Adults Only,Entertainment & Games,Music,OPEN MIC,Pub/Bar Event,Restaurant
ATTACH;FMTTYPE=image/webp:https://urbancasual.ca/wp-content/uploads/2026/03/432615705_386171574189780_2391788280087978784_n-768x614-1.webp
END:VEVENT
BEGIN:VEVENT
DTSTART;TZID=America/Edmonton:20260520T180000
DTEND;TZID=America/Edmonton:20260520T210000
DTSTAMP:20260425T055505
CREATED:20241202T000531Z
LAST-MODIFIED:20241202T000605Z
UID:10037777-1779300000-1779310800@urbancasual.ca
SUMMARY:Country Music with Turner Bates at the Venue
DESCRIPTION:
URL:https://urbancasual.ca/cochrane-event/country-music-with-turner-bates-at-the-venue/2026-05-20/
LOCATION:AB
CATEGORIES:Adults Only,Business,Entertainment & Games,Food,Music,Pub/Bar Event
ATTACH;FMTTYPE=image/jpeg:https://urbancasual.ca/wp-content/uploads/2024/12/463385392_17920216139988797_9181419957565291331_n.jpg
END:VEVENT
BEGIN:VEVENT
DTSTART;TZID=America/Edmonton:20260521T200000
DTEND;TZID=America/Edmonton:20260521T233000
DTSTAMP:20260425T055505
CREATED:20260312T154426Z
LAST-MODIFIED:20260312T154426Z
UID:10057221-1779393600-1779406200@urbancasual.ca
SUMMARY:KARAOKE AT THE VENUE
DESCRIPTION:🎤🍽 Join us at The Venue this Thursday for a night of delicious food and epic karaoke! \n🎶 Get ready to sing your heart out starting at 8pm.
URL:https://urbancasual.ca/cochrane-event/karaoke-at-the-venue-2/2026-05-21/
LOCATION:VENUE SPORTSBAR AND GRILL
CATEGORIES:Business,Downtown,Entertainment & Games,Karaoke,Music,Pub/Bar Event,Restaurant
ATTACH;FMTTYPE=image/jpeg:https://urbancasual.ca/wp-content/uploads/2024/07/639697893_17962041261019573_7093083653207156449_n.jpg
END:VEVENT
BEGIN:VEVENT
DTSTART;TZID=America/Edmonton:20260523T180000
DTEND;TZID=America/Edmonton:20260523T210000
DTSTAMP:20260425T055505
CREATED:20241219T180111Z
LAST-MODIFIED:20260312T155218Z
UID:10032384-1779559200-1779570000@urbancasual.ca
SUMMARY:LIVE music Saturdays at Rocky View Brewing
DESCRIPTION:  \n  \n  \nLive music Saturdays in the taproom starting at 6pm. \n  \n  \n  \n  \n  \n  \n 
URL:https://urbancasual.ca/cochrane-event/live-music-saturdays-at-rocky-view-brewing-9-15-2-2/2026-05-23/
LOCATION:Rocky View Taproom\, 420 1st Street\, Cochrane\, AB
CATEGORIES:Business,Downtown,Entertainment & Games,Music,Pub/Bar Event,Restaurant
ATTACH;FMTTYPE=image/jpeg:https://urbancasual.ca/wp-content/uploads/2024/07/241712073_342240897364337_6168788210147837504_n-3.jpg
END:VEVENT
BEGIN:VEVENT
DTSTART;TZID=America/Edmonton:20260523T190000
DTEND;TZID=America/Edmonton:20260523T210000
DTSTAMP:20260425T055505
CREATED:20260421T233319Z
LAST-MODIFIED:20260421T233319Z
UID:10059757-1779562800-1779570000@urbancasual.ca
SUMMARY:Live Acoustic Music at Lion Head Pub
DESCRIPTION:
URL:https://urbancasual.ca/cochrane-event/live-acoustic-music-at-lion-head-pub/
LOCATION:Lion Head Pub\, 101 Sunset Drive\, Cochrane\, Alberta
CATEGORIES:Entertainment & Games,Music,Pub/Bar Event,Restaurant,Sunset Ridge
ATTACH;FMTTYPE=image/jpeg:https://urbancasual.ca/wp-content/uploads/2026/04/ChatGPT-Image-Apr-21-2026-01_54_21-PM.jpg
END:VEVENT
BEGIN:VEVENT
DTSTART;TZID=America/Edmonton:20260523T203000
DTEND;TZID=America/Edmonton:20260523T233000
DTSTAMP:20260425T055505
CREATED:20260424T163651Z
LAST-MODIFIED:20260424T163651Z
UID:10059771-1779568200-1779579000@urbancasual.ca
SUMMARY:LIVE MUSIC AT THE TEXAS GATE
DESCRIPTION:PowerHouze Band\n\n\n\n\n\nJoyride\n\n\n\n\n\nBreaking The Fall\n\n\n\n\n\nHigh 5yyc\n\n\n\n\n\nSilly Wrabbit\n\n\n\n\n\nDon’t delay a call today and reserve your table at The Texas Gate\n\n\n\n\n\n403-932-6666
URL:https://urbancasual.ca/cochrane-event/live-music-at-the-texas-gate/2026-05-23/
LOCATION:The Texas Gate\, 304 1st Street\, Cochrane\, Alberta\, Canada
CATEGORIES:Adults Only,Concert,Entertainment & Games,Music,Pub/Bar Event,Restaurant
ATTACH;FMTTYPE=image/jpeg:https://urbancasual.ca/wp-content/uploads/2026/04/679119870_10164475542506113_5488395345042233884_n.jpg
END:VEVENT
BEGIN:VEVENT
DTSTART;TZID=America/Edmonton:20260523T210000
DTEND;TZID=America/Edmonton:20260524T013000
DTSTAMP:20260425T055505
CREATED:20260424T163942Z
LAST-MODIFIED:20260424T163959Z
UID:10059776-1779570000-1779586200@urbancasual.ca
SUMMARY:Live Music at The Venue Sportsbar and Grill
DESCRIPTION: COCHRANE — THIS IS YOUR MONTH  LIVE MUSIC EVERY SATURDAY @ THE VENUE No excuses. No cover. Just energy. LINEUP YOU DON’T WANT TO MISS: May 2 – The Henchmen Luke DauphinaisCountry • Rock • Pop hits you actually know May 9 – Envy Envy BandHigh-energy Pop • Rock • Classic Rock May 16 – Medlerz @medlerzClassic Metal • Rock legends (Zeppelin\, Ozzy\, Sabbath vibes) May 23 – Rocky Mountain Maniacs @rocky mountain maniacsTop covers + original bangers May 30 – Wildcard Wildcard Band YYCClassic Rock • Pop • R&B • Country favorites SHOWS START AT 9 PM NO COVER ALL MONTH Cold drinks. Best food in Cochrane. Packed dance floor. The only place you should be on Saturdays. Tag your crew NOW Save this post so you don’t forget Walk in early — best tables go FAST Stay late — that’s when it gets wild Which band are you coming for? Comment below.
URL:https://urbancasual.ca/cochrane-event/live-music-at-the-venue-sportsbar-and-grill-may/2026-05-23/
LOCATION:VENUE SPORTSBAR AND GRILL
CATEGORIES:Adults Only,Entertainment & Games,Music,Pub/Bar Event,Restaurant
ATTACH;FMTTYPE=image/jpeg:https://urbancasual.ca/wp-content/uploads/2026/04/673858538_17968990872019573_2848257833745548364_n.jpg
END:VEVENT
BEGIN:VEVENT
DTSTART;TZID=America/Edmonton:20260523T210000
DTEND;TZID=America/Edmonton:20260524T020000
DTSTAMP:20260425T055505
CREATED:20260416T172129Z
LAST-MODIFIED:20260416T172129Z
UID:10059346-1779570000-1779588000@urbancasual.ca
SUMMARY:LIVE MUSIC AT THE VENUE
DESCRIPTION:APRIL AT THE VENUE \n\n\nCochrane’s #1 Nightlife Spot\n\n\nNew vibes. Bigger nights. Non-stop entertainment.\n\n\n\n\n\n\n\n\n From country to full party mode \n\n\n EVERY SATURDAY – LIVE BANDS (9PM – 2AM)\n\n\n\nAPRIL 4 – ALLEN CHRISTIE\n(Folk Rock • Soft Pop Rock)\n\n\n\nAPRIL 11 – ROCK BOTTOM\n(70s • 80s • 90s Rock & Roll)\n\n\n\nAPRIL 18 – STATIC\n(Classic Rock Favorites)\n\n\n\nAPRIL 25 – KRANK’D\n(Classic Rock • Hard Rock • Modern Hits)\n\n\n\n Every Saturday = packed dance floor\n\n\n\n\n\n\n\n THE VENUE\n79 Railway St. E\, Cochrane
URL:https://urbancasual.ca/cochrane-event/live-music-at-the-venue-602/2026-05-23/
LOCATION:VENUE SPORTSBAR AND GRILL
CATEGORIES:Adults Only,Downtown,Entertainment & Games,Music,Pub/Bar Event,Restaurant
ATTACH;FMTTYPE=image/jpeg:https://urbancasual.ca/wp-content/uploads/2026/04/657258995_17966147115019573_2071770635758293235_n.jpg
END:VEVENT
BEGIN:VEVENT
DTSTART;TZID=America/Edmonton:20260524T160000
DTEND;TZID=America/Edmonton:20260524T200000
DTSTAMP:20260425T055505
CREATED:20240911T005142Z
LAST-MODIFIED:20240911T005142Z
UID:10035783-1779638400-1779652800@urbancasual.ca
SUMMARY:SUNDAY JAM AT THE VENUE
DESCRIPTION:The Sunday Jam is back at the Venue starting October 6th! \nFeaturing Allen Christie. \nWINGS $10 OFF \nHAPPY HOUR 2PM TO 8PM \n  \n 
URL:https://urbancasual.ca/cochrane-event/sunday-jam-at-the-venue/2026-05-24/
LOCATION:VENUE SPORTSBAR AND GRILL
CATEGORIES:Entertainment & Games,Music
ATTACH;FMTTYPE=image/jpeg:https://urbancasual.ca/wp-content/uploads/2024/09/inbound1307443098528191419.jpg
END:VEVENT
BEGIN:VEVENT
DTSTART;TZID=America/Edmonton:20260526T190000
DTEND;TZID=America/Edmonton:20260526T220000
DTSTAMP:20260425T055505
CREATED:20260329T005646Z
LAST-MODIFIED:20260329T005959Z
UID:10058384-1779822000-1779832800@urbancasual.ca
SUMMARY:OPEN MIC / OPEN JAM AT THE SHIRE PUB
DESCRIPTION:Every Tuesday we have a Jam/Open Mic night for all . \nNo matter what instrument or type of music you play\, come on down.
URL:https://urbancasual.ca/cochrane-event/open-mic-open-jam-at-the-shire-pub/2026-05-26/
LOCATION:The Shire Pub\, 8-57 West Aarsby Road\, Cochrane\, AB
CATEGORIES:Adults Only,Entertainment & Games,Music,OPEN MIC,Pub/Bar Event,Restaurant
ATTACH;FMTTYPE=image/webp:https://urbancasual.ca/wp-content/uploads/2026/03/432615705_386171574189780_2391788280087978784_n-768x614-1.webp
END:VEVENT
BEGIN:VEVENT
DTSTART;TZID=America/Edmonton:20260527T180000
DTEND;TZID=America/Edmonton:20260527T210000
DTSTAMP:20260425T055505
CREATED:20241202T000531Z
LAST-MODIFIED:20241202T000605Z
UID:10037778-1779904800-1779915600@urbancasual.ca
SUMMARY:Country Music with Turner Bates at the Venue
DESCRIPTION:
URL:https://urbancasual.ca/cochrane-event/country-music-with-turner-bates-at-the-venue/2026-05-27/
LOCATION:AB
CATEGORIES:Adults Only,Business,Entertainment & Games,Food,Music,Pub/Bar Event
ATTACH;FMTTYPE=image/jpeg:https://urbancasual.ca/wp-content/uploads/2024/12/463385392_17920216139988797_9181419957565291331_n.jpg
END:VEVENT
BEGIN:VEVENT
DTSTART;TZID=America/Edmonton:20260527T190000
DTEND;TZID=America/Edmonton:20260527T210000
DTSTAMP:20260425T055505
CREATED:20260107T215720Z
LAST-MODIFIED:20260107T215720Z
UID:10053459-1779908400-1779915600@urbancasual.ca
SUMMARY:WRITER'S UNPLUGGED: OPEN MIC AT FOUND
DESCRIPTION:Join us for the Writers’ Unplugged – An Open Mic Night. \nShare your words while surrounded by walls of books\, in front of the friendliest audience you’ll ever meet. It’s easy. Show up with a max of 5 minutes of material to share. Throw your name into the hat. Readers are drawn at random. Poetry\, fiction\, non-fiction\, songs\, dramatic monologues…anything goes. Maybe you’re not ready to read in front of people and just want to enjoy the show. Be a part of our live studio audience\, cheer on our writers. \nSee you soon.
URL:https://urbancasual.ca/cochrane-event/writers-unplugged-open-mic-at-found/2026-05-27/
LOCATION:Found Book Shop\, 206 1st Street W\, Cochrane\, AB
CATEGORIES:Business,Community,Entertainment & Games,Music,Networking,OPEN MIC,Pub/Bar Event
ATTACH;FMTTYPE=image/jpeg:https://urbancasual.ca/wp-content/uploads/2026/01/605999718_1466878912106258_9063168567219491639_n.jpg
END:VEVENT
BEGIN:VEVENT
DTSTART;TZID=America/Edmonton:20260528T200000
DTEND;TZID=America/Edmonton:20260528T233000
DTSTAMP:20260425T055505
CREATED:20260312T154426Z
LAST-MODIFIED:20260312T154426Z
UID:10057222-1779998400-1780011000@urbancasual.ca
SUMMARY:KARAOKE AT THE VENUE
DESCRIPTION:🎤🍽 Join us at The Venue this Thursday for a night of delicious food and epic karaoke! \n🎶 Get ready to sing your heart out starting at 8pm.
URL:https://urbancasual.ca/cochrane-event/karaoke-at-the-venue-2/2026-05-28/
LOCATION:VENUE SPORTSBAR AND GRILL
CATEGORIES:Business,Downtown,Entertainment & Games,Karaoke,Music,Pub/Bar Event,Restaurant
ATTACH;FMTTYPE=image/jpeg:https://urbancasual.ca/wp-content/uploads/2024/07/639697893_17962041261019573_7093083653207156449_n.jpg
END:VEVENT
BEGIN:VEVENT
DTSTART;TZID=America/Edmonton:20260530T180000
DTEND;TZID=America/Edmonton:20260530T210000
DTSTAMP:20260425T055505
CREATED:20241219T180111Z
LAST-MODIFIED:20260312T155218Z
UID:10032385-1780164000-1780174800@urbancasual.ca
SUMMARY:LIVE music Saturdays at Rocky View Brewing
DESCRIPTION:  \n  \n  \nLive music Saturdays in the taproom starting at 6pm. \n  \n  \n  \n  \n  \n  \n 
URL:https://urbancasual.ca/cochrane-event/live-music-saturdays-at-rocky-view-brewing-9-15-2-2/2026-05-30/
LOCATION:Rocky View Taproom\, 420 1st Street\, Cochrane\, AB
CATEGORIES:Business,Downtown,Entertainment & Games,Music,Pub/Bar Event,Restaurant
ATTACH;FMTTYPE=image/jpeg:https://urbancasual.ca/wp-content/uploads/2024/07/241712073_342240897364337_6168788210147837504_n-3.jpg
END:VEVENT
END:VCALENDAR