BEGIN:VCALENDAR
VERSION:2.0
PRODID:-//Urbancasual.ca - ECPv6.15.20//NONSGML v1.0//EN
CALSCALE:GREGORIAN
METHOD:PUBLISH
X-WR-CALNAME:Urbancasual.ca
X-ORIGINAL-URL:https://urbancasual.ca
X-WR-CALDESC:Events for Urbancasual.ca
REFRESH-INTERVAL;VALUE=DURATION:PT1H
X-Robots-Tag:noindex
X-PUBLISHED-TTL:PT1H
BEGIN:VTIMEZONE
TZID:America/Edmonton
BEGIN:DAYLIGHT
TZOFFSETFROM:-0700
TZOFFSETTO:-0600
TZNAME:MDT
DTSTART:20250309T090000
END:DAYLIGHT
BEGIN:STANDARD
TZOFFSETFROM:-0600
TZOFFSETTO:-0700
TZNAME:MST
DTSTART:20251102T080000
END:STANDARD
BEGIN:DAYLIGHT
TZOFFSETFROM:-0700
TZOFFSETTO:-0600
TZNAME:MDT
DTSTART:20260308T090000
END:DAYLIGHT
BEGIN:STANDARD
TZOFFSETFROM:-0600
TZOFFSETTO:-0700
TZNAME:MST
DTSTART:20261101T080000
END:STANDARD
BEGIN:DAYLIGHT
TZOFFSETFROM:-0700
TZOFFSETTO:-0600
TZNAME:MDT
DTSTART:20270314T090000
END:DAYLIGHT
BEGIN:STANDARD
TZOFFSETFROM:-0600
TZOFFSETTO:-0700
TZNAME:MST
DTSTART:20271107T080000
END:STANDARD
END:VTIMEZONE
BEGIN:VEVENT
DTSTART;TZID=America/Edmonton:20260410T184500
DTEND;TZID=America/Edmonton:20260410T220000
DTSTAMP:20260421T073803
CREATED:20260319T154521Z
LAST-MODIFIED:20260328T192410Z
UID:10057615-1775846700-1775858400@urbancasual.ca
SUMMARY:Concert: Dominique Adams & Jacob Brodovsky
DESCRIPTION:Found Books & Shop is excited to welcome back to the stage Dominique Adams & Jacob Brodovsky April 10th\, 2026!! \nA concert at Found is focused on artistry over spectacle. \n\nBooks line the walls\, creating a creative\, reflective setting\nThe crowd often includes writers\, readers\, artists\, and music lovers\nThe tone is attentive and respectful—people really listen\nFound is a licensed establishment & has a coffee bar – grab a glass of wine\, latte or beer & settle in\n\nDominique Adams is a Winnipeg-based contemporary folk artist. Driving Dominique’s artistry is her lush and thoughtful approach to song writing\, in tandem with her vocals – singular and iconic\, inviting and heartfelt. Her debut full-length album Titled To Keep\, was recorded in spring of 2024 with friends Liam Duncan (Boy Golden)\, Austin Parachoniak (Boy Golden\, Del Barber)\, and Keiran Placatka (William Prince\, Leith Ross). It was released on July 18th 2025 with Birthday Cake Records\, and saw her play Winnipeg Folk Fest\, and spend multiple weeks on college and satellite radio charts. \n  \nJacob Brodovsky is a singer-songwriter from Winnipeg\, Manitoba\, Treaty One Territory. He writes songs about feelings\, the people who have them\, the places that create them\, and the fears we have about them. Jacob’s debut full length album I Love You and I’m Sorry earned him a 2024 Canadian Folk Music Award for English Songwriter of the Year. Jacob’s sophomore LP Tell The Kids We Tried is out July 10th on Make My Day Records. It was recorded with producers Gavin Gardiner and Champagne James Robinson (MOONRIIVR)\, crafting a contemporary folk record that tugs at the heartstrings while recounting Jacob’s steadfastly hopeful approach to losing the community he’d known his whole life. \n  \nAfter meeting by chance at a house show\, the Dom an Jacob accidentally wrote an album together and began collaborating on each others solo work. When Dom and Jacob bring their respective voices and writing styles together\, they write intimate and thoughtful songs born out a true collaborative partnership
URL:https://urbancasual.ca/cochrane-event/concert-dominique-adams-jacob-brodovsky/
LOCATION:Found Book Shop\, 206 1st Street W\, Cochrane\, AB
CATEGORIES:Adults Only,Concert,Entertainment & Games,Music,Pub/Bar Event
ATTACH;FMTTYPE=image/jpeg:https://urbancasual.ca/wp-content/uploads/2026/03/645933064_1552462320015110_3923304751068503404_n.jpg
END:VEVENT
BEGIN:VEVENT
DTSTART;TZID=America/Edmonton:20260410T190000
DTEND;TZID=America/Edmonton:20260411T020000
DTSTAMP:20260421T073803
CREATED:20260416T172005Z
LAST-MODIFIED:20260416T172005Z
UID:10059336-1775847600-1775872800@urbancasual.ca
SUMMARY:FRIDAYS AT THE VENUE
DESCRIPTION: APRIL AT THE VENUE \n\n\nCochrane’s #1 Nightlife Spot\n\n\nNew vibes. Bigger nights. Non-stop entertainment.\n\n\n\n\n\n\n EVERY FRIDAY – DOUBLE ENERGY NIGHT\n\n\n\nLINE DANCE (Outlaw Dance)\n7PM – 9PM\n\n\n\nTHE VENUE DANCE PARTY\n9PM – 2AM\n\n From country to full party mode \n\n\n EVERY SATURDAY – LIVE BANDS (9PM – 2AM)\n\n\n\nAPRIL 4 – ALLEN CHRISTIE\n(Folk Rock • Soft Pop Rock)\n\n\n\nAPRIL 11 – ROCK BOTTOM\n(70s • 80s • 90s Rock & Roll)\n\n\n\nAPRIL 18 – STATIC\n(Classic Rock Favorites)\n\n\n\nAPRIL 25 – KRANK’D\n(Classic Rock • Hard Rock • Modern Hits)\n\n\n\n Every Saturday = packed dance floor\n\n\n\n\n\n\n\n THE VENUE\n79 Railway St. E\, Cochrane
URL:https://urbancasual.ca/cochrane-event/fridays-at-the-venue/2026-04-10/
LOCATION:VENUE SPORTSBAR AND GRILL
CATEGORIES:Adults Only,Dance,Downtown,Entertainment & Games,Music,Pub/Bar Event,Restaurant
ATTACH;FMTTYPE=image/jpeg:https://urbancasual.ca/wp-content/uploads/2026/04/657258995_17966147115019573_2071770635758293235_n.jpg
END:VEVENT
END:VCALENDAR