BEGIN:VCALENDAR
VERSION:2.0
PRODID:-//Urbancasual.ca - ECPv6.15.20//NONSGML v1.0//EN
CALSCALE:GREGORIAN
METHOD:PUBLISH
X-WR-CALNAME:Urbancasual.ca
X-ORIGINAL-URL:https://urbancasual.ca
X-WR-CALDESC:Events for Urbancasual.ca
REFRESH-INTERVAL;VALUE=DURATION:PT1H
X-Robots-Tag:noindex
X-PUBLISHED-TTL:PT1H
BEGIN:VTIMEZONE
TZID:America/Edmonton
BEGIN:DAYLIGHT
TZOFFSETFROM:-0700
TZOFFSETTO:-0600
TZNAME:MDT
DTSTART:20250309T090000
END:DAYLIGHT
BEGIN:STANDARD
TZOFFSETFROM:-0600
TZOFFSETTO:-0700
TZNAME:MST
DTSTART:20251102T080000
END:STANDARD
BEGIN:DAYLIGHT
TZOFFSETFROM:-0700
TZOFFSETTO:-0600
TZNAME:MDT
DTSTART:20260308T090000
END:DAYLIGHT
BEGIN:STANDARD
TZOFFSETFROM:-0600
TZOFFSETTO:-0700
TZNAME:MST
DTSTART:20261101T080000
END:STANDARD
BEGIN:DAYLIGHT
TZOFFSETFROM:-0700
TZOFFSETTO:-0600
TZNAME:MDT
DTSTART:20270314T090000
END:DAYLIGHT
BEGIN:STANDARD
TZOFFSETFROM:-0600
TZOFFSETTO:-0700
TZNAME:MST
DTSTART:20271107T080000
END:STANDARD
END:VTIMEZONE
BEGIN:VEVENT
DTSTART;TZID=America/Edmonton:20260325T110000
DTEND;TZID=America/Edmonton:20260325T120000
DTSTAMP:20260419T082210
CREATED:20260304T002907Z
LAST-MODIFIED:20260304T002907Z
UID:10056297-1774436400-1774440000@urbancasual.ca
SUMMARY:Half Pint Music
DESCRIPTION:Half Pint Music 🎵\nWednesday\, March 25 | 11:15–11:45 AM\nUpstairs at Half Hitch Brewing Company \nJoin us for Half Pint Music\, a joyful\, song-based music therapy class designed for little ones 3 years and under and their parents or caregivers. \nThis interactive 30-minute class invites you to connect with your child through singing\, movement\, rhythm instruments\, and playful musical activities. Together\, you’ll explore steady beat\, simple songs\, and sensory-rich experiences that support early development — all while having fun and making sweet memories. \nLed by Laura MacLeod\, Certified Music Therapist\, with over 15 years of experience facilitating music classes for parents and babies\, this class blends professional expertise with warmth\, energy\, and plenty of giggles. Get ready to move\, groove\, bounce\, sway\, and sing alongside your little one. \nWe’ll gather in the cozy\, family-friendly upstairs space at Half Hitch Brewing Company — the perfect relaxed setting for families. Feel free to stay afterwards and enjoy connection time & a delicious menu with other parents. \nClass Details:\nDate: Wednesday\, March 25\nTime: 11:15–11:45 AM\nAge Range: 3 years and under\nCost: $15 per parent/child pair\nAdditional Children or Adults: $5 each\nSpots are limited to keep the space comfortable and engaging — register early to secure your place! \nCome make music\, build connection\, and fill your Wednesday with rhythm and joy. 🎶
URL:https://urbancasual.ca/cochrane-event/half-pint-music/
LOCATION:Half Hitch Brewery
CATEGORIES:Community,Family Friendly,Music,Parents & Caregivers
ATTACH;FMTTYPE=image/jpeg:https://urbancasual.ca/wp-content/uploads/2026/03/Half-Pint-Music-Poster-w-QR.jpeg
ORGANIZER;CN="Heartland Music &amp%3B Wellness":MAILTO:Heartlandmusicandwellness@gmail.com
END:VEVENT
BEGIN:VEVENT
DTSTART;TZID=America/Edmonton:20260325T180000
DTEND;TZID=America/Edmonton:20260325T210000
DTSTAMP:20260419T082210
CREATED:20241202T000531Z
LAST-MODIFIED:20241202T000605Z
UID:10037769-1774461600-1774472400@urbancasual.ca
SUMMARY:Country Music with Turner Bates at the Venue
DESCRIPTION:
URL:https://urbancasual.ca/cochrane-event/country-music-with-turner-bates-at-the-venue/2026-03-25/
LOCATION:AB
CATEGORIES:Adults Only,Business,Entertainment & Games,Food,Music,Pub/Bar Event
ATTACH;FMTTYPE=image/jpeg:https://urbancasual.ca/wp-content/uploads/2024/12/463385392_17920216139988797_9181419957565291331_n.jpg
END:VEVENT
BEGIN:VEVENT
DTSTART;TZID=America/Edmonton:20260325T190000
DTEND;TZID=America/Edmonton:20260325T210000
DTSTAMP:20260419T082210
CREATED:20260107T215720Z
LAST-MODIFIED:20260107T215720Z
UID:10053457-1774465200-1774472400@urbancasual.ca
SUMMARY:WRITER'S UNPLUGGED: OPEN MIC AT FOUND
DESCRIPTION:Join us for the Writers’ Unplugged – An Open Mic Night. \nShare your words while surrounded by walls of books\, in front of the friendliest audience you’ll ever meet. It’s easy. Show up with a max of 5 minutes of material to share. Throw your name into the hat. Readers are drawn at random. Poetry\, fiction\, non-fiction\, songs\, dramatic monologues…anything goes. Maybe you’re not ready to read in front of people and just want to enjoy the show. Be a part of our live studio audience\, cheer on our writers. \nSee you soon.
URL:https://urbancasual.ca/cochrane-event/writers-unplugged-open-mic-at-found/2026-03-25/
LOCATION:Found Book Shop\, 206 1st Street W\, Cochrane\, AB
CATEGORIES:Business,Community,Entertainment & Games,Music,Networking,OPEN MIC,Pub/Bar Event
ATTACH;FMTTYPE=image/jpeg:https://urbancasual.ca/wp-content/uploads/2026/01/605999718_1466878912106258_9063168567219491639_n.jpg
END:VEVENT
END:VCALENDAR