BEGIN:VCALENDAR
VERSION:2.0
PRODID:-//Urbancasual.ca - ECPv6.15.20//NONSGML v1.0//EN
CALSCALE:GREGORIAN
METHOD:PUBLISH
X-WR-CALNAME:Urbancasual.ca
X-ORIGINAL-URL:https://urbancasual.ca
X-WR-CALDESC:Events for Urbancasual.ca
REFRESH-INTERVAL;VALUE=DURATION:PT1H
X-Robots-Tag:noindex
X-PUBLISHED-TTL:PT1H
BEGIN:VTIMEZONE
TZID:America/Edmonton
BEGIN:DAYLIGHT
TZOFFSETFROM:-0700
TZOFFSETTO:-0600
TZNAME:MDT
DTSTART:20250309T090000
END:DAYLIGHT
BEGIN:STANDARD
TZOFFSETFROM:-0600
TZOFFSETTO:-0700
TZNAME:MST
DTSTART:20251102T080000
END:STANDARD
BEGIN:DAYLIGHT
TZOFFSETFROM:-0700
TZOFFSETTO:-0600
TZNAME:MDT
DTSTART:20260308T090000
END:DAYLIGHT
BEGIN:STANDARD
TZOFFSETFROM:-0600
TZOFFSETTO:-0700
TZNAME:MST
DTSTART:20261101T080000
END:STANDARD
BEGIN:DAYLIGHT
TZOFFSETFROM:-0700
TZOFFSETTO:-0600
TZNAME:MDT
DTSTART:20270314T090000
END:DAYLIGHT
BEGIN:STANDARD
TZOFFSETFROM:-0600
TZOFFSETTO:-0700
TZNAME:MST
DTSTART:20271107T080000
END:STANDARD
END:VTIMEZONE
BEGIN:VEVENT
DTSTART;TZID=America/Edmonton:20260317T120000
DTEND;TZID=America/Edmonton:20260317T200000
DTSTAMP:20260420T002213
CREATED:20260310T232510Z
LAST-MODIFIED:20260310T232521Z
UID:10056624-1773748800-1773777600@urbancasual.ca
SUMMARY:ST. PADDY'S DAY AT THE TAPROOM
DESCRIPTION:Get ready to celebrate Paddy’s Day in style! Join us at the Taproom for an entertaining experience filled with delicious food\, craft brews\, and great company. Let the good times roll! Take a pitcher\, it’ll last longer.
URL:https://urbancasual.ca/cochrane-event/st-paddys-day-at-the-taproom-2026/
LOCATION:Rocky View Taproom\, 420 1st Street\, Cochrane\, AB
CATEGORIES:Entertainment & Games,Music,Pub/Bar Event,Restaurant,ST. PATRICK'S DAY
ATTACH;FMTTYPE=image/jpeg:https://urbancasual.ca/wp-content/uploads/2026/03/649334000_1593933172195097_8535568938924577691_n.jpg
END:VEVENT
BEGIN:VEVENT
DTSTART;TZID=America/Edmonton:20260317T190000
DTEND;TZID=America/Edmonton:20260317T210000
DTSTAMP:20260420T002213
CREATED:20260107T214734Z
LAST-MODIFIED:20260107T214734Z
UID:10053445-1773774000-1773781200@urbancasual.ca
SUMMARY:JAM & DRAW MIXER AT FOUND
DESCRIPTION:A welcoming space for musicians and artists at any skill level; play non-stop music with each other in an open circle\, “living room” setting! If you don’t play\, we will have a variety of art supplies available. \nThis space offers a chance to jam with friends and meet new people in your community. All instruments & genres (even spoken word/emcees) are welcome. This is a queer-friendly space. \nCover by donation: RSVP HERE
URL:https://urbancasual.ca/cochrane-event/jam-draw-mixer-at-found/2026-03-17/
LOCATION:Found Book Shop\, 206 1st Street W\, Cochrane\, AB
CATEGORIES:Business,Community,Crafts,Culture,Entertainment & Games,Karaoke,Learning,Music,Networking,OPEN MIC,Pub/Bar Event
ATTACH;FMTTYPE=image/jpeg:https://urbancasual.ca/wp-content/uploads/2026/01/608858685_1466878862106263_800200169564951520_n.jpg
END:VEVENT
END:VCALENDAR